BEGIN:VCALENDAR
VERSION:2.0
PRODID:-//かしま元気スポーツクラブ | 福島県南相馬市鹿島区 - ECPv6.15.12.2//NONSGML v1.0//EN
CALSCALE:GREGORIAN
METHOD:PUBLISH
X-WR-CALNAME:かしま元気スポーツクラブ | 福島県南相馬市鹿島区
X-ORIGINAL-URL:http://kashima-sports.com
X-WR-CALDESC:かしま元気スポーツクラブ | 福島県南相馬市鹿島区 のイベント
REFRESH-INTERVAL;VALUE=DURATION:PT1H
X-Robots-Tag:noindex
X-PUBLISHED-TTL:PT1H
BEGIN:VTIMEZONE
TZID:Asia/Tokyo
BEGIN:STANDARD
TZOFFSETFROM:+0900
TZOFFSETTO:+0900
TZNAME:JST
DTSTART:20160101T000000
END:STANDARD
END:VTIMEZONE
BEGIN:VEVENT
DTSTART;TZID=Asia/Tokyo:20171011T060000
DTEND;TZID=Asia/Tokyo:20171011T180000
DTSTAMP:20260421T013637
CREATED:20170410T051245Z
LAST-MODIFIED:20170410T051245Z
UID:3014-1507701600-1507744800@kashima-sports.com
SUMMARY:安達太良山登山
DESCRIPTION:くろがね小屋経由の安達太良山に登りませんか。 \n                        Tweet
URL:http://kashima-sports.com/event-single/%e5%ae%89%e9%81%94%e5%a4%aa%e8%89%af%e5%b1%b1%e7%99%bb%e5%b1%b1
END:VEVENT
BEGIN:VEVENT
DTSTART;TZID=Asia/Tokyo:20170913T060000
DTEND;TZID=Asia/Tokyo:20170913T180000
DTSTAMP:20260421T013637
CREATED:20170410T050354Z
LAST-MODIFIED:20170410T050354Z
UID:3012-1505282400-1505325600@kashima-sports.com
SUMMARY:三本槍岳登山
DESCRIPTION:朝日岳～三本槍岳～茶臼岳登山に参加しませんか。 \n                        Tweet
URL:http://kashima-sports.com/event-single/%e4%b8%89%e6%9c%ac%e6%a7%8d%e5%b2%b3%e7%99%bb%e5%b1%b1
END:VEVENT
BEGIN:VEVENT
DTSTART;TZID=Asia/Tokyo:20170809T080000
DTEND;TZID=Asia/Tokyo:20170809T170000
DTSTAMP:20260421T013637
CREATED:20170410T050822Z
LAST-MODIFIED:20170410T050822Z
UID:3013-1502265600-1502298000@kashima-sports.com
SUMMARY:浄土平＆土湯峠ウォーキング
DESCRIPTION:土湯峠と浄土平のウォーキングに参加しませんか \n                        Tweet
URL:http://kashima-sports.com/event-single/%e6%b5%84%e5%9c%9f%e5%b9%b3%ef%bc%86%e5%9c%9f%e6%b9%af%e5%b3%a0%e3%82%a6%e3%82%a9%e3%83%bc%e3%82%ad%e3%83%b3%e3%82%b0
END:VEVENT
BEGIN:VEVENT
DTSTART;TZID=Asia/Tokyo:20170726T190000
DTEND;TZID=Asia/Tokyo:20170726T210000
DTSTAMP:20260421T013637
CREATED:20170501T043728Z
LAST-MODIFIED:20170501T043728Z
UID:3122-1501095600-1501102800@kashima-sports.com
SUMMARY:鹿島バレーボールミーティング
DESCRIPTION:Tweet
URL:http://kashima-sports.com/event-single/%e9%b9%bf%e5%b3%b6%e3%83%90%e3%83%ac%e3%83%bc%e3%83%9c%e3%83%bc%e3%83%ab%e3%83%9f%e3%83%bc%e3%83%86%e3%82%a3%e3%83%b3%e3%82%b0-6
END:VEVENT
BEGIN:VEVENT
DTSTART;TZID=Asia/Tokyo:20170726T190000
DTEND;TZID=Asia/Tokyo:20170726T203000
DTSTAMP:20260421T013637
CREATED:20170501T043442Z
LAST-MODIFIED:20170501T043442Z
UID:3117-1501095600-1501101000@kashima-sports.com
SUMMARY:スポーツ教室
DESCRIPTION:Tweet
URL:http://kashima-sports.com/event-single/%e3%82%b9%e3%83%9d%e3%83%bc%e3%83%84%e6%95%99%e5%ae%a4-139
LOCATION:千倉体育館
END:VEVENT
BEGIN:VEVENT
DTSTART;TZID=Asia/Tokyo:20170726T090000
DTEND;TZID=Asia/Tokyo:20170726T120000
DTSTAMP:20260421T013637
CREATED:20170501T043608Z
LAST-MODIFIED:20170501T043608Z
UID:3121-1501059600-1501070400@kashima-sports.com
SUMMARY:鹿島ウォーキング
DESCRIPTION:Tweet
URL:http://kashima-sports.com/event-single/%e9%b9%bf%e5%b3%b6%e3%82%a6%e3%82%a9%e3%83%bc%e3%82%ad%e3%83%b3%e3%82%b0-4
END:VEVENT
BEGIN:VEVENT
DTSTART;TZID=Asia/Tokyo:20170719T190000
DTEND;TZID=Asia/Tokyo:20170719T203000
DTSTAMP:20260421T013637
CREATED:20170501T043304Z
LAST-MODIFIED:20170501T043304Z
UID:3115-1500490800-1500496200@kashima-sports.com
SUMMARY:スポーツ教室
DESCRIPTION:Tweet
URL:http://kashima-sports.com/event-single/%e3%82%b9%e3%83%9d%e3%83%bc%e3%83%84%e6%95%99%e5%ae%a4-138
LOCATION:千倉体育館
END:VEVENT
BEGIN:VEVENT
DTSTART;TZID=Asia/Tokyo:20170712T190000
DTEND;TZID=Asia/Tokyo:20170712T210000
DTSTAMP:20260421T013637
CREATED:20170501T043533Z
LAST-MODIFIED:20170501T043533Z
UID:3119-1499886000-1499893200@kashima-sports.com
SUMMARY:鹿島バレーボールミーティング
DESCRIPTION:Tweet
URL:http://kashima-sports.com/event-single/%e9%b9%bf%e5%b3%b6%e3%83%90%e3%83%ac%e3%83%bc%e3%83%9c%e3%83%bc%e3%83%ab%e3%83%9f%e3%83%bc%e3%83%86%e3%82%a3%e3%83%b3%e3%82%b0-5
LOCATION:千倉体育館
END:VEVENT
BEGIN:VEVENT
DTSTART;TZID=Asia/Tokyo:20170712T190000
DTEND;TZID=Asia/Tokyo:20170712T203000
DTSTAMP:20260421T013637
CREATED:20170501T043224Z
LAST-MODIFIED:20170501T043224Z
UID:3114-1499886000-1499891400@kashima-sports.com
SUMMARY:スポーツ教室
DESCRIPTION:Tweet
URL:http://kashima-sports.com/event-single/%e3%82%b9%e3%83%9d%e3%83%bc%e3%83%84%e6%95%99%e5%ae%a4-137
END:VEVENT
BEGIN:VEVENT
DTSTART;TZID=Asia/Tokyo:20170712T060000
DTEND;TZID=Asia/Tokyo:20170712T180000
DTSTAMP:20260421T013637
CREATED:20170410T045710Z
LAST-MODIFIED:20170410T045710Z
UID:3011-1499839200-1499882400@kashima-sports.com
SUMMARY:裏磐梯（銅沼）（五色沼）ウォーキング
DESCRIPTION:磐梯山の麓にある、神秘的な銅沼と、裏磐梯の代表的な五色沼（柳沼～毘沙門沼）をのんびりと歩いてみませんか。 \n                        Tweet
URL:http://kashima-sports.com/event-single/%e8%a3%8f%e7%a3%90%e6%a2%af%ef%bc%88%e9%8a%85%e6%b2%bc%ef%bc%89%ef%bc%88%e4%ba%94%e8%89%b2%e6%b2%bc%ef%bc%89%e3%82%a6%e3%82%a9%e3%83%bc%e3%82%ad%e3%83%b3%e3%82%b0
END:VEVENT
BEGIN:VEVENT
DTSTART;TZID=Asia/Tokyo:20170708T150000
DTEND;TZID=Asia/Tokyo:20170708T170000
DTSTAMP:20260421T013637
CREATED:20170501T043810Z
LAST-MODIFIED:20170501T043810Z
UID:3123-1499526000-1499533200@kashima-sports.com
SUMMARY:ソフトテニス教室
DESCRIPTION:Tweet
URL:http://kashima-sports.com/event-single/%e3%82%bd%e3%83%95%e3%83%88%e3%83%86%e3%83%8b%e3%82%b9%e6%95%99%e5%ae%a4-11
LOCATION:鹿島体育館
END:VEVENT
BEGIN:VEVENT
DTSTART;TZID=Asia/Tokyo:20170705T190000
DTEND;TZID=Asia/Tokyo:20170705T203000
DTSTAMP:20260421T013637
CREATED:20170501T043122Z
LAST-MODIFIED:20170501T043122Z
UID:3112-1499281200-1499286600@kashima-sports.com
SUMMARY:スポーツ教室
DESCRIPTION:Tweet
URL:http://kashima-sports.com/event-single/%e3%82%b9%e3%83%9d%e3%83%bc%e3%83%84%e6%95%99%e5%ae%a4-136
LOCATION:千倉体育館
END:VEVENT
BEGIN:VEVENT
DTSTART;TZID=Asia/Tokyo:20170704T190000
DTEND;TZID=Asia/Tokyo:20170704T210000
DTSTAMP:20260421T013637
CREATED:20170501T042727Z
LAST-MODIFIED:20170501T042727Z
UID:3104-1499194800-1499202000@kashima-sports.com
SUMMARY:テニス教室
DESCRIPTION:Tweet
URL:http://kashima-sports.com/event-single/%e3%83%86%e3%83%8b%e3%82%b9%e6%95%99%e5%ae%a4-29
LOCATION:鹿島体育館
END:VEVENT
BEGIN:VEVENT
DTSTART;TZID=Asia/Tokyo:20170628T190000
DTEND;TZID=Asia/Tokyo:20170628T210000
DTSTAMP:20260421T013637
CREATED:20170501T041528Z
LAST-MODIFIED:20170501T041528Z
UID:3094-1498676400-1498683600@kashima-sports.com
SUMMARY:鹿島バレーボールミーティング
DESCRIPTION:Tweet
URL:http://kashima-sports.com/event-single/%e9%b9%bf%e5%b3%b6%e3%83%90%e3%83%ac%e3%83%bc%e3%83%9c%e3%83%bc%e3%83%ab%e3%83%9f%e3%83%bc%e3%83%86%e3%82%a3%e3%83%b3%e3%82%b0-4
LOCATION:千倉体育館
END:VEVENT
BEGIN:VEVENT
DTSTART;TZID=Asia/Tokyo:20170628T190000
DTEND;TZID=Asia/Tokyo:20170628T203000
DTSTAMP:20260421T013637
CREATED:20170501T041330Z
LAST-MODIFIED:20170501T041330Z
UID:3090-1498676400-1498681800@kashima-sports.com
SUMMARY:スポーツ教室
DESCRIPTION:Tweet
URL:http://kashima-sports.com/event-single/%e3%82%b9%e3%83%9d%e3%83%bc%e3%83%84%e6%95%99%e5%ae%a4-135
LOCATION:千倉体育館
END:VEVENT
BEGIN:VEVENT
DTSTART;TZID=Asia/Tokyo:20170628T090000
DTEND;TZID=Asia/Tokyo:20170628T120000
DTSTAMP:20260421T013637
CREATED:20170501T041856Z
LAST-MODIFIED:20170501T041856Z
UID:3097-1498640400-1498651200@kashima-sports.com
SUMMARY:鹿島ウォーキング
DESCRIPTION:千倉体育館　午前8時50分集合 \n                        Tweet
URL:http://kashima-sports.com/event-single/%e9%b9%bf%e5%b3%b6%e3%82%a6%e3%82%a9%e3%83%bc%e3%82%ad%e3%83%b3%e3%82%b0-2
END:VEVENT
BEGIN:VEVENT
DTSTART;TZID=Asia/Tokyo:20170627T190000
DTEND;TZID=Asia/Tokyo:20170627T210000
DTSTAMP:20260421T013637
CREATED:20170501T040719Z
LAST-MODIFIED:20170501T040719Z
UID:3080-1498590000-1498597200@kashima-sports.com
SUMMARY:テニス教室
DESCRIPTION:Tweet
URL:http://kashima-sports.com/event-single/%e3%83%86%e3%83%8b%e3%82%b9%e6%95%99%e5%ae%a4-28
LOCATION:鹿島体育館
END:VEVENT
BEGIN:VEVENT
DTSTART;TZID=Asia/Tokyo:20170624T150000
DTEND;TZID=Asia/Tokyo:20170624T170000
DTSTAMP:20260421T013637
CREATED:20170501T042055Z
LAST-MODIFIED:20170501T042055Z
UID:3101-1498316400-1498323600@kashima-sports.com
SUMMARY:ソフトテニス教室
DESCRIPTION:Tweet
URL:http://kashima-sports.com/event-single/%e3%82%bd%e3%83%95%e3%83%88%e3%83%86%e3%83%8b%e3%82%b9%e6%95%99%e5%ae%a4-10
LOCATION:鹿島体育館
END:VEVENT
BEGIN:VEVENT
DTSTART;TZID=Asia/Tokyo:20170621T190000
DTEND;TZID=Asia/Tokyo:20170621T203000
DTSTAMP:20260421T013637
CREATED:20170501T041243Z
LAST-MODIFIED:20170501T041243Z
UID:3088-1498071600-1498077000@kashima-sports.com
SUMMARY:スポーツ教室
DESCRIPTION:Tweet
URL:http://kashima-sports.com/event-single/%e3%82%b9%e3%83%9d%e3%83%bc%e3%83%84%e6%95%99%e5%ae%a4-134
LOCATION:千倉体育館
END:VEVENT
BEGIN:VEVENT
DTSTART;TZID=Asia/Tokyo:20170620T190000
DTEND;TZID=Asia/Tokyo:20170620T210000
DTSTAMP:20260421T013637
CREATED:20170501T040633Z
LAST-MODIFIED:20170501T040633Z
UID:3078-1497985200-1497992400@kashima-sports.com
SUMMARY:テニス教室
DESCRIPTION:Tweet
URL:http://kashima-sports.com/event-single/%e3%83%86%e3%83%8b%e3%82%b9%e6%95%99%e5%ae%a4-27
LOCATION:鹿島体育館
END:VEVENT
BEGIN:VEVENT
DTSTART;TZID=Asia/Tokyo:20170614T190000
DTEND;TZID=Asia/Tokyo:20170614T210000
DTSTAMP:20260421T013637
CREATED:20170501T041436Z
LAST-MODIFIED:20170501T041436Z
UID:3092-1497466800-1497474000@kashima-sports.com
SUMMARY:鹿島バレーボールミーティング
DESCRIPTION:Tweet
URL:http://kashima-sports.com/event-single/%e9%b9%bf%e5%b3%b6%e3%83%90%e3%83%ac%e3%83%bc%e3%83%9c%e3%83%bc%e3%83%ab%e3%83%9f%e3%83%bc%e3%83%86%e3%82%a3%e3%83%b3%e3%82%b0-3
LOCATION:千倉体育館
END:VEVENT
BEGIN:VEVENT
DTSTART;TZID=Asia/Tokyo:20170614T190000
DTEND;TZID=Asia/Tokyo:20170614T203000
DTSTAMP:20260421T013637
CREATED:20170501T041035Z
LAST-MODIFIED:20170501T041035Z
UID:3085-1497466800-1497472200@kashima-sports.com
SUMMARY:スポーツ教室
DESCRIPTION:Tweet
URL:http://kashima-sports.com/event-single/%e3%82%b9%e3%83%9d%e3%83%bc%e3%83%84%e6%95%99%e5%ae%a4-133
LOCATION:千倉体育館
END:VEVENT
BEGIN:VEVENT
DTSTART;TZID=Asia/Tokyo:20170614T070000
DTEND;TZID=Asia/Tokyo:20170614T170000
DTSTAMP:20260421T013637
CREATED:20170410T044342Z
LAST-MODIFIED:20170410T044342Z
UID:3010-1497423600-1497459600@kashima-sports.com
SUMMARY:一切経登山
DESCRIPTION:山頂から、魔女の瞳と呼ばれる五色沼を見に行きませんか。 \n  \n                        Tweet
URL:http://kashima-sports.com/event-single/%e4%b8%80%e5%88%87%e7%b5%8c%e7%99%bb%e5%b1%b1
END:VEVENT
BEGIN:VEVENT
DTSTART;TZID=Asia/Tokyo:20170613T190000
DTEND;TZID=Asia/Tokyo:20170613T210000
DTSTAMP:20260421T013637
CREATED:20170501T040552Z
LAST-MODIFIED:20170501T040552Z
UID:3076-1497380400-1497387600@kashima-sports.com
SUMMARY:テニス教室
DESCRIPTION:Tweet
URL:http://kashima-sports.com/event-single/%e3%83%86%e3%83%8b%e3%82%b9%e6%95%99%e5%ae%a4-26
LOCATION:鹿島体育館
END:VEVENT
BEGIN:VEVENT
DTSTART;TZID=Asia/Tokyo:20170610T150000
DTEND;TZID=Asia/Tokyo:20170610T170000
DTSTAMP:20260421T013637
CREATED:20170501T041958Z
LAST-MODIFIED:20170501T041958Z
UID:3098-1497106800-1497114000@kashima-sports.com
SUMMARY:ソフトテニス教室
DESCRIPTION:Tweet
URL:http://kashima-sports.com/event-single/%e3%82%bd%e3%83%95%e3%83%88%e3%83%86%e3%83%8b%e3%82%b9%e6%95%99%e5%ae%a4-9
LOCATION:鹿島体育館
END:VEVENT
BEGIN:VEVENT
DTSTART;TZID=Asia/Tokyo:20170607T190000
DTEND;TZID=Asia/Tokyo:20170607T203000
DTSTAMP:20260421T013637
CREATED:20170501T040940Z
LAST-MODIFIED:20170501T040940Z
UID:3083-1496862000-1496867400@kashima-sports.com
SUMMARY:スポーツ教室
DESCRIPTION:Tweet
URL:http://kashima-sports.com/event-single/%e3%82%b9%e3%83%9d%e3%83%bc%e3%83%84%e6%95%99%e5%ae%a4-132
LOCATION:千倉体育館
END:VEVENT
BEGIN:VEVENT
DTSTART;TZID=Asia/Tokyo:20170606T190000
DTEND;TZID=Asia/Tokyo:20170606T210000
DTSTAMP:20260421T013637
CREATED:20170501T040408Z
LAST-MODIFIED:20170501T040408Z
UID:3074-1496775600-1496782800@kashima-sports.com
SUMMARY:テニス教室
DESCRIPTION:Tweet
URL:http://kashima-sports.com/event-single/%e3%83%86%e3%83%8b%e3%82%b9%e6%95%99%e5%ae%a4-25
LOCATION:鹿島体育館
END:VEVENT
BEGIN:VEVENT
DTSTART;TZID=Asia/Tokyo:20170530T190000
DTEND;TZID=Asia/Tokyo:20170530T210000
DTSTAMP:20260421T013637
CREATED:20170410T053029Z
LAST-MODIFIED:20170410T053029Z
UID:3024-1496170800-1496178000@kashima-sports.com
SUMMARY:テニス教室
DESCRIPTION:Tweet
URL:http://kashima-sports.com/event-single/%e3%83%86%e3%83%8b%e3%82%b9%e6%95%99%e5%ae%a4-24
LOCATION:鹿島体育館
END:VEVENT
BEGIN:VEVENT
DTSTART;TZID=Asia/Tokyo:20170527T150000
DTEND;TZID=Asia/Tokyo:20170527T170000
DTSTAMP:20260421T013637
CREATED:20170410T053348Z
LAST-MODIFIED:20170410T053348Z
UID:3028-1495897200-1495904400@kashima-sports.com
SUMMARY:ソフトテニス教室
DESCRIPTION:Tweet
URL:http://kashima-sports.com/event-single/%e3%82%bd%e3%83%95%e3%83%88%e3%83%86%e3%83%8b%e3%82%b9%e6%95%99%e5%ae%a4-8
LOCATION:鹿島体育館
END:VEVENT
BEGIN:VEVENT
DTSTART;TZID=Asia/Tokyo:20170524T190000
DTEND;TZID=Asia/Tokyo:20170524T210000
DTSTAMP:20260421T013637
CREATED:20170501T030246Z
LAST-MODIFIED:20170501T030246Z
UID:3073-1495652400-1495659600@kashima-sports.com
SUMMARY:鹿島バレーボールミーティング
DESCRIPTION:Tweet
URL:http://kashima-sports.com/event-single/%e9%b9%bf%e5%b3%b6%e3%83%90%e3%83%ac%e3%83%bc%e3%83%9c%e3%83%bc%e3%83%ab%e3%83%9f%e3%83%bc%e3%83%86%e3%82%a3%e3%83%b3%e3%82%b0-2
END:VEVENT
END:VCALENDAR