BEGIN:VCALENDAR
VERSION:2.0
PRODID:-//かしま元気スポーツクラブ | 福島県南相馬市鹿島区 - ECPv6.15.12.2//NONSGML v1.0//EN
CALSCALE:GREGORIAN
METHOD:PUBLISH
X-WR-CALNAME:かしま元気スポーツクラブ | 福島県南相馬市鹿島区
X-ORIGINAL-URL:http://kashima-sports.com
X-WR-CALDESC:かしま元気スポーツクラブ | 福島県南相馬市鹿島区 のイベント
REFRESH-INTERVAL;VALUE=DURATION:PT1H
X-Robots-Tag:noindex
X-PUBLISHED-TTL:PT1H
BEGIN:VTIMEZONE
TZID:Asia/Tokyo
BEGIN:STANDARD
TZOFFSETFROM:+0900
TZOFFSETTO:+0900
TZNAME:JST
DTSTART:20130101T000000
END:STANDARD
END:VTIMEZONE
BEGIN:VEVENT
DTSTART;TZID=Asia/Tokyo:20141002T190000
DTEND;TZID=Asia/Tokyo:20141002T203000
DTSTAMP:20260426T065502
CREATED:20140831T150012Z
LAST-MODIFIED:20150115T004404Z
UID:1961-1412276400-1412281800@kashima-sports.com
SUMMARY:スポーツ教室
DESCRIPTION:小学生を対象としたスポーツ教室 \n毎週木曜日開催！週替わりで様々なスポーツを体験し、これからのスポーツ活動につながる教室となっています。 \n内容は、第１木曜日：ドッジボール、第２木曜日：野球、第３木曜日：バレーボール、第４木曜日：サッカー、第５木曜日：体操（跳び箱、平均台、マット運動など） \n年に数回のお楽しみ会も予定しています。 \n  \n\n\n\n日　時：\n平成２６年５月２２日（木）～平成２７年３月午後７時００分～８時３０分　※１時間３０分\n\n\n会　場：\n千倉体育館\n\n\n参加費：\n２，０００円（前期１，０００円、後期１，０００円） ※但し、かしま元気スポーツクラブ会員登録及びスポーツ保険加入が必要です。\n\n\n\n                        Tweet
URL:http://kashima-sports.com/event-single/%e3%82%b9%e3%83%9d%e3%83%bc%e3%83%84%e6%95%99%e5%ae%a4-57
END:VEVENT
BEGIN:VEVENT
DTSTART;TZID=Asia/Tokyo:20140930T090000
DTEND;TZID=Asia/Tokyo:20140930T113000
DTSTAMP:20260426T065502
CREATED:20140731T150014Z
LAST-MODIFIED:20140812T045655Z
UID:1722-1412067600-1412076600@kashima-sports.com
SUMMARY:パークゴルフ教室
DESCRIPTION:パークゴルフの初心者、初級者を対象としたパークゴルフ教室 \n開催期間は、８月２６日、９月２日、９日、１６日、３０日の５日間。 \n会場は、相馬市の相馬光陽パークゴルフ場。 \n午前９時～１１時３０分までの２時間３０分。 \nパークゴルフ公認指導員、アドバイザーの指導で、パークゴルフの基礎から競技ルール、エチケットを学べます。 \n定員は３０名程度 \n                        Tweet
URL:http://kashima-sports.com/event-single/%e3%83%91%e3%83%bc%e3%82%af%e3%82%b4%e3%83%ab%e3%83%95%e6%95%99%e5%ae%a4-10
END:VEVENT
BEGIN:VEVENT
DTSTART;TZID=Asia/Tokyo:20140929T190000
DTEND;TZID=Asia/Tokyo:20140929T210000
DTSTAMP:20260426T065502
CREATED:20140731T150029Z
LAST-MODIFIED:20140812T052034Z
UID:1732-1412017200-1412024400@kashima-sports.com
SUMMARY:初級バドミントン教室
DESCRIPTION:大人を対象としたバドミントン初心者向けのバドミントン教室。 \n基礎から楽しくバドミントンを覚えることが出来ます。 \n  \n期間は９月１日～１０月６日までの毎週月曜日。計６回。 \n時間は午後７時～９時。 \n会場は千倉体育館。 \n対象は一般（大人の方）。 \n募集人数は１８名程度。 \n                        Tweet
URL:http://kashima-sports.com/event-single/%e5%88%9d%e7%b4%9a%e3%83%90%e3%83%89%e3%83%9f%e3%83%b3%e3%83%88%e3%83%b3%e6%95%99%e5%ae%a4-5
END:VEVENT
BEGIN:VEVENT
DTSTART;TZID=Asia/Tokyo:20140928T070000
DTEND;TZID=Asia/Tokyo:20140928T170000
DTSTAMP:20260426T065502
CREATED:20140831T150029Z
LAST-MODIFIED:20150115T015959Z
UID:1987-1411887600-1411923600@kashima-sports.com
SUMMARY:あづま総合運動公園ハイキング
DESCRIPTION:○日時　９月２８日（日）　午前７時出発 \n○場所　あづま総合運動公園、四季の里、中野不動尊、あづま果樹園 \n○対象　小学生～大人 \n○募集人数　４０名 \n○参加費 \n（中学生以上）会員：３，５００円、非会員４，０００円 \n（中学生未満）会員：３，０００円、非会員３，５００円 \n○申込〆切　９月１９日（金）必着 \n                        Tweet
URL:http://kashima-sports.com/event-single/%e3%81%82%e3%81%a5%e3%81%be%e7%b7%8f%e5%90%88%e9%81%8b%e5%8b%95%e5%85%ac%e5%9c%92%e3%83%8f%e3%82%a4%e3%82%ad%e3%83%b3%e3%82%b0
END:VEVENT
BEGIN:VEVENT
DTSTART;TZID=Asia/Tokyo:20140927T150000
DTEND;TZID=Asia/Tokyo:20140927T170000
DTSTAMP:20260426T065502
CREATED:20140731T150038Z
LAST-MODIFIED:20140812T042437Z
UID:1714-1411830000-1411837200@kashima-sports.com
SUMMARY:テニス・バウンドテニス教室
DESCRIPTION:初心者から経験者、子どもから大人まで参加できる、基礎からテニスを学べる教室です。 \n一緒にテニスを楽しみましょう♪ \n  \n日　時　平成２6年４月１2日（土）～平成２7年３月28日までの第２、４土曜日 \n１５時～１７時　（２時間） \n場　所　千倉体育館 \n                        Tweet
URL:http://kashima-sports.com/event-single/%e3%83%86%e3%83%8b%e3%82%b9%e3%83%bb%e3%83%90%e3%82%a6%e3%83%b3%e3%83%89%e3%83%86%e3%83%8b%e3%82%b9%e6%95%99%e5%ae%a4-4
END:VEVENT
BEGIN:VEVENT
DTSTART;TZID=Asia/Tokyo:20140925T190000
DTEND;TZID=Asia/Tokyo:20140925T203000
DTSTAMP:20260426T065502
CREATED:20140731T150046Z
LAST-MODIFIED:20140812T042039Z
UID:1710-1411671600-1411677000@kashima-sports.com
SUMMARY:スポーツ教室
DESCRIPTION:小学生を対象としたスポーツ教室 \n毎週木曜日開催！週替わりで様々なスポーツを体験し、これからのスポーツ活動につながる教室となっています。 \n内容は、第１木曜日：ドッジボール、第２木曜日：野球、第３木曜日：バレーボール、第４木曜日：サッカー、第５木曜日：体操（跳び箱、平均台、マット運動など） \n年に数回のお楽しみ会も予定しています。 \n  \n\n\n\n日　時：\n平成２６年５月２２日（木）～平成２７年３月午後７時００分～８時３０分　※２時間\n\n\n会　場：\n千倉体育館\n\n\n参加費：\n２，０００円（前期１，０００円、後期１，０００円） ※但し、かしま元気スポーツクラブ会員登録及びスポーツ保険加入が必要です。\n\n\n\n                        Tweet
URL:http://kashima-sports.com/event-single/%e3%82%b9%e3%83%9d%e3%83%bc%e3%83%84%e6%95%99%e5%ae%a4-56
END:VEVENT
BEGIN:VEVENT
DTSTART;TZID=Asia/Tokyo:20140922T190000
DTEND;TZID=Asia/Tokyo:20140922T210000
DTSTAMP:20260426T065502
CREATED:20140731T150032Z
LAST-MODIFIED:20140812T051616Z
UID:1731-1411412400-1411419600@kashima-sports.com
SUMMARY:初級バドミントン教室
DESCRIPTION:大人を対象としたバドミントン初心者向けのバドミントン教室。 \n基礎から楽しくバドミントンを覚えることが出来ます。 \n  \n期間は９月１日～１０月６日までの毎週月曜日。計６回。 \n時間は午後７時～９時。 \n会場は千倉体育館。 \n対象は一般（大人の方）。 \n募集人数は１８名程度。 \n                        Tweet
URL:http://kashima-sports.com/event-single/%e5%88%9d%e7%b4%9a%e3%83%90%e3%83%89%e3%83%9f%e3%83%b3%e3%83%88%e3%83%b3%e6%95%99%e5%ae%a4-4
END:VEVENT
BEGIN:VEVENT
DTSTART;TZID=Asia/Tokyo:20140918T190000
DTEND;TZID=Asia/Tokyo:20140918T203000
DTSTAMP:20260426T065502
CREATED:20140731T150038Z
LAST-MODIFIED:20140812T041928Z
UID:1709-1411066800-1411072200@kashima-sports.com
SUMMARY:スポーツ教室
DESCRIPTION:小学生を対象としたスポーツ教室 \n毎週木曜日開催！週替わりで様々なスポーツを体験し、これからのスポーツ活動につながる教室となっています。 \n内容は、第１木曜日：ドッジボール、第２木曜日：野球、第３木曜日：バレーボール、第４木曜日：サッカー、第５木曜日：体操（跳び箱、平均台、マット運動など） \n年に数回のお楽しみ会も予定しています。 \n  \n\n\n\n日　時：\n平成２６年５月２２日（木）～平成２７年３月午後７時００分～８時３０分　※２時間\n\n\n会　場：\n千倉体育館\n\n\n参加費：\n２，０００円（前期１，０００円、後期１，０００円） ※但し、かしま元気スポーツクラブ会員登録及びスポーツ保険加入が必要です。\n\n\n\n                        Tweet
URL:http://kashima-sports.com/event-single/%e3%82%b9%e3%83%9d%e3%83%bc%e3%83%84%e6%95%99%e5%ae%a4-55
END:VEVENT
BEGIN:VEVENT
DTSTART;TZID=Asia/Tokyo:20140916T090000
DTEND;TZID=Asia/Tokyo:20140916T113000
DTSTAMP:20260426T065502
CREATED:20140731T150055Z
LAST-MODIFIED:20140812T045547Z
UID:1721-1410858000-1410867000@kashima-sports.com
SUMMARY:パークゴルフ教室
DESCRIPTION:パークゴルフの初心者、初級者を対象としたパークゴルフ教室 \n開催期間は、８月２６日、９月２日、９日、１６日、３０日の５日間。 \n会場は、相馬市の相馬光陽パークゴルフ場。 \n午前９時～１１時３０分までの２時間３０分。 \nパークゴルフ公認指導員、アドバイザーの指導で、パークゴルフの基礎から競技ルール、エチケットを学べます。 \n定員は３０名程度 \n                        Tweet
URL:http://kashima-sports.com/event-single/%e3%83%91%e3%83%bc%e3%82%af%e3%82%b4%e3%83%ab%e3%83%95%e6%95%99%e5%ae%a4-9
END:VEVENT
BEGIN:VEVENT
DTSTART;TZID=Asia/Tokyo:20140915T190000
DTEND;TZID=Asia/Tokyo:20140915T210000
DTSTAMP:20260426T065502
CREATED:20140731T150041Z
LAST-MODIFIED:20140812T051320Z
UID:1730-1410807600-1410814800@kashima-sports.com
SUMMARY:初級バドミントン教室
DESCRIPTION:大人を対象としたバドミントン初心者向けのバドミントン教室。 \n基礎から楽しくバドミントンを覚えることが出来ます。 \n  \n期間は９月１日～１０月６日までの毎週月曜日。計６回。 \n時間は午後７時～９時。 \n会場は千倉体育館。 \n対象は一般（大人の方）。 \n募集人数は１８名程度。 \n                        Tweet
URL:http://kashima-sports.com/event-single/%e5%88%9d%e7%b4%9a%e3%83%90%e3%83%89%e3%83%9f%e3%83%b3%e3%83%88%e3%83%b3%e6%95%99%e5%ae%a4-3
END:VEVENT
BEGIN:VEVENT
DTSTART;TZID=Asia/Tokyo:20140913T150000
DTEND;TZID=Asia/Tokyo:20140913T170000
DTSTAMP:20260426T065502
CREATED:20140731T150047Z
LAST-MODIFIED:20140812T042332Z
UID:1713-1410620400-1410627600@kashima-sports.com
SUMMARY:テニス・バウンドテニス教室
DESCRIPTION:初心者から経験者、子どもから大人まで参加できる、基礎からテニスを学べる教室です。 \n一緒にテニスを楽しみましょう♪ \n  \n日　時　平成２6年４月１2日（土）～平成２7年３月28日までの第２、４土曜日 \n１５時～１７時　（２時間） \n場　所　千倉体育館 \n                        Tweet
URL:http://kashima-sports.com/event-single/%e3%83%86%e3%83%8b%e3%82%b9%e3%83%bb%e3%83%90%e3%82%a6%e3%83%b3%e3%83%89%e3%83%86%e3%83%8b%e3%82%b9%e6%95%99%e5%ae%a4-3
END:VEVENT
BEGIN:VEVENT
DTSTART;TZID=Asia/Tokyo:20140911T190000
DTEND;TZID=Asia/Tokyo:20140911T203000
DTSTAMP:20260426T065502
CREATED:20140810T150043Z
LAST-MODIFIED:20140812T041829Z
UID:1708-1410462000-1410467400@kashima-sports.com
SUMMARY:スポーツ教室
DESCRIPTION:小学生を対象としたスポーツ教室 \n毎週木曜日開催！週替わりで様々なスポーツを体験し、これからのスポーツ活動につながる教室となっています。 \n内容は、第１木曜日：ドッジボール、第２木曜日：野球、第３木曜日：バレーボール、第４木曜日：サッカー、第５木曜日：体操（跳び箱、平均台、マット運動など） \n年に数回のお楽しみ会も予定しています。 \n  \n\n\n\n日　時：\n平成２６年５月２２日（木）～平成２７年３月午後７時００分～８時３０分　※２時間\n\n\n会　場：\n千倉体育館\n\n\n参加費：\n２，０００円（前期１，０００円、後期１，０００円） ※但し、かしま元気スポーツクラブ会員登録及びスポーツ保険加入が必要です。\n\n\n\n                        Tweet
URL:http://kashima-sports.com/event-single/%e3%82%b9%e3%83%9d%e3%83%bc%e3%83%84%e6%95%99%e5%ae%a4-54
END:VEVENT
BEGIN:VEVENT
DTSTART;TZID=Asia/Tokyo:20140909T090000
DTEND;TZID=Asia/Tokyo:20140909T113000
DTSTAMP:20260426T065502
CREATED:20140731T150003Z
LAST-MODIFIED:20140812T045449Z
UID:1720-1410253200-1410262200@kashima-sports.com
SUMMARY:パークゴルフ教室
DESCRIPTION:パークゴルフの初心者、初級者を対象としたパークゴルフ教室 \n開催期間は、８月２６日、９月２日、９日、１６日、３０日の５日間。 \n会場は、相馬市の相馬光陽パークゴルフ場。 \n午前９時～１１時３０分までの２時間３０分。 \nパークゴルフ公認指導員、アドバイザーの指導で、パークゴルフの基礎から競技ルール、エチケットを学べます。 \n定員は３０名程度 \n                        Tweet
URL:http://kashima-sports.com/event-single/%e3%83%91%e3%83%bc%e3%82%af%e3%82%b4%e3%83%ab%e3%83%95%e6%95%99%e5%ae%a4-8
END:VEVENT
BEGIN:VEVENT
DTSTART;TZID=Asia/Tokyo:20140908T190000
DTEND;TZID=Asia/Tokyo:20140908T210000
DTSTAMP:20260426T065502
CREATED:20140731T150023Z
LAST-MODIFIED:20140812T051211Z
UID:1729-1410202800-1410210000@kashima-sports.com
SUMMARY:初級バドミントン教室
DESCRIPTION:大人を対象としたバドミントン初心者向けのバドミントン教室。 \n基礎から楽しくバドミントンを覚えることが出来ます。 \n  \n期間は９月１日～１０月６日までの毎週月曜日。計６回。 \n時間は午後７時～９時。 \n会場は千倉体育館。 \n対象は一般（大人の方）。 \n募集人数は１８名程度。 \n                        Tweet
URL:http://kashima-sports.com/event-single/%e5%88%9d%e7%b4%9a%e3%83%90%e3%83%89%e3%83%9f%e3%83%b3%e3%83%88%e3%83%b3%e6%95%99%e5%ae%a4-2
END:VEVENT
BEGIN:VEVENT
DTSTART;TZID=Asia/Tokyo:20140904T190000
DTEND;TZID=Asia/Tokyo:20140904T203000
DTSTAMP:20260426T065502
CREATED:20140731T150047Z
LAST-MODIFIED:20140812T041541Z
UID:1707-1409857200-1409862600@kashima-sports.com
SUMMARY:スポーツ教室
DESCRIPTION:小学生を対象としたスポーツ教室 \n毎週木曜日開催！週替わりで様々なスポーツを体験し、これからのスポーツ活動につながる教室となっています。 \n内容は、第１木曜日：ドッジボール、第２木曜日：野球、第３木曜日：バレーボール、第４木曜日：サッカー、第５木曜日：体操（跳び箱、平均台、マット運動など） \n年に数回のお楽しみ会も予定しています。 \n  \n\n\n\n日　時：\n平成２６年５月２２日（木）～平成２７年３月午後７時００分～８時３０分　※２時間\n\n\n会　場：\n千倉体育館\n\n\n参加費：\n２，０００円（前期１，０００円、後期１，０００円） ※但し、かしま元気スポーツクラブ会員登録及びスポーツ保険加入が必要です。\n\n\n\n                        Tweet
URL:http://kashima-sports.com/event-single/%e3%82%b9%e3%83%9d%e3%83%bc%e3%83%84%e6%95%99%e5%ae%a4-53
END:VEVENT
BEGIN:VEVENT
DTSTART;TZID=Asia/Tokyo:20140902T090000
DTEND;TZID=Asia/Tokyo:20140902T113000
DTSTAMP:20260426T065502
CREATED:20140731T150021Z
LAST-MODIFIED:20140812T045359Z
UID:1719-1409648400-1409657400@kashima-sports.com
SUMMARY:パークゴルフ教室
DESCRIPTION:パークゴルフの初心者、初級者を対象としたパークゴルフ教室 \n開催期間は、８月２６日、９月２日、９日、１６日、３０日の５日間。 \n会場は、相馬市の相馬光陽パークゴルフ場。 \n午前９時～１１時３０分までの２時間３０分。 \nパークゴルフ公認指導員、アドバイザーの指導で、パークゴルフの基礎から競技ルール、エチケットを学べます。 \n定員は３０名程度 \n                        Tweet
URL:http://kashima-sports.com/event-single/%e3%83%91%e3%83%bc%e3%82%af%e3%82%b4%e3%83%ab%e3%83%95%e6%95%99%e5%ae%a4-7
END:VEVENT
BEGIN:VEVENT
DTSTART;TZID=Asia/Tokyo:20140901T190000
DTEND;TZID=Asia/Tokyo:20140901T210000
DTSTAMP:20260426T065502
CREATED:20140731T150031Z
LAST-MODIFIED:20140812T051118Z
UID:1728-1409598000-1409605200@kashima-sports.com
SUMMARY:初級バドミントン教室
DESCRIPTION:大人を対象としたバドミントン初心者向けのバドミントン教室。 \n基礎から楽しくバドミントンを覚えることが出来ます。 \n  \n期間は９月１日～１０月６日までの毎週月曜日。計６回。 \n時間は午後７時～９時。 \n会場は千倉体育館。 \n対象は一般（大人の方）。 \n募集人数は１８名程度。 \n                        Tweet
URL:http://kashima-sports.com/event-single/%e5%88%9d%e7%b4%9a%e3%83%90%e3%83%89%e3%83%9f%e3%83%b3%e3%83%88%e3%83%b3%e6%95%99%e5%ae%a4
END:VEVENT
BEGIN:VEVENT
DTSTART;TZID=Asia/Tokyo:20140828T190000
DTEND;TZID=Asia/Tokyo:20140828T203000
DTSTAMP:20260426T065502
CREATED:20140731T150004Z
LAST-MODIFIED:20140812T041443Z
UID:1706-1409252400-1409257800@kashima-sports.com
SUMMARY:スポーツ教室
DESCRIPTION:小学生を対象としたスポーツ教室 \n毎週木曜日開催！週替わりで様々なスポーツを体験し、これからのスポーツ活動につながる教室となっています。 \n内容は、第１木曜日：ドッジボール、第２木曜日：野球、第３木曜日：バレーボール、第４木曜日：サッカー、第５木曜日：体操（跳び箱、平均台、マット運動など） \n年に数回のお楽しみ会も予定しています。 \n  \n\n\n\n日　時：\n平成２６年５月２２日（木）～平成２７年３月午後７時００分～８時３０分　※２時間\n\n\n会　場：\n千倉体育館\n\n\n参加費：\n２，０００円（前期１，０００円、後期１，０００円） ※但し、かしま元気スポーツクラブ会員登録及びスポーツ保険加入が必要です。\n\n\n\n                        Tweet
URL:http://kashima-sports.com/event-single/%e3%82%b9%e3%83%9d%e3%83%bc%e3%83%84%e6%95%99%e5%ae%a4-52
END:VEVENT
BEGIN:VEVENT
DTSTART;TZID=Asia/Tokyo:20140826T090000
DTEND;TZID=Asia/Tokyo:20140826T113000
DTSTAMP:20260426T065502
CREATED:20140731T150029Z
LAST-MODIFIED:20140812T045317Z
UID:1718-1409043600-1409052600@kashima-sports.com
SUMMARY:パークゴルフ教室
DESCRIPTION:パークゴルフの初心者、初級者を対象としたパークゴルフ教室 \n開催期間は、８月２６日、９月２日、９日、１６日、３０日の５日間。 \n会場は、相馬市の相馬光陽パークゴルフ場。 \n午前９時～１１時３０分までの２時間３０分。 \nパークゴルフ公認指導員、アドバイザーの指導で、パークゴルフの基礎から競技ルール、エチケットを学べます。 \n定員は３０名程度 \n  \n                        Tweet
URL:http://kashima-sports.com/event-single/%e3%83%91%e3%83%bc%e3%82%af%e3%82%b4%e3%83%ab%e3%83%95%e6%95%99%e5%ae%a4-6
END:VEVENT
BEGIN:VEVENT
DTSTART;TZID=Asia/Tokyo:20140823T150000
DTEND;TZID=Asia/Tokyo:20140823T170000
DTSTAMP:20260426T065502
CREATED:20140731T150002Z
LAST-MODIFIED:20140812T042240Z
UID:1712-1408806000-1408813200@kashima-sports.com
SUMMARY:テニス・バウンドテニス教室
DESCRIPTION:初心者から経験者、子どもから大人まで参加できる、基礎からテニスを学べる教室です。 \n一緒にテニスを楽しみましょう♪ \n  \n日　時　平成２6年４月１2日（土）～平成２7年３月28日までの第２、４土曜日 \n１５時～１７時　（２時間） \n場　所　千倉体育館 \n                        Tweet
URL:http://kashima-sports.com/event-single/%e3%83%86%e3%83%8b%e3%82%b9%e3%83%bb%e3%83%90%e3%82%a6%e3%83%b3%e3%83%89%e3%83%86%e3%83%8b%e3%82%b9%e6%95%99%e5%ae%a4-2
END:VEVENT
BEGIN:VEVENT
DTSTART;TZID=Asia/Tokyo:20140821T190000
DTEND;TZID=Asia/Tokyo:20140821T203000
DTSTAMP:20260426T065502
CREATED:20140731T150046Z
LAST-MODIFIED:20140812T041355Z
UID:1705-1408647600-1408653000@kashima-sports.com
SUMMARY:スポーツ教室
DESCRIPTION:小学生を対象としたスポーツ教室 \n毎週木曜日開催！週替わりで様々なスポーツを体験し、これからのスポーツ活動につながる教室となっています。 \n内容は、第１木曜日：ドッジボール、第２木曜日：野球、第３木曜日：バレーボール、第４木曜日：サッカー、第５木曜日：体操（跳び箱、平均台、マット運動など） \n年に数回のお楽しみ会も予定しています。 \n  \n\n\n\n日　時：\n平成２６年５月２２日（木）～平成２７年３月午後７時００分～８時３０分　※２時間\n\n\n会　場：\n千倉体育館\n\n\n参加費：\n２，０００円（前期１，０００円、後期１，０００円） ※但し、かしま元気スポーツクラブ会員登録及びスポーツ保険加入が必要です。\n\n\n\n                        Tweet
URL:http://kashima-sports.com/event-single/%e3%82%b9%e3%83%9d%e3%83%bc%e3%83%84%e6%95%99%e5%ae%a4-51
END:VEVENT
BEGIN:VEVENT
DTSTART;TZID=Asia/Tokyo:20140819T070000
DTEND;TZID=Asia/Tokyo:20140820T180000
DTSTAMP:20260426T065502
CREATED:20140731T150010Z
LAST-MODIFIED:20140812T044903Z
UID:1717-1408431600-1408557600@kashima-sports.com
SUMMARY:ふくしまっ子体験活動応援補助事業
DESCRIPTION:８月１９日（火）～２０日（水） \n福島県のふくしまっ子体験活動応援補助事業として、下郷町を中心とした自然体験活動を行います。 \n塔のへつりや中山風穴などの散策の他、トロッコ列車やそば打ちの体験を行います。 \n                        Tweet
URL:http://kashima-sports.com/event-single/%e3%81%b5%e3%81%8f%e3%81%97%e3%81%be%e3%81%a3%e5%ad%90%e4%bd%93%e9%a8%93%e6%b4%bb%e5%8b%95%e5%bf%9c%e6%8f%b4%e8%a3%9c%e5%8a%a9%e4%ba%8b%e6%a5%ad
END:VEVENT
BEGIN:VEVENT
DTSTART;TZID=Asia/Tokyo:20140809T150000
DTEND;TZID=Asia/Tokyo:20140809T170000
DTSTAMP:20260426T065502
CREATED:20140731T150012Z
LAST-MODIFIED:20140812T042546Z
UID:1711-1407596400-1407603600@kashima-sports.com
SUMMARY:テニス・バウンドテニス教室
DESCRIPTION:初心者から経験者、子どもから大人まで参加できる、基礎からテニスを学べる教室です。 \n一緒にテニスを楽しみましょう♪ \n  \n日　時　平成２6年４月１2日（土）～平成２7年３月28日までの第２、４土曜日 \n１５時～１７時　（２時間） \n場　所　千倉体育館 \n                        Tweet
URL:http://kashima-sports.com/event-single/%e3%83%86%e3%83%8b%e3%82%b9%e3%83%bb%e3%83%90%e3%82%a6%e3%83%b3%e3%83%89%e3%83%86%e3%83%8b%e3%82%b9%e6%95%99%e5%ae%a4
END:VEVENT
BEGIN:VEVENT
DTSTART;TZID=Asia/Tokyo:20140807T210000
DTEND;TZID=Asia/Tokyo:20140807T210000
DTSTAMP:20260426T065502
CREATED:20140731T150032Z
LAST-MODIFIED:20140812T041724Z
UID:1704-1407445200-1407445200@kashima-sports.com
SUMMARY:スポーツ教室
DESCRIPTION:小学生を対象としたスポーツ教室 \n毎週木曜日開催！週替わりで様々なスポーツを体験し、これからのスポーツ活動につながる教室となっています。 \n内容は、第１木曜日：ドッジボール、第２木曜日：野球、第３木曜日：バレーボール、第４木曜日：サッカー、第５木曜日：体操（跳び箱、平均台、マット運動など） \n年に数回のお楽しみ会も予定しています。 \n  \n\n\n\n日　時：\n平成２６年５月２２日（木）～平成２７年３月午後７時００分～８時３０分　※２時間\n\n\n会　場：\n千倉体育館\n\n\n参加費：\n２，０００円（前期１，０００円、後期１，０００円） ※但し、かしま元気スポーツクラブ会員登録及びスポーツ保険加入が必要です。\n\n\n\n                        Tweet
URL:http://kashima-sports.com/event-single/%e3%82%b9%e3%83%9d%e3%83%bc%e3%83%84%e6%95%99%e5%ae%a4-50
END:VEVENT
BEGIN:VEVENT
DTSTART;TZID=Asia/Tokyo:20140806T060000
DTEND;TZID=Asia/Tokyo:20140807T120000
DTSTAMP:20260426T065502
CREATED:20140731T150005Z
LAST-MODIFIED:20140812T044404Z
UID:1716-1407304800-1407412800@kashima-sports.com
SUMMARY:御嶽山登山
DESCRIPTION:８月６日（水）～８月７日（木） \n木曽御嶽山（長野県）での登山教室 \n標高３，０６７ｍで３，０００ｍを」超える山としては一番西に位置する最高峰。 \nコースは剣ヶ峰コース（高低差約８８７ｍ） \n                        Tweet
URL:http://kashima-sports.com/event-single/%e5%be%a1%e5%b6%bd%e5%b1%b1%e7%99%bb%e5%b1%b1
END:VEVENT
BEGIN:VEVENT
DTSTART;TZID=Asia/Tokyo:20140731T183000
DTEND;TZID=Asia/Tokyo:20140731T203000
DTSTAMP:20260426T065502
CREATED:20140530T025213Z
LAST-MODIFIED:20140530T025941Z
UID:1619-1406831400-1406838600@kashima-sports.com
SUMMARY:スポーツ教室
DESCRIPTION:小学生を対象としたスポーツ教室 \n毎週木曜日開催！週替わりで様々なスポーツを体験し、これからのスポーツ活動につながる教室となっています。 \n内容は、第１木曜日：ドッジボール、第２木曜日：野球、第３木曜日：バレーボール、第４木曜日：サッカー、第５木曜日：体操（跳び箱、平均台、マット運動など） \n年に数回のお楽しみ会も予定しています。 \n  \n\n\n\n日　時：\n平成２６年５月２２日（木）～平成２７年３月午後６時３０分～８時３０分　※２時間\n\n\n会　場：\n千倉体育館\n\n\n参加費：\n２，０００円（前期１，０００円、後期１，０００円）※但し、かしま元気スポーツクラブ会員登録及びスポーツ保険加入が必要です。\n\n\n\n                        Tweet
URL:http://kashima-sports.com/event-single/%e3%82%b9%e3%83%9d%e3%83%bc%e3%83%84%e6%95%99%e5%ae%a4-49
END:VEVENT
BEGIN:VEVENT
DTSTART;TZID=Asia/Tokyo:20140726T150000
DTEND;TZID=Asia/Tokyo:20140726T170000
DTSTAMP:20260426T065502
CREATED:20140530T014300Z
LAST-MODIFIED:20140530T014300Z
UID:1610-1406386800-1406394000@kashima-sports.com
SUMMARY:バウンドテニス教室・テニス教室
DESCRIPTION:初心者から経験者、子どもから大人まで参加できる、基礎からテニスを学べる教室です。 \n一緒にテニスを楽しみましょう♪ \n  \n日　時　平成２6年４月１2日（土）～平成２7年３月28日までの第２、４土曜日 \n１５時～１７時　（２時間） \n場　所　千倉体育館 \n                        Tweet
URL:http://kashima-sports.com/event-single/%e3%83%90%e3%82%a6%e3%83%b3%e3%83%89%e3%83%86%e3%83%8b%e3%82%b9%e6%95%99%e5%ae%a4%e3%83%bb%e3%83%86%e3%83%8b%e3%82%b9%e6%95%99%e5%ae%a4-8
END:VEVENT
BEGIN:VEVENT
DTSTART;TZID=Asia/Tokyo:20140724T183000
DTEND;TZID=Asia/Tokyo:20140724T203000
DTSTAMP:20260426T065502
CREATED:20140530T025136Z
LAST-MODIFIED:20140530T030020Z
UID:1618-1406226600-1406233800@kashima-sports.com
SUMMARY:スポーツ教室
DESCRIPTION:小学生を対象としたスポーツ教室 \n毎週木曜日開催！週替わりで様々なスポーツを体験し、これからのスポーツ活動につながる教室となっています。 \n内容は、第１木曜日：ドッジボール、第２木曜日：野球、第３木曜日：バレーボール、第４木曜日：サッカー、第５木曜日：体操（跳び箱、平均台、マット運動など） \n年に数回のお楽しみ会も予定しています。 \n  \n\n\n\n日　時：\n平成２６年５月２２日（木）～平成２７年３月午後６時３０分～８時３０分　※２時間\n\n\n会　場：\n千倉体育館\n\n\n参加費：\n２，０００円（前期１，０００円、後期１，０００円）※但し、かしま元気スポーツクラブ会員登録及びスポーツ保険加入が必要です。\n\n\n\n                        Tweet
URL:http://kashima-sports.com/event-single/%e3%82%b9%e3%83%9d%e3%83%bc%e3%83%84%e6%95%99%e5%ae%a4-48
END:VEVENT
BEGIN:VEVENT
DTSTART;TZID=Asia/Tokyo:20140717T183000
DTEND;TZID=Asia/Tokyo:20140717T203000
DTSTAMP:20260426T065502
CREATED:20140530T025059Z
LAST-MODIFIED:20140530T030040Z
UID:1617-1405621800-1405629000@kashima-sports.com
SUMMARY:スポーツ教室
DESCRIPTION:小学生を対象としたスポーツ教室 \n毎週木曜日開催！週替わりで様々なスポーツを体験し、これからのスポーツ活動につながる教室となっています。 \n内容は、第１木曜日：ドッジボール、第２木曜日：野球、第３木曜日：バレーボール、第４木曜日：サッカー、第５木曜日：体操（跳び箱、平均台、マット運動など） \n年に数回のお楽しみ会も予定しています。 \n  \n\n\n\n日　時：\n平成２６年５月２２日（木）～平成２７年３月午後６時３０分～８時３０分　※２時間\n\n\n会　場：\n千倉体育館\n\n\n参加費：\n２，０００円（前期１，０００円、後期１，０００円）※但し、かしま元気スポーツクラブ会員登録及びスポーツ保険加入が必要です。\n\n\n\n                        Tweet
URL:http://kashima-sports.com/event-single/%e3%82%b9%e3%83%9d%e3%83%bc%e3%83%84%e6%95%99%e5%ae%a4-47
END:VEVENT
BEGIN:VEVENT
DTSTART;TZID=Asia/Tokyo:20140712T150000
DTEND;TZID=Asia/Tokyo:20140712T170000
DTSTAMP:20260426T065502
CREATED:20140530T014227Z
LAST-MODIFIED:20140530T014227Z
UID:1609-1405177200-1405184400@kashima-sports.com
SUMMARY:バウンドテニス教室・テニス教室
DESCRIPTION:初心者から経験者、子どもから大人まで参加できる、基礎からテニスを学べる教室です。 \n一緒にテニスを楽しみましょう♪ \n  \n日　時　平成２6年４月１2日（土）～平成２7年３月28日までの第２、４土曜日 \n１５時～１７時　（２時間） \n場　所　千倉体育館 \n                        Tweet
URL:http://kashima-sports.com/event-single/%e3%83%90%e3%82%a6%e3%83%b3%e3%83%89%e3%83%86%e3%83%8b%e3%82%b9%e6%95%99%e5%ae%a4%e3%83%bb%e3%83%86%e3%83%8b%e3%82%b9%e6%95%99%e5%ae%a4-7
END:VEVENT
END:VCALENDAR