BEGIN:VCALENDAR
VERSION:2.0
PRODID:-//かしま元気スポーツクラブ | 福島県南相馬市鹿島区 - ECPv6.15.12.2//NONSGML v1.0//EN
CALSCALE:GREGORIAN
METHOD:PUBLISH
X-WR-CALNAME:かしま元気スポーツクラブ | 福島県南相馬市鹿島区
X-ORIGINAL-URL:http://kashima-sports.com
X-WR-CALDESC:かしま元気スポーツクラブ | 福島県南相馬市鹿島区 のイベント
REFRESH-INTERVAL;VALUE=DURATION:PT1H
X-Robots-Tag:noindex
X-PUBLISHED-TTL:PT1H
BEGIN:VTIMEZONE
TZID:Asia/Tokyo
BEGIN:STANDARD
TZOFFSETFROM:+0900
TZOFFSETTO:+0900
TZNAME:JST
DTSTART:20130101T000000
END:STANDARD
END:VTIMEZONE
BEGIN:VEVENT
DTSTART;TZID=Asia/Tokyo:20141218T190000
DTEND;TZID=Asia/Tokyo:20141218T203000
DTSTAMP:20260426T001855
CREATED:20141031T150058Z
LAST-MODIFIED:20150115T011354Z
UID:1971-1418929200-1418934600@kashima-sports.com
SUMMARY:スポーツ教室
DESCRIPTION:小学生を対象としたスポーツ教室 \n毎週木曜日開催！週替わりで様々なスポーツを体験し、これからのスポーツ活動につながる教室となっています。 \n内容は、第１木曜日：ドッジボール、第２木曜日：野球、第３木曜日：バレーボール、第４木曜日：サッカー、第５木曜日：体操（跳び箱、平均台、マット運動など） \n年に数回のお楽しみ会も予定しています。 \n  \n\n\n\n日　時：\n平成２６年５月２２日（木）～平成２７年３月午後７時００分～８時３０分　※１時間３０分\n\n\n会　場：\n千倉体育館\n\n\n参加費：\n２，０００円（前期１，０００円、後期１，０００円） ※但し、かしま元気スポーツクラブ会員登録及びスポーツ保険加入が必要です。\n\n\n\n                        Tweet
URL:http://kashima-sports.com/event-single/%e3%82%b9%e3%83%9d%e3%83%bc%e3%83%84%e6%95%99%e5%ae%a4-67
END:VEVENT
BEGIN:VEVENT
DTSTART;TZID=Asia/Tokyo:20141214T090000
DTEND;TZID=Asia/Tokyo:20141214T120000
DTSTAMP:20260426T001855
CREATED:20141130T150040Z
LAST-MODIFIED:20150115T022649Z
UID:1994-1418547600-1418558400@kashima-sports.com
SUMMARY:卓球大会
DESCRIPTION:第１回かしま元気スポーツクラブ杯　卓球大会 \n  \n○日時　１２月１４日（日）　午前９時開会 \n○場所　千倉体育館 \n○参加対象　中学生～大人 \n○参加費　中学生：３００円、高校生以上（会員）：５００円、高校生以上（非会員）：７００円 \n○申込〆切　１２月１０日（水） \n                        Tweet
URL:http://kashima-sports.com/event-single/%e5%8d%93%e7%90%83%e5%a4%a7%e4%bc%9a
END:VEVENT
BEGIN:VEVENT
DTSTART;TZID=Asia/Tokyo:20141213T150000
DTEND;TZID=Asia/Tokyo:20141213T170000
DTSTAMP:20260426T001855
CREATED:20141031T150034Z
LAST-MODIFIED:20150115T003523Z
UID:1953-1418482800-1418490000@kashima-sports.com
SUMMARY:テニス・バウンドテニス教室
DESCRIPTION:初心者から経験者、子どもから大人まで参加できる、基礎からテニスを学べる教室です。 \n一緒にテニスを楽しみましょう♪ \n  \n日　時　平成２6年４月１2日（土）～平成２7年３月28日までの第２、４土曜日 \n１５時～１７時　（２時間） \n場　所　千倉体育館 \n                        Tweet
URL:http://kashima-sports.com/event-single/%e3%83%86%e3%83%8b%e3%82%b9%e3%83%bb%e3%83%90%e3%82%a6%e3%83%b3%e3%83%89%e3%83%86%e3%83%8b%e3%82%b9%e6%95%99%e5%ae%a4-9
END:VEVENT
BEGIN:VEVENT
DTSTART;TZID=Asia/Tokyo:20141211T190000
DTEND;TZID=Asia/Tokyo:20141211T203000
DTSTAMP:20260426T001855
CREATED:20141031T150007Z
LAST-MODIFIED:20150115T011227Z
UID:1970-1418324400-1418329800@kashima-sports.com
SUMMARY:スポーツ教室
DESCRIPTION:小学生を対象としたスポーツ教室 \n毎週木曜日開催！週替わりで様々なスポーツを体験し、これからのスポーツ活動につながる教室となっています。 \n内容は、第１木曜日：ドッジボール、第２木曜日：野球、第３木曜日：バレーボール、第４木曜日：サッカー、第５木曜日：体操（跳び箱、平均台、マット運動など） \n年に数回のお楽しみ会も予定しています。 \n  \n\n\n\n日　時：\n平成２６年５月２２日（木）～平成２７年３月午後７時００分～８時３０分　※１時間３０分\n\n\n会　場：\n千倉体育館\n\n\n参加費：\n２，０００円（前期１，０００円、後期１，０００円） ※但し、かしま元気スポーツクラブ会員登録及びスポーツ保険加入が必要です。\n\n\n\n                        Tweet
URL:http://kashima-sports.com/event-single/%e3%82%b9%e3%83%9d%e3%83%bc%e3%83%84%e6%95%99%e5%ae%a4-66
END:VEVENT
BEGIN:VEVENT
DTSTART;TZID=Asia/Tokyo:20141204T190000
DTEND;TZID=Asia/Tokyo:20141204T203000
DTSTAMP:20260426T001855
CREATED:20141031T150058Z
LAST-MODIFIED:20150115T010955Z
UID:1969-1417719600-1417725000@kashima-sports.com
SUMMARY:スポーツ教室
DESCRIPTION:小学生を対象としたスポーツ教室 \n毎週木曜日開催！週替わりで様々なスポーツを体験し、これからのスポーツ活動につながる教室となっています。 \n内容は、第１木曜日：ドッジボール、第２木曜日：野球、第３木曜日：バレーボール、第４木曜日：サッカー、第５木曜日：体操（跳び箱、平均台、マット運動など） \n年に数回のお楽しみ会も予定しています。 \n  \n\n\n\n日　時：\n平成２６年５月２２日（木）～平成２７年３月午後７時００分～８時３０分　※１時間３０分\n\n\n会　場：\n千倉体育館\n\n\n参加費：\n２，０００円（前期１，０００円、後期１，０００円） ※但し、かしま元気スポーツクラブ会員登録及びスポーツ保険加入が必要です。\n\n\n\n                        Tweet
URL:http://kashima-sports.com/event-single/%e3%82%b9%e3%83%9d%e3%83%bc%e3%83%84%e6%95%99%e5%ae%a4-65
END:VEVENT
BEGIN:VEVENT
DTSTART;TZID=Asia/Tokyo:20141127T190000
DTEND;TZID=Asia/Tokyo:20141127T193000
DTSTAMP:20260426T001855
CREATED:20140930T150014Z
LAST-MODIFIED:20150115T010629Z
UID:1968-1417114800-1417116600@kashima-sports.com
SUMMARY:スポーツ教室
DESCRIPTION:小学生を対象としたスポーツ教室 \n毎週木曜日開催！週替わりで様々なスポーツを体験し、これからのスポーツ活動につながる教室となっています。 \n内容は、第１木曜日：ドッジボール、第２木曜日：野球、第３木曜日：バレーボール、第４木曜日：サッカー、第５木曜日：体操（跳び箱、平均台、マット運動など） \n年に数回のお楽しみ会も予定しています。 \n  \n\n\n\n日　時：\n平成２６年５月２２日（木）～平成２７年３月午後７時００分～８時３０分　※１時間３０分\n\n\n会　場：\n千倉体育館\n\n\n参加費：\n２，０００円（前期１，０００円、後期１，０００円） ※但し、かしま元気スポーツクラブ会員登録及びスポーツ保険加入が必要です。\n\n\n\n                        Tweet
URL:http://kashima-sports.com/event-single/%e3%82%b9%e3%83%9d%e3%83%bc%e3%83%84%e6%95%99%e5%ae%a4-64
END:VEVENT
BEGIN:VEVENT
DTSTART;TZID=Asia/Tokyo:20141127T090000
DTEND;TZID=Asia/Tokyo:20141127T120000
DTSTAMP:20260426T001855
CREATED:20141031T150052Z
LAST-MODIFIED:20150115T022250Z
UID:1993-1417078800-1417089600@kashima-sports.com
SUMMARY:グラウンドゴルフ男女ペア大会
DESCRIPTION:１１月２２日（いい夫婦の日）を記念した大会 \n  \n○日時　１１月２７日（木）　８時３０分開会、９時競技開始 \n○場所　桜平山運動公園 \n○参加対象　男女のペア（鹿島区内在住の方、仮設住宅含む） \n○参加費　１組１，０００円 \n○募集期間　１１月４日（火）　９時より受付開始 \n  \n                        Tweet
URL:http://kashima-sports.com/event-single/%e3%82%b0%e3%83%a9%e3%82%a6%e3%83%b3%e3%83%89%e3%82%b4%e3%83%ab%e3%83%95%e7%94%b7%e5%a5%b3%e3%83%9a%e3%82%a2%e5%a4%a7%e4%bc%9a-3
END:VEVENT
BEGIN:VEVENT
DTSTART;TZID=Asia/Tokyo:20141122T150000
DTEND;TZID=Asia/Tokyo:20141122T170000
DTSTAMP:20260426T001855
CREATED:20140930T150016Z
LAST-MODIFIED:20150115T003416Z
UID:1952-1416668400-1416675600@kashima-sports.com
SUMMARY:テニス・バウンドテニス教室
DESCRIPTION:初心者から経験者、子どもから大人まで参加できる、基礎からテニスを学べる教室です。 \n一緒にテニスを楽しみましょう♪ \n  \n日　時　平成２6年４月１2日（土）～平成２7年３月28日までの第２、４土曜日 \n１５時～１７時　（２時間） \n場　所　千倉体育館 \n                        Tweet
URL:http://kashima-sports.com/event-single/%e3%83%86%e3%83%8b%e3%82%b9%e3%83%bb%e3%83%90%e3%82%a6%e3%83%b3%e3%83%89%e3%83%86%e3%83%8b%e3%82%b9%e6%95%99%e5%ae%a4-8
END:VEVENT
BEGIN:VEVENT
DTSTART;TZID=Asia/Tokyo:20141122T120000
DTEND;TZID=Asia/Tokyo:20141122T140000
DTSTAMP:20260426T001855
CREATED:20141031T150018Z
LAST-MODIFIED:20150115T021913Z
UID:1992-1416657600-1416664800@kashima-sports.com
SUMMARY:ニュースポーツ体験広場
DESCRIPTION:囲碁ボール、フロアカーリング、フライングディスクなどのニュースポーツを体験しよう！！ \n  \n○日時　１１月２２日（土）　１２時３０分～ \n○場所　千倉体育館 \n○参加対象　子ども～大人 \n                        Tweet
URL:http://kashima-sports.com/event-single/%e3%83%8b%e3%83%a5%e3%83%bc%e3%82%b9%e3%83%9d%e3%83%bc%e3%83%84%e4%bd%93%e9%a8%93%e5%ba%83%e5%a0%b4
END:VEVENT
BEGIN:VEVENT
DTSTART;TZID=Asia/Tokyo:20141122T090000
DTEND;TZID=Asia/Tokyo:20141122T120000
DTSTAMP:20260426T001855
CREATED:20141031T150036Z
LAST-MODIFIED:20150115T021613Z
UID:1991-1416646800-1416657600@kashima-sports.com
SUMMARY:一本松ウォーキング
DESCRIPTION:真野川沿いの景色を楽しみながら、”かしまの一本松”を見に行こう！ \n  \n○日時　１１月２２日（土）　９：００ウォーキング開始 \n○コース　千倉体育館～真野川堤防～一本松～千倉体育館　（往復約７km） \n○参加対象　子ども～大人 \n○参加費　２００円/人 \n○募集期間　１１月１７日（月）１７：００まで \n                        Tweet
URL:http://kashima-sports.com/event-single/%e4%b8%80%e6%9c%ac%e6%9d%be%e3%82%a6%e3%82%a9%e3%83%bc%e3%82%ad%e3%83%b3%e3%82%b0
END:VEVENT
BEGIN:VEVENT
DTSTART;TZID=Asia/Tokyo:20141120T190000
DTEND;TZID=Asia/Tokyo:20141120T203000
DTSTAMP:20260426T001855
CREATED:20140930T150049Z
LAST-MODIFIED:20150115T010236Z
UID:1967-1416510000-1416515400@kashima-sports.com
SUMMARY:スポーツ教室
DESCRIPTION:小学生を対象としたスポーツ教室 \n毎週木曜日開催！週替わりで様々なスポーツを体験し、これからのスポーツ活動につながる教室となっています。 \n内容は、第１木曜日：ドッジボール、第２木曜日：野球、第３木曜日：バレーボール、第４木曜日：サッカー、第５木曜日：体操（跳び箱、平均台、マット運動など） \n年に数回のお楽しみ会も予定しています。 \n  \n\n\n\n日　時：\n平成２６年５月２２日（木）～平成２７年３月午後７時００分～８時３０分　※１時間３０分\n\n\n会　場：\n千倉体育館\n\n\n参加費：\n２，０００円（前期１，０００円、後期１，０００円） ※但し、かしま元気スポーツクラブ会員登録及びスポーツ保険加入が必要です。\n\n\n\n                        Tweet
URL:http://kashima-sports.com/event-single/%e3%82%b9%e3%83%9d%e3%83%bc%e3%83%84%e6%95%99%e5%ae%a4-63
END:VEVENT
BEGIN:VEVENT
DTSTART;TZID=Asia/Tokyo:20141115T133000
DTEND;TZID=Asia/Tokyo:20141115T163000
DTSTAMP:20260426T001855
CREATED:20141031T150005Z
LAST-MODIFIED:20150115T024559Z
UID:2000-1416058200-1416069000@kashima-sports.com
SUMMARY:秋の大体大運動会！！
DESCRIPTION:大阪体育大学生による秋の”大体大運動会” \n  \n○日時　１１月１５日（土）　１３：３０～１６：３０ \n○場所　千倉体育館 \n○参加費　無料 \n                        Tweet
URL:http://kashima-sports.com/event-single/%e7%a7%8b%e3%81%ae%e5%a4%a7%e4%bd%93%e5%a4%a7%e9%81%8b%e5%8b%95%e4%bc%9a%ef%bc%81%ef%bc%81
END:VEVENT
BEGIN:VEVENT
DTSTART;TZID=Asia/Tokyo:20141113T190000
DTEND;TZID=Asia/Tokyo:20141113T203000
DTSTAMP:20260426T001855
CREATED:20131231T150041Z
LAST-MODIFIED:20150115T005506Z
UID:1966-1415905200-1415910600@kashima-sports.com
SUMMARY:スポーツ教室
DESCRIPTION:小学生を対象としたスポーツ教室 \n毎週木曜日開催！週替わりで様々なスポーツを体験し、これからのスポーツ活動につながる教室となっています。 \n内容は、第１木曜日：ドッジボール、第２木曜日：野球、第３木曜日：バレーボール、第４木曜日：サッカー、第５木曜日：体操（跳び箱、平均台、マット運動など） \n年に数回のお楽しみ会も予定しています。 \n  \n\n\n\n日　時：\n平成２６年５月２２日（木）～平成２７年３月午後７時００分～８時３０分　※１時間３０分\n\n\n会　場：\n千倉体育館\n\n\n参加費：\n２，０００円（前期１，０００円、後期１，０００円） ※但し、かしま元気スポーツクラブ会員登録及びスポーツ保険加入が必要です。\n\n\n\n                        Tweet
URL:http://kashima-sports.com/event-single/%e3%82%b9%e3%83%9d%e3%83%bc%e3%83%84%e6%95%99%e5%ae%a4-62
END:VEVENT
BEGIN:VEVENT
DTSTART;TZID=Asia/Tokyo:20141109T103000
DTEND;TZID=Asia/Tokyo:20141109T120000
DTSTAMP:20260426T001855
CREATED:20141014T150033Z
LAST-MODIFIED:20150115T021155Z
UID:1990-1415529000-1415534400@kashima-sports.com
SUMMARY:ボウリング大会
DESCRIPTION:第１回かしま元気スポーツクラブ杯　ボウリング大会（個人戦） \n○日時　１１月９日（日）　１０時３０分試合開始 \n○場所　ルミックスボウル原町 \n○参加費　１，０００円/人 \n○参加対象　中学生以上　※年齢によるハンデあり \n○募集人数　４０名 \n○参加申込　１１月４日（火）まで \n                        Tweet
URL:http://kashima-sports.com/event-single/%e3%83%9c%e3%82%a6%e3%83%aa%e3%83%b3%e3%82%b0%e5%a4%a7%e4%bc%9a
END:VEVENT
BEGIN:VEVENT
DTSTART;TZID=Asia/Tokyo:20141108T150000
DTEND;TZID=Asia/Tokyo:20141108T170000
DTSTAMP:20260426T001855
CREATED:20140930T150000Z
LAST-MODIFIED:20150115T003300Z
UID:1951-1415458800-1415466000@kashima-sports.com
SUMMARY:テニス・バウンドテニス教室
DESCRIPTION:初心者から経験者、子どもから大人まで参加できる、基礎からテニスを学べる教室です。 \n一緒にテニスを楽しみましょう♪ \n  \n日　時　平成２6年４月１2日（土）～平成２7年３月28日までの第２、４土曜日 \n１５時～１７時　（２時間） \n場　所　千倉体育館 \n                        Tweet
URL:http://kashima-sports.com/event-single/%e3%83%86%e3%83%8b%e3%82%b9%e3%83%bb%e3%83%90%e3%82%a6%e3%83%b3%e3%83%89%e3%83%86%e3%83%8b%e3%82%b9%e6%95%99%e5%ae%a4-7
END:VEVENT
BEGIN:VEVENT
DTSTART;TZID=Asia/Tokyo:20141106T190000
DTEND;TZID=Asia/Tokyo:20141106T203000
DTSTAMP:20260426T001855
CREATED:20140930T150001Z
LAST-MODIFIED:20150115T005056Z
UID:1965-1415300400-1415305800@kashima-sports.com
SUMMARY:スポーツ教室
DESCRIPTION:小学生を対象としたスポーツ教室 \n毎週木曜日開催！週替わりで様々なスポーツを体験し、これからのスポーツ活動につながる教室となっています。 \n内容は、第１木曜日：ドッジボール、第２木曜日：野球、第３木曜日：バレーボール、第４木曜日：サッカー、第５木曜日：体操（跳び箱、平均台、マット運動など） \n年に数回のお楽しみ会も予定しています。 \n  \n\n\n\n日　時：\n平成２６年５月２２日（木）～平成２７年３月午後７時００分～８時３０分　※１時間３０分\n\n\n会　場：\n千倉体育館\n\n\n参加費：\n２，０００円（前期１，０００円、後期１，０００円） ※但し、かしま元気スポーツクラブ会員登録及びスポーツ保険加入が必要です。\n\n\n\n                        Tweet
URL:http://kashima-sports.com/event-single/%e3%82%b9%e3%83%9d%e3%83%bc%e3%83%84%e6%95%99%e5%ae%a4-61
END:VEVENT
BEGIN:VEVENT
DTSTART;TZID=Asia/Tokyo:20141030T190000
DTEND;TZID=Asia/Tokyo:20141030T203000
DTSTAMP:20260426T001855
CREATED:20140930T150024Z
LAST-MODIFIED:20150115T023655Z
UID:1999-1414695600-1414701000@kashima-sports.com
SUMMARY:ニュースポーツ教室
DESCRIPTION:○日時　１９時～２０時３０分 \n○場所　千倉体育館 \n○参加対象　子ども～大人 \n○内容　ニュースポーツ（囲碁ボール、フライングディスク、カローリング、他） \n                        Tweet
URL:http://kashima-sports.com/event-single/%e3%83%8b%e3%83%a5%e3%83%bc%e3%82%b9%e3%83%9d%e3%83%bc%e3%83%84%e6%95%99%e5%ae%a4
END:VEVENT
BEGIN:VEVENT
DTSTART;TZID=Asia/Tokyo:20141025T150000
DTEND;TZID=Asia/Tokyo:20141025T170000
DTSTAMP:20260426T001855
CREATED:20100831T150040Z
LAST-MODIFIED:20150115T003139Z
UID:1950-1414249200-1414256400@kashima-sports.com
SUMMARY:テニス・バウンドテニス教室
DESCRIPTION:初心者から経験者、子どもから大人まで参加できる、基礎からテニスを学べる教室です。 \n一緒にテニスを楽しみましょう♪ \n  \n日　時　平成２6年４月１2日（土）～平成２7年３月28日までの第２、４土曜日 \n１５時～１７時　（２時間） \n場　所　千倉体育館 \n                        Tweet
URL:http://kashima-sports.com/event-single/%e3%83%86%e3%83%8b%e3%82%b9%e3%83%bb%e3%83%90%e3%82%a6%e3%83%b3%e3%83%89%e3%83%86%e3%83%8b%e3%82%b9%e6%95%99%e5%ae%a4-6
END:VEVENT
BEGIN:VEVENT
DTSTART;TZID=Asia/Tokyo:20141023T190000
DTEND;TZID=Asia/Tokyo:20141023T203000
DTSTAMP:20260426T001855
CREATED:20140831T150023Z
LAST-MODIFIED:20150115T004821Z
UID:1964-1414090800-1414096200@kashima-sports.com
SUMMARY:スポーツ教室
DESCRIPTION:小学生を対象としたスポーツ教室 \n毎週木曜日開催！週替わりで様々なスポーツを体験し、これからのスポーツ活動につながる教室となっています。 \n内容は、第１木曜日：ドッジボール、第２木曜日：野球、第３木曜日：バレーボール、第４木曜日：サッカー、第５木曜日：体操（跳び箱、平均台、マット運動など） \n年に数回のお楽しみ会も予定しています。 \n  \n\n\n\n日　時：\n平成２６年５月２２日（木）～平成２７年３月午後７時００分～８時３０分　※１時間３０分\n\n\n会　場：\n千倉体育館\n\n\n参加費：\n２，０００円（前期１，０００円、後期１，０００円） ※但し、かしま元気スポーツクラブ会員登録及びスポーツ保険加入が必要です。\n\n\n\n                        Tweet
URL:http://kashima-sports.com/event-single/%e3%82%b9%e3%83%9d%e3%83%bc%e3%83%84%e6%95%99%e5%ae%a4-60
END:VEVENT
BEGIN:VEVENT
DTSTART;TZID=Asia/Tokyo:20141016T190000
DTEND;TZID=Asia/Tokyo:20141016T203000
DTSTAMP:20260426T001855
CREATED:20140831T150033Z
LAST-MODIFIED:20150115T004718Z
UID:1963-1413486000-1413491400@kashima-sports.com
SUMMARY:スポーツ教室
DESCRIPTION:小学生を対象としたスポーツ教室 \n毎週木曜日開催！週替わりで様々なスポーツを体験し、これからのスポーツ活動につながる教室となっています。 \n内容は、第１木曜日：ドッジボール、第２木曜日：野球、第３木曜日：バレーボール、第４木曜日：サッカー、第５木曜日：体操（跳び箱、平均台、マット運動など） \n年に数回のお楽しみ会も予定しています。 \n  \n\n\n\n日　時：\n平成２６年５月２２日（木）～平成２７年３月午後７時００分～８時３０分　※１時間３０分\n\n\n会　場：\n千倉体育館\n\n\n参加費：\n２，０００円（前期１，０００円、後期１，０００円） ※但し、かしま元気スポーツクラブ会員登録及びスポーツ保険加入が必要です。\n\n\n\n                        Tweet
URL:http://kashima-sports.com/event-single/%e3%82%b9%e3%83%9d%e3%83%bc%e3%83%84%e6%95%99%e5%ae%a4-59
END:VEVENT
BEGIN:VEVENT
DTSTART;TZID=Asia/Tokyo:20141011T150000
DTEND;TZID=Asia/Tokyo:20141011T170000
DTSTAMP:20260426T001855
CREATED:20140831T150045Z
LAST-MODIFIED:20150115T003024Z
UID:1949-1413039600-1413046800@kashima-sports.com
SUMMARY:テニス・バウンドテニス教室
DESCRIPTION:初心者から経験者、子どもから大人まで参加できる、基礎からテニスを学べる教室です。 \n一緒にテニスを楽しみましょう♪ \n  \n日　時　平成２6年４月１2日（土）～平成２7年３月28日までの第２、４土曜日 \n１５時～１７時　（２時間） \n場　所　千倉体育館 \n                        Tweet
URL:http://kashima-sports.com/event-single/%e3%83%86%e3%83%8b%e3%82%b9%e3%83%bb%e3%83%90%e3%82%a6%e3%83%b3%e3%83%89%e3%83%86%e3%83%8b%e3%82%b9%e6%95%99%e5%ae%a4-5
END:VEVENT
BEGIN:VEVENT
DTSTART;TZID=Asia/Tokyo:20141009T190000
DTEND;TZID=Asia/Tokyo:20141009T203000
DTSTAMP:20260426T001855
CREATED:20140831T150009Z
LAST-MODIFIED:20150115T004509Z
UID:1962-1412881200-1412886600@kashima-sports.com
SUMMARY:スポーツ教室
DESCRIPTION:小学生を対象としたスポーツ教室 \n毎週木曜日開催！週替わりで様々なスポーツを体験し、これからのスポーツ活動につながる教室となっています。 \n内容は、第１木曜日：ドッジボール、第２木曜日：野球、第３木曜日：バレーボール、第４木曜日：サッカー、第５木曜日：体操（跳び箱、平均台、マット運動など） \n年に数回のお楽しみ会も予定しています。 \n  \n\n\n\n日　時：\n平成２６年５月２２日（木）～平成２７年３月午後７時００分～８時３０分　※１時間３０分\n\n\n会　場：\n千倉体育館\n\n\n参加費：\n２，０００円（前期１，０００円、後期１，０００円） ※但し、かしま元気スポーツクラブ会員登録及びスポーツ保険加入が必要です。\n\n\n\n                        Tweet
URL:http://kashima-sports.com/event-single/%e3%82%b9%e3%83%9d%e3%83%bc%e3%83%84%e6%95%99%e5%ae%a4-58
END:VEVENT
BEGIN:VEVENT
DTSTART;TZID=Asia/Tokyo:20141009T030000
DTEND;TZID=Asia/Tokyo:20141009T170000
DTSTAMP:20260426T001855
CREATED:20140831T150006Z
LAST-MODIFIED:20150115T020249Z
UID:1988-1412823600-1412874000@kashima-sports.com
SUMMARY:栗駒山登山
DESCRIPTION:○日時　１０月９日（木）　早朝出発 \n○場所　栗駒山（宮城県）　1\,627.4m \n○対象　一般（登山初級者可） \n○募集人数　４０名 \n○参加費　６，０００円～７，０００円 \n○申込〆切　９月３０日（火）必着 \n                        Tweet
URL:http://kashima-sports.com/event-single/%e6%a0%97%e9%a7%92%e5%b1%b1%e7%99%bb%e5%b1%b1
END:VEVENT
BEGIN:VEVENT
DTSTART;TZID=Asia/Tokyo:20141006T190000
DTEND;TZID=Asia/Tokyo:20141006T210000
DTSTAMP:20260426T001855
CREATED:20140731T150023Z
LAST-MODIFIED:20140812T052222Z
UID:1733-1412622000-1412629200@kashima-sports.com
SUMMARY:初級バドミントン教室
DESCRIPTION:大人を対象としたバドミントン初心者向けのバドミントン教室。 \n基礎から楽しくバドミントンを覚えることが出来ます。 \n  \n期間は９月１日～１０月６日までの毎週月曜日。計６回。 \n時間は午後７時～９時。 \n会場は千倉体育館。 \n対象は一般（大人の方）。 \n募集人数は１８名程度。 \n                        Tweet
URL:http://kashima-sports.com/event-single/%e5%88%9d%e7%b4%9a%e3%83%90%e3%83%89%e3%83%9f%e3%83%b3%e3%83%88%e3%83%b3%e6%95%99%e5%ae%a4-6
END:VEVENT
BEGIN:VEVENT
DTSTART;TZID=Asia/Tokyo:20141005T080000
DTEND;TZID=Asia/Tokyo:20141005T120000
DTSTAMP:20260426T001855
CREATED:20140831T150053Z
LAST-MODIFIED:20150115T020733Z
UID:1989-1412496000-1412510400@kashima-sports.com
SUMMARY:パークゴルフ大会
DESCRIPTION:○日時　１０月５日（日）　８時受付、８時３０分開会　＜雨天決行＞ \n○場所　相馬光陽パークゴルフ場 \n○対象　鹿島区内に在住の方（仮設住宅入居者、区内で仕事されている方も可） \n○募集人数　先着１６０名 \n○参加費　会員：５００円、非会員：１，０００円 \n○募集期間　９月３日（水）～９月２６日（金） \n                        Tweet
URL:http://kashima-sports.com/event-single/%e3%83%91%e3%83%bc%e3%82%af%e3%82%b4%e3%83%ab%e3%83%95%e5%a4%a7%e4%bc%9a
END:VEVENT
BEGIN:VEVENT
DTSTART;TZID=Asia/Tokyo:20141002T190000
DTEND;TZID=Asia/Tokyo:20141002T203000
DTSTAMP:20260426T001855
CREATED:20140831T150012Z
LAST-MODIFIED:20150115T004404Z
UID:1961-1412276400-1412281800@kashima-sports.com
SUMMARY:スポーツ教室
DESCRIPTION:小学生を対象としたスポーツ教室 \n毎週木曜日開催！週替わりで様々なスポーツを体験し、これからのスポーツ活動につながる教室となっています。 \n内容は、第１木曜日：ドッジボール、第２木曜日：野球、第３木曜日：バレーボール、第４木曜日：サッカー、第５木曜日：体操（跳び箱、平均台、マット運動など） \n年に数回のお楽しみ会も予定しています。 \n  \n\n\n\n日　時：\n平成２６年５月２２日（木）～平成２７年３月午後７時００分～８時３０分　※１時間３０分\n\n\n会　場：\n千倉体育館\n\n\n参加費：\n２，０００円（前期１，０００円、後期１，０００円） ※但し、かしま元気スポーツクラブ会員登録及びスポーツ保険加入が必要です。\n\n\n\n                        Tweet
URL:http://kashima-sports.com/event-single/%e3%82%b9%e3%83%9d%e3%83%bc%e3%83%84%e6%95%99%e5%ae%a4-57
END:VEVENT
BEGIN:VEVENT
DTSTART;TZID=Asia/Tokyo:20140930T090000
DTEND;TZID=Asia/Tokyo:20140930T113000
DTSTAMP:20260426T001855
CREATED:20140731T150014Z
LAST-MODIFIED:20140812T045655Z
UID:1722-1412067600-1412076600@kashima-sports.com
SUMMARY:パークゴルフ教室
DESCRIPTION:パークゴルフの初心者、初級者を対象としたパークゴルフ教室 \n開催期間は、８月２６日、９月２日、９日、１６日、３０日の５日間。 \n会場は、相馬市の相馬光陽パークゴルフ場。 \n午前９時～１１時３０分までの２時間３０分。 \nパークゴルフ公認指導員、アドバイザーの指導で、パークゴルフの基礎から競技ルール、エチケットを学べます。 \n定員は３０名程度 \n                        Tweet
URL:http://kashima-sports.com/event-single/%e3%83%91%e3%83%bc%e3%82%af%e3%82%b4%e3%83%ab%e3%83%95%e6%95%99%e5%ae%a4-10
END:VEVENT
BEGIN:VEVENT
DTSTART;TZID=Asia/Tokyo:20140929T190000
DTEND;TZID=Asia/Tokyo:20140929T210000
DTSTAMP:20260426T001855
CREATED:20140731T150029Z
LAST-MODIFIED:20140812T052034Z
UID:1732-1412017200-1412024400@kashima-sports.com
SUMMARY:初級バドミントン教室
DESCRIPTION:大人を対象としたバドミントン初心者向けのバドミントン教室。 \n基礎から楽しくバドミントンを覚えることが出来ます。 \n  \n期間は９月１日～１０月６日までの毎週月曜日。計６回。 \n時間は午後７時～９時。 \n会場は千倉体育館。 \n対象は一般（大人の方）。 \n募集人数は１８名程度。 \n                        Tweet
URL:http://kashima-sports.com/event-single/%e5%88%9d%e7%b4%9a%e3%83%90%e3%83%89%e3%83%9f%e3%83%b3%e3%83%88%e3%83%b3%e6%95%99%e5%ae%a4-5
END:VEVENT
BEGIN:VEVENT
DTSTART;TZID=Asia/Tokyo:20140928T070000
DTEND;TZID=Asia/Tokyo:20140928T170000
DTSTAMP:20260426T001855
CREATED:20140831T150029Z
LAST-MODIFIED:20150115T015959Z
UID:1987-1411887600-1411923600@kashima-sports.com
SUMMARY:あづま総合運動公園ハイキング
DESCRIPTION:○日時　９月２８日（日）　午前７時出発 \n○場所　あづま総合運動公園、四季の里、中野不動尊、あづま果樹園 \n○対象　小学生～大人 \n○募集人数　４０名 \n○参加費 \n（中学生以上）会員：３，５００円、非会員４，０００円 \n（中学生未満）会員：３，０００円、非会員３，５００円 \n○申込〆切　９月１９日（金）必着 \n                        Tweet
URL:http://kashima-sports.com/event-single/%e3%81%82%e3%81%a5%e3%81%be%e7%b7%8f%e5%90%88%e9%81%8b%e5%8b%95%e5%85%ac%e5%9c%92%e3%83%8f%e3%82%a4%e3%82%ad%e3%83%b3%e3%82%b0
END:VEVENT
BEGIN:VEVENT
DTSTART;TZID=Asia/Tokyo:20140927T150000
DTEND;TZID=Asia/Tokyo:20140927T170000
DTSTAMP:20260426T001855
CREATED:20140731T150038Z
LAST-MODIFIED:20140812T042437Z
UID:1714-1411830000-1411837200@kashima-sports.com
SUMMARY:テニス・バウンドテニス教室
DESCRIPTION:初心者から経験者、子どもから大人まで参加できる、基礎からテニスを学べる教室です。 \n一緒にテニスを楽しみましょう♪ \n  \n日　時　平成２6年４月１2日（土）～平成２7年３月28日までの第２、４土曜日 \n１５時～１７時　（２時間） \n場　所　千倉体育館 \n                        Tweet
URL:http://kashima-sports.com/event-single/%e3%83%86%e3%83%8b%e3%82%b9%e3%83%bb%e3%83%90%e3%82%a6%e3%83%b3%e3%83%89%e3%83%86%e3%83%8b%e3%82%b9%e6%95%99%e5%ae%a4-4
END:VEVENT
END:VCALENDAR