BEGIN:VCALENDAR
VERSION:2.0
PRODID:-//かしま元気スポーツクラブ | 福島県南相馬市鹿島区 - ECPv6.15.12.2//NONSGML v1.0//EN
CALSCALE:GREGORIAN
METHOD:PUBLISH
X-WR-CALNAME:かしま元気スポーツクラブ | 福島県南相馬市鹿島区
X-ORIGINAL-URL:http://kashima-sports.com
X-WR-CALDESC:かしま元気スポーツクラブ | 福島県南相馬市鹿島区 のイベント
REFRESH-INTERVAL;VALUE=DURATION:PT1H
X-Robots-Tag:noindex
X-PUBLISHED-TTL:PT1H
BEGIN:VTIMEZONE
TZID:Asia/Tokyo
BEGIN:STANDARD
TZOFFSETFROM:+0900
TZOFFSETTO:+0900
TZNAME:JST
DTSTART:20140101T000000
END:STANDARD
END:VTIMEZONE
BEGIN:VEVENT
DTSTART;TZID=Asia/Tokyo:20150625T190000
DTEND;TZID=Asia/Tokyo:20150625T203000
DTSTAMP:20260425T112851
CREATED:20150526T003115Z
LAST-MODIFIED:20150622T011055Z
UID:2069-1435258800-1435264200@kashima-sports.com
SUMMARY:スポーツ教室
DESCRIPTION:小学生を対象としたスポーツ教室 \n毎週木曜日開催！週替わりで様々なスポーツを体験し、これからのスポーツ活動につながる教室となっています。 \n内容は、第１木曜日：ドッジボール、第２木曜日：野球、第３木曜日：バレーボール、第４木曜日：サッカー、第５木曜日：体操（跳び箱、平均台、マット運動など） \n年に数回のお楽しみ会も予定しています。 \n  \n\n\n\n日　時：\n平成２７年５月２８日（木）～平成２８年３月２４日\n午後７時００分～８時３０分　※１時間３０分\n\n\n会　場：\n千倉体育館\n\n\n対　象：\n小学生（１～６年生）\n\n\n参加費：\n２，０００円（前期１，０００円、後期１，０００円）\n※但し、かしま元気スポーツクラブ会員登録及びスポーツ保険加入が必要です。\n\n\n\n                        Tweet
URL:http://kashima-sports.com/event-single/%e3%82%b9%e3%83%9d%e3%83%bc%e3%83%84%e6%95%99%e5%ae%a4-84
END:VEVENT
BEGIN:VEVENT
DTSTART;TZID=Asia/Tokyo:20150625T083000
DTEND;TZID=Asia/Tokyo:20150625T120000
DTSTAMP:20260425T112851
CREATED:20150430T150008Z
LAST-MODIFIED:20150526T011052Z
UID:2080-1435221000-1435233600@kashima-sports.com
SUMMARY:パークゴルフ教室（前期）
DESCRIPTION:パークゴルフの初心者、初級者を対象としたパークゴルフ教室 \n前期の開催期間は、６月４日、１１日、１８日、２５日、７月２日の毎週木曜日（計５日間） \n会場は、相馬市の相馬光陽パークゴルフ場。 \n午前９時～１１時３０分までの２時間３０分。 \nパークゴルフ公認指導員、アドバイザーの指導で、パークゴルフの基礎から競技ルール、エチケットを学べます。 \n定員は３０名程度 \n                        Tweet
URL:http://kashima-sports.com/event-single/%e3%83%91%e3%83%bc%e3%82%af%e3%82%b4%e3%83%ab%e3%83%95%e6%95%99%e5%ae%a4%ef%bc%88%e5%89%8d%e6%9c%9f%ef%bc%89-4
END:VEVENT
BEGIN:VEVENT
DTSTART;TZID=Asia/Tokyo:20150618T190000
DTEND;TZID=Asia/Tokyo:20150618T203000
DTSTAMP:20260425T112851
CREATED:20150526T003001Z
LAST-MODIFIED:20150526T003001Z
UID:2068-1434654000-1434659400@kashima-sports.com
SUMMARY:スポーツ教室
DESCRIPTION:小学生を対象としたスポーツ教室 \n毎週木曜日開催！週替わりで様々なスポーツを体験し、これからのスポーツ活動につながる教室となっています。 \n内容は、第１木曜日：ドッジボール、第２木曜日：野球、第３木曜日：バレーボール、第４木曜日：サッカー、第５木曜日：体操（跳び箱、平均台、マット運動など） \n年に数回のお楽しみ会も予定しています。 \n  \n\n\n\n日　時：\n平成２７年５月２８日（木）～平成２７年３月２４日\n午後７時００分～８時３０分　※１時間３０分\n\n\n会　場：\n千倉体育館\n\n\n対　象：\n小学生（１～６年生）\n\n\n参加費：\n２，０００円（前期１，０００円、後期１，０００円）\n※但し、かしま元気スポーツクラブ会員登録及びスポーツ保険加入が必要です。\n\n\n\n                        Tweet
URL:http://kashima-sports.com/event-single/%e3%82%b9%e3%83%9d%e3%83%bc%e3%83%84%e6%95%99%e5%ae%a4-83
END:VEVENT
BEGIN:VEVENT
DTSTART;TZID=Asia/Tokyo:20150618T083000
DTEND;TZID=Asia/Tokyo:20150618T120000
DTSTAMP:20260425T112851
CREATED:20150430T150013Z
LAST-MODIFIED:20150526T010954Z
UID:2079-1434616200-1434628800@kashima-sports.com
SUMMARY:パークゴルフ教室（前期）
DESCRIPTION:パークゴルフの初心者、初級者を対象としたパークゴルフ教室 \n前期の開催期間は、６月４日、１１日、１８日、２５日、７月２日の毎週木曜日（計５日間） \n会場は、相馬市の相馬光陽パークゴルフ場。 \n午前９時～１１時３０分までの２時間３０分。 \nパークゴルフ公認指導員、アドバイザーの指導で、パークゴルフの基礎から競技ルール、エチケットを学べます。 \n定員は３０名程度 \n                        Tweet
URL:http://kashima-sports.com/event-single/%e3%83%91%e3%83%bc%e3%82%af%e3%82%b4%e3%83%ab%e3%83%95%e6%95%99%e5%ae%a4%ef%bc%88%e5%89%8d%e6%9c%9f%ef%bc%89-3
END:VEVENT
BEGIN:VEVENT
DTSTART;TZID=Asia/Tokyo:20150617T060000
DTEND;TZID=Asia/Tokyo:20150617T170000
DTSTAMP:20260425T112851
CREATED:20150514T150022Z
LAST-MODIFIED:20150526T013520Z
UID:2086-1434520800-1434560400@kashima-sports.com
SUMMARY:軽登山教室（雄国山）
DESCRIPTION:かしま元気スポーツクラブ登山教室第２弾。 \n北塩原村の雄国山(1\,271m)での登山教室。 \n  \n日　時：６月１７日（水）　午前６時出発 \n場　所：雄国山（北塩原村）　※雄子沢登山口より \n定　員：４０名 \n参加費：５，０００円～７，０００円　※参加人数により金額を決定いたします。 \n                        Tweet
URL:http://kashima-sports.com/event-single/%e8%bb%bd%e7%99%bb%e5%b1%b1%e6%95%99%e5%ae%a4%ef%bc%88%e9%9b%84%e5%9b%bd%e5%b1%b1%ef%bc%89
END:VEVENT
BEGIN:VEVENT
DTSTART;TZID=Asia/Tokyo:20150615T190000
DTEND;TZID=Asia/Tokyo:20150615T210000
DTSTAMP:20260425T112851
CREATED:20150430T150041Z
LAST-MODIFIED:20150526T012825Z
UID:2085-1434394800-1434402000@kashima-sports.com
SUMMARY:バドミントン教室
DESCRIPTION:スポーツ振興くじ（toto）助成事業。 \n年間を通して開催するバドミントン教室。 \n  \n\n\n\n開催日\n毎月第１、第３月曜日開催 \n（初回の５月１１日のみ第２月曜日）\n\n\n開催時間\n午後７時～９時　※２時間\n\n\n場　所\n千倉体育館\n\n\n募集人数\n２０名程度　（※中学生以上の初心者、初級者）\n\n\n参加費\n２００円／回 ※但し、かしま元気スポーツクラブ会員登録が必要\n\n\n\n                        Tweet
URL:http://kashima-sports.com/event-single/%e3%83%90%e3%83%89%e3%83%9f%e3%83%b3%e3%83%88%e3%83%b3%e6%95%99%e5%ae%a4-7
END:VEVENT
BEGIN:VEVENT
DTSTART;TZID=Asia/Tokyo:20150613T150000
DTEND;TZID=Asia/Tokyo:20150613T170000
DTSTAMP:20260425T112851
CREATED:20150430T150019Z
LAST-MODIFIED:20150521T081659Z
UID:2063-1434207600-1434214800@kashima-sports.com
SUMMARY:テニス（ソフトテニス）教室
DESCRIPTION:初心者から経験者、子どもから大人まで参加できる、基礎からテニスを学べる教室です。 \n一緒にテニスを楽しみましょう♪ \n  \n\n\n\n日　時\n平成２７年４月１１日（土）～平成２８年３月２６日までの第２、４土曜日 １５時～１７時（２時間）\n\n\n場　所\n千倉体育館\n\n\n参加費\n２００円/回 ※ただし、かしま元気スポーツクラブ会員登録が必要です\n\n\n\n                        Tweet
URL:http://kashima-sports.com/event-single/%e3%83%86%e3%83%8b%e3%82%b9%ef%bc%88%e3%82%bd%e3%83%95%e3%83%88%e3%83%86%e3%83%8b%e3%82%b9%ef%bc%89%e6%95%99%e5%ae%a4-5
END:VEVENT
BEGIN:VEVENT
DTSTART;TZID=Asia/Tokyo:20150611T190000
DTEND;TZID=Asia/Tokyo:20150611T203000
DTSTAMP:20260425T112851
CREATED:20150526T002920Z
LAST-MODIFIED:20150526T002920Z
UID:2067-1434049200-1434054600@kashima-sports.com
SUMMARY:スポーツ教室
DESCRIPTION:小学生を対象としたスポーツ教室 \n毎週木曜日開催！週替わりで様々なスポーツを体験し、これからのスポーツ活動につながる教室となっています。 \n内容は、第１木曜日：ドッジボール、第２木曜日：野球、第３木曜日：バレーボール、第４木曜日：サッカー、第５木曜日：体操（跳び箱、平均台、マット運動など） \n年に数回のお楽しみ会も予定しています。 \n  \n\n\n\n日　時：\n平成２７年５月２８日（木）～平成２７年３月２４日\n午後７時００分～８時３０分　※１時間３０分\n\n\n会　場：\n千倉体育館\n\n\n対　象：\n小学生（１～６年生）\n\n\n参加費：\n２，０００円（前期１，０００円、後期１，０００円）\n※但し、かしま元気スポーツクラブ会員登録及びスポーツ保険加入が必要です。\n\n\n\n                        Tweet
URL:http://kashima-sports.com/event-single/%e3%82%b9%e3%83%9d%e3%83%bc%e3%83%84%e6%95%99%e5%ae%a4-82
END:VEVENT
BEGIN:VEVENT
DTSTART;TZID=Asia/Tokyo:20150611T083000
DTEND;TZID=Asia/Tokyo:20150611T120000
DTSTAMP:20260425T112851
CREATED:20150430T150023Z
LAST-MODIFIED:20150526T010903Z
UID:2078-1434011400-1434024000@kashima-sports.com
SUMMARY:パークゴルフ教室（前期）
DESCRIPTION:パークゴルフの初心者、初級者を対象としたパークゴルフ教室 \n前期の開催期間は、６月４日、１１日、１８日、２５日、７月２日の毎週木曜日（計５日間） \n会場は、相馬市の相馬光陽パークゴルフ場。 \n午前９時～１１時３０分までの２時間３０分。 \nパークゴルフ公認指導員、アドバイザーの指導で、パークゴルフの基礎から競技ルール、エチケットを学べます。 \n定員は３０名程度 \n                        Tweet
URL:http://kashima-sports.com/event-single/%e3%83%91%e3%83%bc%e3%82%af%e3%82%b4%e3%83%ab%e3%83%95%e6%95%99%e5%ae%a4%ef%bc%88%e5%89%8d%e6%9c%9f%ef%bc%89-2
END:VEVENT
BEGIN:VEVENT
DTSTART;TZID=Asia/Tokyo:20150607T090000
DTEND;TZID=Asia/Tokyo:20150607T170000
DTSTAMP:20260425T112851
CREATED:20150430T150046Z
LAST-MODIFIED:20150526T005645Z
UID:2071-1433667600-1433696400@kashima-sports.com
SUMMARY:バドミントン大会
DESCRIPTION:今年で３回目の開催となるかしま元気スポーツクラブ杯バドミントン大会。\nかしま元気スポーツクラブ会員の他、南相馬市鹿島区で活動されている方などを対象とした大会です。 \n  \n\n\n\n日　　時\n６月７日（日）\n午前９時開会\n\n\n会　　場\n小川町体育館（原町区）\n\n\n参加資格\n①かしま元気スポーツクラブ会員（又は会員登録予定の方）\n②鹿島区内に在住、又は通勤・通学している方\n③鹿島区内で練習している方\n\n\n種　　目\n・シングルス（中学２年生以下）\n・ダブルス（親子・男女・高校生同士など、どんな組み合わせも可）\n\n\n参加費\n○小学生以下（会員）　４００円　（非会員）　５００円\n○中・高校生（会員）　８００円　（非会員）１０００円\n○一　　　般（会員）１２００円　（非会員）１５００円\n\n\n\n                        Tweet
URL:http://kashima-sports.com/event-single/%e3%83%90%e3%83%89%e3%83%9f%e3%83%b3%e3%83%88%e3%83%b3%e5%a4%a7%e4%bc%9a-3
END:VEVENT
BEGIN:VEVENT
DTSTART;TZID=Asia/Tokyo:20150604T190000
DTEND;TZID=Asia/Tokyo:20150604T203000
DTSTAMP:20260425T112851
CREATED:20150526T002743Z
LAST-MODIFIED:20150526T002743Z
UID:2066-1433444400-1433449800@kashima-sports.com
SUMMARY:スポーツ教室
DESCRIPTION:小学生を対象としたスポーツ教室 \n毎週木曜日開催！週替わりで様々なスポーツを体験し、これからのスポーツ活動につながる教室となっています。 \n内容は、第１木曜日：ドッジボール、第２木曜日：野球、第３木曜日：バレーボール、第４木曜日：サッカー、第５木曜日：体操（跳び箱、平均台、マット運動など） \n年に数回のお楽しみ会も予定しています。 \n  \n\n\n\n日　時：\n平成２７年５月２８日（木）～平成２７年３月２４日\n午後７時００分～８時３０分　※１時間３０分\n\n\n会　場：\n千倉体育館\n\n\n対　象：\n小学生（１～６年生）\n\n\n参加費：\n２，０００円（前期１，０００円、後期１，０００円）\n※但し、かしま元気スポーツクラブ会員登録及びスポーツ保険加入が必要です。\n\n\n\n                        Tweet
URL:http://kashima-sports.com/event-single/%e3%82%b9%e3%83%9d%e3%83%bc%e3%83%84%e6%95%99%e5%ae%a4-81
END:VEVENT
BEGIN:VEVENT
DTSTART;TZID=Asia/Tokyo:20150604T083000
DTEND;TZID=Asia/Tokyo:20150604T120000
DTSTAMP:20260425T112851
CREATED:20150430T150045Z
LAST-MODIFIED:20150526T010804Z
UID:2077-1433406600-1433419200@kashima-sports.com
SUMMARY:パークゴルフ教室（前期）
DESCRIPTION:パークゴルフの初心者、初級者を対象としたパークゴルフ教室 \n前期の開催期間は、６月４日、１１日、１８日、２５日、７月２日の毎週木曜日（計５日間） \n会場は、相馬市の相馬光陽パークゴルフ場。 \n午前９時～１１時３０分までの２時間３０分。 \nパークゴルフ公認指導員、アドバイザーの指導で、パークゴルフの基礎から競技ルール、エチケットを学べます。 \n定員は３０名程度 \n                        Tweet
URL:http://kashima-sports.com/event-single/%e3%83%91%e3%83%bc%e3%82%af%e3%82%b4%e3%83%ab%e3%83%95%e6%95%99%e5%ae%a4%ef%bc%88%e5%89%8d%e6%9c%9f%ef%bc%89
END:VEVENT
BEGIN:VEVENT
DTSTART;TZID=Asia/Tokyo:20150601T190000
DTEND;TZID=Asia/Tokyo:20150601T210000
DTSTAMP:20260425T112851
CREATED:20150430T150045Z
LAST-MODIFIED:20150526T012735Z
UID:2084-1433185200-1433192400@kashima-sports.com
SUMMARY:バドミントン教室
DESCRIPTION:スポーツ振興くじ（toto）助成事業。 \n年間を通して開催するバドミントン教室。 \n  \n\n\n\n開催日\n毎月第１、第３月曜日開催 \n（初回の５月１１日のみ第２月曜日）\n\n\n開催時間\n午後７時～９時　※２時間\n\n\n場　所\n千倉体育館\n\n\n募集人数\n２０名程度　（※中学生以上の初心者、初級者）\n\n\n参加費\n２００円／回 ※但し、かしま元気スポーツクラブ会員登録が必要\n\n\n\n                        Tweet
URL:http://kashima-sports.com/event-single/%e3%83%90%e3%83%89%e3%83%9f%e3%83%b3%e3%83%88%e3%83%b3%e6%95%99%e5%ae%a4-6
END:VEVENT
BEGIN:VEVENT
DTSTART;TZID=Asia/Tokyo:20150529T090000
DTEND;TZID=Asia/Tokyo:20150529T170000
DTSTAMP:20260425T112851
CREATED:20150430T150030Z
LAST-MODIFIED:20150526T003517Z
UID:2070-1432890000-1432918800@kashima-sports.com
SUMMARY:軽登山教室（鹿狼山）
DESCRIPTION:かしま元気スポーツクラブ登山教室第１弾として、新地町、丸森町にまたがる鹿狼山での登山教室。\n初心者・経験者、男女問わず参加できる教室です。 \n                        Tweet
URL:http://kashima-sports.com/event-single/%e8%bb%bd%e7%99%bb%e5%b1%b1%e6%95%99%e5%ae%a4%ef%bc%88%e9%b9%bf%e7%8b%bc%e5%b1%b1%ef%bc%89
END:VEVENT
BEGIN:VEVENT
DTSTART;TZID=Asia/Tokyo:20150528T190000
DTEND;TZID=Asia/Tokyo:20150528T203000
DTSTAMP:20260425T112851
CREATED:20150514T150019Z
LAST-MODIFIED:20150526T002339Z
UID:2065-1432839600-1432845000@kashima-sports.com
SUMMARY:スポーツ教室
DESCRIPTION:小学生を対象としたスポーツ教室 \n毎週木曜日開催！週替わりで様々なスポーツを体験し、これからのスポーツ活動につながる教室となっています。 \n内容は、第１木曜日：ドッジボール、第２木曜日：野球、第３木曜日：バレーボール、第４木曜日：サッカー、第５木曜日：体操（跳び箱、平均台、マット運動など） \n年に数回のお楽しみ会も予定しています。 \n  \n\n\n\n日　時：\n平成２７年５月２８日（木）～平成２７年３月２４日\n午後７時００分～８時３０分　※１時間３０分\n\n\n会　場：\n千倉体育館\n\n\n対　象：\n小学生（１～６年生）\n\n\n参加費：\n２，０００円（前期１，０００円、後期１，０００円）\n※但し、かしま元気スポーツクラブ会員登録及びスポーツ保険加入が必要です。\n\n\n\n                        Tweet
URL:http://kashima-sports.com/event-single/%e3%82%b9%e3%83%9d%e3%83%bc%e3%83%84%e6%95%99%e5%ae%a4-72
END:VEVENT
BEGIN:VEVENT
DTSTART;TZID=Asia/Tokyo:20150523T150000
DTEND;TZID=Asia/Tokyo:20150523T170000
DTSTAMP:20260425T112851
CREATED:20150331T150019Z
LAST-MODIFIED:20150521T081554Z
UID:2062-1432393200-1432400400@kashima-sports.com
SUMMARY:テニス（ソフトテニス）教室
DESCRIPTION:初心者から経験者、子どもから大人まで参加できる、基礎からテニスを学べる教室です。 \n一緒にテニスを楽しみましょう♪ \n  \n\n\n\n日　時\n平成２７年４月１１日（土）～平成２８年３月２６日までの第２、４土曜日 １５時～１７時（２時間）\n\n\n場　所\n千倉体育館\n\n\n参加費\n２００円/回 ※ただし、かしま元気スポーツクラブ会員登録が必要です\n\n\n\n                        Tweet
URL:http://kashima-sports.com/event-single/%e3%83%86%e3%83%8b%e3%82%b9%ef%bc%88%e3%82%bd%e3%83%95%e3%83%88%e3%83%86%e3%83%8b%e3%82%b9%ef%bc%89%e6%95%99%e5%ae%a4-4
END:VEVENT
BEGIN:VEVENT
DTSTART;TZID=Asia/Tokyo:20150518T190000
DTEND;TZID=Asia/Tokyo:20150518T210000
DTSTAMP:20260425T112851
CREATED:20150331T150049Z
LAST-MODIFIED:20150526T012631Z
UID:2083-1431975600-1431982800@kashima-sports.com
SUMMARY:バドミントン教室
DESCRIPTION:スポーツ振興くじ（toto）助成事業。 \n年間を通して開催するバドミントン教室。 \n  \n\n\n\n開催日\n毎月第１、第３月曜日開催 \n（初回の５月１１日のみ第２月曜日）\n\n\n開催時間\n午後７時～９時　※２時間\n\n\n場　所\n千倉体育館\n\n\n募集人数\n２０名程度　（※中学生以上の初心者、初級者）\n\n\n参加費\n２００円／回 ※但し、かしま元気スポーツクラブ会員登録が必要\n\n\n\n                        Tweet
URL:http://kashima-sports.com/event-single/%e3%83%90%e3%83%89%e3%83%9f%e3%83%b3%e3%83%88%e3%83%b3%e6%95%99%e5%ae%a4-5
END:VEVENT
BEGIN:VEVENT
DTSTART;TZID=Asia/Tokyo:20150511T190000
DTEND;TZID=Asia/Tokyo:20150511T210000
DTSTAMP:20260425T112851
CREATED:20150331T150018Z
LAST-MODIFIED:20150526T012535Z
UID:2082-1431370800-1431378000@kashima-sports.com
SUMMARY:バドミントン教室
DESCRIPTION:スポーツ振興くじ（toto）助成事業。 \n年間を通して開催するバドミントン教室。 \n  \n\n\n\n開催日\n毎月第１、第３月曜日開催（初回の５月１１日のみ第２月曜日）\n\n\n開催時間\n午後７時～９時　※２時間\n\n\n場　所\n千倉体育館\n\n\n募集人数\n２０名程度　（※中学生以上の初心者、初級者）\n\n\n参加費\n２００円／回\n※但し、かしま元気スポーツクラブ会員登録が必要\n\n\n\n                        Tweet
URL:http://kashima-sports.com/event-single/%e3%83%90%e3%83%89%e3%83%9f%e3%83%b3%e3%83%88%e3%83%b3%e6%95%99%e5%ae%a4-4
END:VEVENT
BEGIN:VEVENT
DTSTART;TZID=Asia/Tokyo:20150509T150000
DTEND;TZID=Asia/Tokyo:20150509T170000
DTSTAMP:20260425T112851
CREATED:20150331T150033Z
LAST-MODIFIED:20150521T081512Z
UID:2061-1431183600-1431190800@kashima-sports.com
SUMMARY:テニス（ソフトテニス）教室
DESCRIPTION:初心者から経験者、子どもから大人まで参加できる、基礎からテニスを学べる教室です。 \n一緒にテニスを楽しみましょう♪ \n  \n\n\n\n日　時\n平成２７年４月１１日（土）～平成２８年３月２６日までの第２、４土曜日 １５時～１７時（２時間）\n\n\n場　所\n千倉体育館\n\n\n参加費\n２００円/回 ※ただし、かしま元気スポーツクラブ会員登録が必要です\n\n\n\n                        Tweet
URL:http://kashima-sports.com/event-single/%e3%83%86%e3%83%8b%e3%82%b9%ef%bc%88%e3%82%bd%e3%83%95%e3%83%88%e3%83%86%e3%83%8b%e3%82%b9%ef%bc%89%e6%95%99%e5%ae%a4-3
END:VEVENT
BEGIN:VEVENT
DTSTART;TZID=Asia/Tokyo:20150425T150000
DTEND;TZID=Asia/Tokyo:20150425T170000
DTSTAMP:20260425T112851
CREATED:20150331T150011Z
LAST-MODIFIED:20150521T081402Z
UID:2060-1429974000-1429981200@kashima-sports.com
SUMMARY:テニス（ソフトテニス）教室
DESCRIPTION:初心者から経験者、子どもから大人まで参加できる、基礎からテニスを学べる教室です。 \n一緒にテニスを楽しみましょう♪ \n  \n\n\n\n日　時\n平成２７年４月１１日（土）～平成２８年３月２６日までの第２、４土曜日 １５時～１７時（２時間）\n\n\n場　所\n千倉体育館\n\n\n参加費\n２００円/回 ※ただし、かしま元気スポーツクラブ会員登録が必要です\n\n\n\n                        Tweet
URL:http://kashima-sports.com/event-single/%e3%83%86%e3%83%8b%e3%82%b9%ef%bc%88%e3%82%bd%e3%83%95%e3%83%88%e3%83%86%e3%83%8b%e3%82%b9%ef%bc%89%e6%95%99%e5%ae%a4-2
END:VEVENT
BEGIN:VEVENT
DTSTART;TZID=Asia/Tokyo:20150411T150000
DTEND;TZID=Asia/Tokyo:20150411T170000
DTSTAMP:20260425T112851
CREATED:20150331T150058Z
LAST-MODIFIED:20150521T081254Z
UID:2059-1428764400-1428771600@kashima-sports.com
SUMMARY:テニス（ソフトテニス）教室
DESCRIPTION:初心者から経験者、子どもから大人まで参加できる、基礎からテニスを学べる教室です。 \n一緒にテニスを楽しみましょう♪ \n  \n\n\n\n日　時\n平成２７年４月１１日（土）～平成２８年３月２６日までの第２、４土曜日\n１５時～１７時（２時間）\n\n\n場　所\n千倉体育館\n\n\n参加費\n２００円/回\n※ただし、かしま元気スポーツクラブ会員登録が必要です\n\n\n\n                        Tweet
URL:http://kashima-sports.com/event-single/%e3%83%86%e3%83%8b%e3%82%b9%ef%bc%88%e3%82%bd%e3%83%95%e3%83%88%e3%83%86%e3%83%8b%e3%82%b9%ef%bc%89%e6%95%99%e5%ae%a4
END:VEVENT
BEGIN:VEVENT
DTSTART;TZID=Asia/Tokyo:20150328T150000
DTEND;TZID=Asia/Tokyo:20150328T170000
DTSTAMP:20260425T112851
CREATED:20150115T004136Z
LAST-MODIFIED:20150115T004136Z
UID:1960-1427554800-1427562000@kashima-sports.com
SUMMARY:テニス・バウンドテニス教室
DESCRIPTION:初心者から経験者、子どもから大人まで参加できる、基礎からテニスを学べる教室です。 \n一緒にテニスを楽しみましょう♪ \n  \n日　時　平成２6年４月１2日（土）～平成２7年３月28日までの第２、４土曜日 \n１５時～１７時　（２時間） \n場　所　千倉体育館 \n                        Tweet
URL:http://kashima-sports.com/event-single/%e3%83%86%e3%83%8b%e3%82%b9%e3%83%bb%e3%83%90%e3%82%a6%e3%83%b3%e3%83%89%e3%83%86%e3%83%8b%e3%82%b9%e6%95%99%e5%ae%a4-16
END:VEVENT
BEGIN:VEVENT
DTSTART;TZID=Asia/Tokyo:20150326T190000
DTEND;TZID=Asia/Tokyo:20150326T203000
DTSTAMP:20260425T112851
CREATED:20150115T012828Z
LAST-MODIFIED:20150115T012828Z
UID:1986-1427396400-1427401800@kashima-sports.com
SUMMARY:スポーツ教室
DESCRIPTION:小学生を対象としたスポーツ教室 \n毎週木曜日開催！週替わりで様々なスポーツを体験し、これからのスポーツ活動につながる教室となっています。 \n内容は、第１木曜日：ドッジボール、第２木曜日：野球、第３木曜日：バレーボール、第４木曜日：サッカー、第５木曜日：体操（跳び箱、平均台、マット運動など） \n年に数回のお楽しみ会も予定しています。 \n  \n\n\n\n日　時：\n平成２６年５月２２日（木）～平成２７年３月午後７時００分～８時３０分　※１時間３０分\n\n\n会　場：\n千倉体育館\n\n\n参加費：\n２，０００円（前期１，０００円、後期１，０００円） ※但し、かしま元気スポーツクラブ会員登録及びスポーツ保険加入が必要です。\n\n\n\n                        Tweet
URL:http://kashima-sports.com/event-single/%e3%82%b9%e3%83%9d%e3%83%bc%e3%83%84%e6%95%99%e5%ae%a4-80
END:VEVENT
BEGIN:VEVENT
DTSTART;TZID=Asia/Tokyo:20150319T190000
DTEND;TZID=Asia/Tokyo:20150319T203000
DTSTAMP:20260425T112851
CREATED:20150115T012753Z
LAST-MODIFIED:20150115T012753Z
UID:1985-1426791600-1426797000@kashima-sports.com
SUMMARY:スポーツ教室
DESCRIPTION:小学生を対象としたスポーツ教室 \n毎週木曜日開催！週替わりで様々なスポーツを体験し、これからのスポーツ活動につながる教室となっています。 \n内容は、第１木曜日：ドッジボール、第２木曜日：野球、第３木曜日：バレーボール、第４木曜日：サッカー、第５木曜日：体操（跳び箱、平均台、マット運動など） \n年に数回のお楽しみ会も予定しています。 \n  \n\n\n\n日　時：\n平成２６年５月２２日（木）～平成２７年３月午後７時００分～８時３０分　※１時間３０分\n\n\n会　場：\n千倉体育館\n\n\n参加費：\n２，０００円（前期１，０００円、後期１，０００円） ※但し、かしま元気スポーツクラブ会員登録及びスポーツ保険加入が必要です。\n\n\n\n                        Tweet
URL:http://kashima-sports.com/event-single/%e3%82%b9%e3%83%9d%e3%83%bc%e3%83%84%e6%95%99%e5%ae%a4-79
END:VEVENT
BEGIN:VEVENT
DTSTART;TZID=Asia/Tokyo:20150314T150000
DTEND;TZID=Asia/Tokyo:20150314T170000
DTSTAMP:20260425T112851
CREATED:20150115T004053Z
LAST-MODIFIED:20150115T004053Z
UID:1959-1426345200-1426352400@kashima-sports.com
SUMMARY:テニス・バウンドテニス教室
DESCRIPTION:初心者から経験者、子どもから大人まで参加できる、基礎からテニスを学べる教室です。 \n一緒にテニスを楽しみましょう♪ \n  \n日　時　平成２6年４月１2日（土）～平成２7年３月28日までの第２、４土曜日 \n１５時～１７時　（２時間） \n場　所　千倉体育館 \n                        Tweet
URL:http://kashima-sports.com/event-single/%e3%83%86%e3%83%8b%e3%82%b9%e3%83%bb%e3%83%90%e3%82%a6%e3%83%b3%e3%83%89%e3%83%86%e3%83%8b%e3%82%b9%e6%95%99%e5%ae%a4-15
END:VEVENT
BEGIN:VEVENT
DTSTART;TZID=Asia/Tokyo:20150312T190000
DTEND;TZID=Asia/Tokyo:20150312T203000
DTSTAMP:20260425T112851
CREATED:20150115T012714Z
LAST-MODIFIED:20150115T012714Z
UID:1984-1426186800-1426192200@kashima-sports.com
SUMMARY:スポーツ教室
DESCRIPTION:小学生を対象としたスポーツ教室 \n毎週木曜日開催！週替わりで様々なスポーツを体験し、これからのスポーツ活動につながる教室となっています。 \n内容は、第１木曜日：ドッジボール、第２木曜日：野球、第３木曜日：バレーボール、第４木曜日：サッカー、第５木曜日：体操（跳び箱、平均台、マット運動など） \n年に数回のお楽しみ会も予定しています。 \n  \n\n\n\n日　時：\n平成２６年５月２２日（木）～平成２７年３月午後７時００分～８時３０分　※１時間３０分\n\n\n会　場：\n千倉体育館\n\n\n参加費：\n２，０００円（前期１，０００円、後期１，０００円） ※但し、かしま元気スポーツクラブ会員登録及びスポーツ保険加入が必要です。\n\n\n\n                        Tweet
URL:http://kashima-sports.com/event-single/%e3%82%b9%e3%83%9d%e3%83%bc%e3%83%84%e6%95%99%e5%ae%a4-78
END:VEVENT
BEGIN:VEVENT
DTSTART;TZID=Asia/Tokyo:20150305T190000
DTEND;TZID=Asia/Tokyo:20150305T203000
DTSTAMP:20260425T112851
CREATED:20150115T012625Z
LAST-MODIFIED:20150115T012625Z
UID:1983-1425582000-1425587400@kashima-sports.com
SUMMARY:スポーツ教室
DESCRIPTION:小学生を対象としたスポーツ教室 \n毎週木曜日開催！週替わりで様々なスポーツを体験し、これからのスポーツ活動につながる教室となっています。 \n内容は、第１木曜日：ドッジボール、第２木曜日：野球、第３木曜日：バレーボール、第４木曜日：サッカー、第５木曜日：体操（跳び箱、平均台、マット運動など） \n年に数回のお楽しみ会も予定しています。 \n  \n\n\n\n日　時：\n平成２６年５月２２日（木）～平成２７年３月午後７時００分～８時３０分　※１時間３０分\n\n\n会　場：\n千倉体育館\n\n\n参加費：\n２，０００円（前期１，０００円、後期１，０００円） ※但し、かしま元気スポーツクラブ会員登録及びスポーツ保険加入が必要です。\n\n\n\n                        Tweet
URL:http://kashima-sports.com/event-single/%e3%82%b9%e3%83%9d%e3%83%bc%e3%83%84%e6%95%99%e5%ae%a4-77
END:VEVENT
BEGIN:VEVENT
DTSTART;TZID=Asia/Tokyo:20150228T150000
DTEND;TZID=Asia/Tokyo:20150228T170000
DTSTAMP:20260425T112851
CREATED:20150115T004014Z
LAST-MODIFIED:20150115T004014Z
UID:1958-1425135600-1425142800@kashima-sports.com
SUMMARY:テニス・バウンドテニス教室
DESCRIPTION:初心者から経験者、子どもから大人まで参加できる、基礎からテニスを学べる教室です。 \n一緒にテニスを楽しみましょう♪ \n  \n日　時　平成２6年４月１2日（土）～平成２7年３月28日までの第２、４土曜日 \n１５時～１７時　（２時間） \n場　所　千倉体育館 \n                        Tweet
URL:http://kashima-sports.com/event-single/%e3%83%86%e3%83%8b%e3%82%b9%e3%83%bb%e3%83%90%e3%82%a6%e3%83%b3%e3%83%89%e3%83%86%e3%83%8b%e3%82%b9%e6%95%99%e5%ae%a4-14
END:VEVENT
BEGIN:VEVENT
DTSTART;TZID=Asia/Tokyo:20150226T190000
DTEND;TZID=Asia/Tokyo:20150226T203000
DTSTAMP:20260425T112851
CREATED:20150115T012523Z
LAST-MODIFIED:20150115T012523Z
UID:1982-1424977200-1424982600@kashima-sports.com
SUMMARY:スポーツ教室
DESCRIPTION:小学生を対象としたスポーツ教室 \n毎週木曜日開催！週替わりで様々なスポーツを体験し、これからのスポーツ活動につながる教室となっています。 \n内容は、第１木曜日：ドッジボール、第２木曜日：野球、第３木曜日：バレーボール、第４木曜日：サッカー、第５木曜日：体操（跳び箱、平均台、マット運動など） \n年に数回のお楽しみ会も予定しています。 \n  \n\n\n\n日　時：\n平成２６年５月２２日（木）～平成２７年３月午後７時００分～８時３０分　※１時間３０分\n\n\n会　場：\n千倉体育館\n\n\n参加費：\n２，０００円（前期１，０００円、後期１，０００円） ※但し、かしま元気スポーツクラブ会員登録及びスポーツ保険加入が必要です。\n\n\n\n                        Tweet
URL:http://kashima-sports.com/event-single/%e3%82%b9%e3%83%9d%e3%83%bc%e3%83%84%e6%95%99%e5%ae%a4-76
END:VEVENT
BEGIN:VEVENT
DTSTART;TZID=Asia/Tokyo:20150219T190000
DTEND;TZID=Asia/Tokyo:20150219T203000
DTSTAMP:20260425T112851
CREATED:20150115T012442Z
LAST-MODIFIED:20150115T012442Z
UID:1981-1424372400-1424377800@kashima-sports.com
SUMMARY:スポーツ教室
DESCRIPTION:小学生を対象としたスポーツ教室 \n毎週木曜日開催！週替わりで様々なスポーツを体験し、これからのスポーツ活動につながる教室となっています。 \n内容は、第１木曜日：ドッジボール、第２木曜日：野球、第３木曜日：バレーボール、第４木曜日：サッカー、第５木曜日：体操（跳び箱、平均台、マット運動など） \n年に数回のお楽しみ会も予定しています。 \n  \n\n\n\n日　時：\n平成２６年５月２２日（木）～平成２７年３月午後７時００分～８時３０分　※１時間３０分\n\n\n会　場：\n千倉体育館\n\n\n参加費：\n２，０００円（前期１，０００円、後期１，０００円） ※但し、かしま元気スポーツクラブ会員登録及びスポーツ保険加入が必要です。\n\n\n\n                        Tweet
URL:http://kashima-sports.com/event-single/%e3%82%b9%e3%83%9d%e3%83%bc%e3%83%84%e6%95%99%e5%ae%a4-75
END:VEVENT
END:VCALENDAR