BEGIN:VCALENDAR
VERSION:2.0
PRODID:-//かしま元気スポーツクラブ | 福島県南相馬市鹿島区 - ECPv6.15.12.2//NONSGML v1.0//EN
CALSCALE:GREGORIAN
METHOD:PUBLISH
X-WR-CALNAME:かしま元気スポーツクラブ | 福島県南相馬市鹿島区
X-ORIGINAL-URL:http://kashima-sports.com
X-WR-CALDESC:かしま元気スポーツクラブ | 福島県南相馬市鹿島区 のイベント
REFRESH-INTERVAL;VALUE=DURATION:PT1H
X-Robots-Tag:noindex
X-PUBLISHED-TTL:PT1H
BEGIN:VTIMEZONE
TZID:Asia/Tokyo
BEGIN:STANDARD
TZOFFSETFROM:+0900
TZOFFSETTO:+0900
TZNAME:JST
DTSTART:20140101T000000
END:STANDARD
END:VTIMEZONE
BEGIN:VEVENT
DTSTART;TZID=Asia/Tokyo:20151115T090000
DTEND;TZID=Asia/Tokyo:20151115T120000
DTSTAMP:20260424T202522
CREATED:20150831T150022Z
LAST-MODIFIED:20151102T072614Z
UID:2377-1447578000-1447588800@kashima-sports.com
SUMMARY:ディスクゴルフ教室
DESCRIPTION:これからディスクゴルフを始めたい方、技術を学びたい方に、公認の指導員が、競技の基礎やルール、エチケット、マナーを分かりやすくご指導いたします。 \n日　時　９月２７日、１０月１８日、１１月８日、１１月１５日、１１月２９日　※計５回 \n場　所　桜平山運動公園　※雨天時は千倉体育館 \n対　象　小学生以上 \n募集人数　３０名程度 \n                        Tweet
URL:http://kashima-sports.com/event-single/%e3%83%87%e3%82%a3%e3%82%b9%e3%82%af%e3%82%b4%e3%83%ab%e3%83%95%e6%95%99%e5%ae%a4-4
END:VEVENT
BEGIN:VEVENT
DTSTART;TZID=Asia/Tokyo:20151114T190000
DTEND;TZID=Asia/Tokyo:20151114T210000
DTSTAMP:20260424T202522
CREATED:20150914T150002Z
LAST-MODIFIED:20151102T070649Z
UID:2371-1447527600-1447534800@kashima-sports.com
SUMMARY:卓球教室
DESCRIPTION:初心者から経験者まで参加出来る卓球教室です。 \n一緒にピンポンを楽しみましょう！！ \n日　時　１０月１７日～１１月１４日　午後７時～９時　※各土曜日、５回 \n場　所　千倉体育館 \n募集人数　２０名程度 \n対　象　小学生以上 \n                        Tweet
URL:http://kashima-sports.com/event-single/%e5%8d%93%e7%90%83%e6%95%99%e5%ae%a4-19
END:VEVENT
BEGIN:VEVENT
DTSTART;TZID=Asia/Tokyo:20151114T150000
DTEND;TZID=Asia/Tokyo:20151114T170000
DTSTAMP:20260424T202522
CREATED:20150930T150047Z
LAST-MODIFIED:20151102T054531Z
UID:2343-1447513200-1447520400@kashima-sports.com
SUMMARY:テニス（ソフトテニス）教室
DESCRIPTION:初心者から経験者、子どもから大人まで参加できる、基礎からテニスを学べる教室です。 \n一緒にテニスを楽しみましょう♪ \n\n\n\n日　時\n平成２７年４月１１日（土）～平成２８年３月２６日までの第２、４土曜日\n１５時～１７時（２時間）\n\n\n場　所\n千倉体育館\n\n\n参加費\n２００円/回 ※ただし、かしま元気スポーツクラブ会員登録が必要です\n\n\n\n                        Tweet
URL:http://kashima-sports.com/event-single/%e3%83%86%e3%83%8b%e3%82%b9%ef%bc%88%e3%82%bd%e3%83%95%e3%83%88%e3%83%86%e3%83%8b%e3%82%b9%ef%bc%89%e6%95%99%e5%ae%a4-15
END:VEVENT
BEGIN:VEVENT
DTSTART;TZID=Asia/Tokyo:20151112T190000
DTEND;TZID=Asia/Tokyo:20151112T203000
DTSTAMP:20260424T202522
CREATED:20150930T150034Z
LAST-MODIFIED:20151102T052211Z
UID:2329-1447354800-1447360200@kashima-sports.com
SUMMARY:スポーツ教室
DESCRIPTION:小学生を対象としたスポーツ教室 \n毎週木曜日開催！週替わりで様々なスポーツを体験し、これからのスポーツ活動につながる教室となっています。 \n内容は、第１木曜日：ドッジボール、第２木曜日：野球、第３木曜日：バレーボール、第４木曜日：サッカー、第５木曜日：体操（跳び箱、平均台、マット運動など） \n年に数回のお楽しみ会も予定しています。 \n\n\n\n日 時：\n平成２７年５月２８日（木）～平成２８年３月２４日（木）\n午後７時００分～８時３０分　※１時間３０分\n\n\n会 場：\n千倉体育館\n\n\n対 象：\n小学生（１～６年生）\n\n\n参加費：\n２，０００円（前期１，０００円、後期１，０００円）\n※但し、かしま元気スポーツクラブ会員登録及びスポーツ保険加入が必要です。\n\n\n\n                        Tweet
URL:http://kashima-sports.com/event-single/%e3%82%b9%e3%83%9d%e3%83%bc%e3%83%84%e6%95%99%e5%ae%a4-103
END:VEVENT
BEGIN:VEVENT
DTSTART;TZID=Asia/Tokyo:20151108T090000
DTEND;TZID=Asia/Tokyo:20151108T120000
DTSTAMP:20260424T202522
CREATED:20150831T150023Z
LAST-MODIFIED:20151102T072513Z
UID:2376-1446973200-1446984000@kashima-sports.com
SUMMARY:ディスクゴルフ教室
DESCRIPTION:これからディスクゴルフを始めたい方、技術を学びたい方に、公認の指導員が、競技の基礎やルール、エチケット、マナーを分かりやすくご指導いたします。 \n日　時　９月２７日、１０月１８日、１１月８日、１１月１５日、１１月２９日　※計５回 \n場　所　桜平山運動公園　※雨天時は千倉体育館 \n対　象　小学生以上 \n募集人数　３０名程度 \n                        Tweet
URL:http://kashima-sports.com/event-single/%e3%83%87%e3%82%a3%e3%82%b9%e3%82%af%e3%82%b4%e3%83%ab%e3%83%95%e6%95%99%e5%ae%a4-3
END:VEVENT
BEGIN:VEVENT
DTSTART;TZID=Asia/Tokyo:20151107T190000
DTEND;TZID=Asia/Tokyo:20151107T210000
DTSTAMP:20260424T202522
CREATED:20150914T150040Z
LAST-MODIFIED:20151102T070522Z
UID:2370-1446922800-1446930000@kashima-sports.com
SUMMARY:卓球教室
DESCRIPTION:初心者から経験者まで参加出来る卓球教室です。 \n一緒にピンポンを楽しみましょう！！ \n日　時　１０月１７日～１１月１４日　午後７時～９時　※各土曜日、５回 \n場　所　千倉体育館 \n募集人数　２０名程度 \n対　象　小学生以上 \n                        Tweet
URL:http://kashima-sports.com/event-single/%e5%8d%93%e7%90%83%e6%95%99%e5%ae%a4-18
END:VEVENT
BEGIN:VEVENT
DTSTART;TZID=Asia/Tokyo:20151105T190000
DTEND;TZID=Asia/Tokyo:20151105T203000
DTSTAMP:20260424T202522
CREATED:20151001T150026Z
LAST-MODIFIED:20151102T052108Z
UID:2328-1446750000-1446755400@kashima-sports.com
SUMMARY:スポーツ教室
DESCRIPTION:小学生を対象としたスポーツ教室 \n毎週木曜日開催！週替わりで様々なスポーツを体験し、これからのスポーツ活動につながる教室となっています。 \n内容は、第１木曜日：ドッジボール、第２木曜日：野球、第３木曜日：バレーボール、第４木曜日：サッカー、第５木曜日：体操（跳び箱、平均台、マット運動など） \n年に数回のお楽しみ会も予定しています。 \n\n\n\n日 時：\n平成２７年５月２８日（木）～平成２８年３月２４日（木）\n午後７時００分～８時３０分　※１時間３０分\n\n\n会 場：\n千倉体育館\n\n\n対 象：\n小学生（１～６年生）\n\n\n参加費：\n２，０００円（前期１，０００円、後期１，０００円）\n※但し、かしま元気スポーツクラブ会員登録及びスポーツ保険加入が必要です。\n\n\n\n                        Tweet
URL:http://kashima-sports.com/event-single/%e3%82%b9%e3%83%9d%e3%83%bc%e3%83%84%e6%95%99%e5%ae%a4-102
END:VEVENT
BEGIN:VEVENT
DTSTART;TZID=Asia/Tokyo:20151102T190000
DTEND;TZID=Asia/Tokyo:20151102T210000
DTSTAMP:20260424T202522
CREATED:20150930T150023Z
LAST-MODIFIED:20151102T055908Z
UID:2351-1446490800-1446498000@kashima-sports.com
SUMMARY:バドミントン教室
DESCRIPTION:スポーツ振興くじ（toto）助成事業。 \n年間を通して開催するバドミントン教室。 \n\n\n\n開催日\n毎月第１、第３月曜日開催（初回の５月１１日のみ第２月曜日）\n\n\n開催時間\n午後７時～９時　※２時間\n\n\n場　所\n千倉体育館\n\n\n募集人数\n２０名程度　（※中学生以上の初心者、初級者）\n\n\n参加費\n２００円／回 ※但し、かしま元気スポーツクラブ会員登録が必要\n\n\n\n                        Tweet
URL:http://kashima-sports.com/event-single/%e3%83%90%e3%83%89%e3%83%9f%e3%83%b3%e3%83%88%e3%83%b3%e6%95%99%e5%ae%a4-16
END:VEVENT
BEGIN:VEVENT
DTSTART;TZID=Asia/Tokyo:20151031T190000
DTEND;TZID=Asia/Tokyo:20151031T210000
DTSTAMP:20260424T202522
CREATED:20150914T150020Z
LAST-MODIFIED:20151102T070432Z
UID:2369-1446318000-1446325200@kashima-sports.com
SUMMARY:卓球教室
DESCRIPTION:初心者から経験者まで参加出来る卓球教室です。 \n一緒にピンポンを楽しみましょう！！ \n日　時　１０月１７日～１１月１４日　午後７時～９時　※各土曜日、５回 \n場　所　千倉体育館 \n募集人数　２０名程度 \n対　象　小学生以上 \n                        Tweet
URL:http://kashima-sports.com/event-single/%e5%8d%93%e7%90%83%e6%95%99%e5%ae%a4-17
END:VEVENT
BEGIN:VEVENT
DTSTART;TZID=Asia/Tokyo:20151024T190000
DTEND;TZID=Asia/Tokyo:20151024T210000
DTSTAMP:20260424T202522
CREATED:20150914T150023Z
LAST-MODIFIED:20151102T070312Z
UID:2368-1445713200-1445720400@kashima-sports.com
SUMMARY:卓球教室
DESCRIPTION:初心者から経験者まで参加出来る卓球教室です。 \n一緒にピンポンを楽しみましょう！！ \n日　時　１０月１７日～１１月１４日　午後７時～９時　※各土曜日、５回 \n場　所　千倉体育館 \n募集人数　２０名程度 \n対　象　小学生以上 \n                        Tweet
URL:http://kashima-sports.com/event-single/%e5%8d%93%e7%90%83%e6%95%99%e5%ae%a4-16
END:VEVENT
BEGIN:VEVENT
DTSTART;TZID=Asia/Tokyo:20151024T150000
DTEND;TZID=Asia/Tokyo:20151024T170000
DTSTAMP:20260424T202522
CREATED:20150831T150032Z
LAST-MODIFIED:20151102T054427Z
UID:2342-1445698800-1445706000@kashima-sports.com
SUMMARY:テニス（ソフトテニス）教室
DESCRIPTION:初心者から経験者、子どもから大人まで参加できる、基礎からテニスを学べる教室です。 \n一緒にテニスを楽しみましょう♪ \n\n\n\n日　時\n平成２７年４月１１日（土）～平成２８年３月２６日までの第２、４土曜日\n１５時～１７時（２時間）\n\n\n場　所\n千倉体育館\n\n\n参加費\n２００円/回 ※ただし、かしま元気スポーツクラブ会員登録が必要です\n\n\n\n                        Tweet
URL:http://kashima-sports.com/event-single/%e3%83%86%e3%83%8b%e3%82%b9%ef%bc%88%e3%82%bd%e3%83%95%e3%83%88%e3%83%86%e3%83%8b%e3%82%b9%ef%bc%89%e6%95%99%e5%ae%a4-14
END:VEVENT
BEGIN:VEVENT
DTSTART;TZID=Asia/Tokyo:20151022T190000
DTEND;TZID=Asia/Tokyo:20151022T203000
DTSTAMP:20260424T202522
CREATED:20150831T150011Z
LAST-MODIFIED:20151102T052005Z
UID:2327-1445540400-1445545800@kashima-sports.com
SUMMARY:スポーツ教室
DESCRIPTION:小学生を対象としたスポーツ教室 \n毎週木曜日開催！週替わりで様々なスポーツを体験し、これからのスポーツ活動につながる教室となっています。 \n内容は、第１木曜日：ドッジボール、第２木曜日：野球、第３木曜日：バレーボール、第４木曜日：サッカー、第５木曜日：体操（跳び箱、平均台、マット運動など） \n年に数回のお楽しみ会も予定しています。 \n\n\n\n日 時：\n平成２７年５月２８日（木）～平成２８年３月２４日（木）\n午後７時００分～８時３０分　※１時間３０分\n\n\n会 場：\n千倉体育館\n\n\n対 象：\n小学生（１～６年生）\n\n\n参加費：\n２，０００円（前期１，０００円、後期１，０００円）\n※但し、かしま元気スポーツクラブ会員登録及びスポーツ保険加入が必要です。\n\n\n\n                        Tweet
URL:http://kashima-sports.com/event-single/%e3%82%b9%e3%83%9d%e3%83%bc%e3%83%84%e6%95%99%e5%ae%a4-101
END:VEVENT
BEGIN:VEVENT
DTSTART;TZID=Asia/Tokyo:20151019T190000
DTEND;TZID=Asia/Tokyo:20151019T210000
DTSTAMP:20260424T202522
CREATED:20150831T150012Z
LAST-MODIFIED:20151102T055808Z
UID:2350-1445281200-1445288400@kashima-sports.com
SUMMARY:バドミントン教室
DESCRIPTION:スポーツ振興くじ（toto）助成事業。 \n年間を通して開催するバドミントン教室。 \n\n\n\n開催日\n毎月第１、第３月曜日開催（初回の５月１１日のみ第２月曜日）\n\n\n開催時間\n午後７時～９時　※２時間\n\n\n場　所\n千倉体育館\n\n\n募集人数\n２０名程度　（※中学生以上の初心者、初級者）\n\n\n参加費\n２００円／回 ※但し、かしま元気スポーツクラブ会員登録が必要\n\n\n\n                        Tweet
URL:http://kashima-sports.com/event-single/%e3%83%90%e3%83%89%e3%83%9f%e3%83%b3%e3%83%88%e3%83%b3%e6%95%99%e5%ae%a4-15
END:VEVENT
BEGIN:VEVENT
DTSTART;TZID=Asia/Tokyo:20151018T090000
DTEND;TZID=Asia/Tokyo:20151018T120000
DTSTAMP:20260424T202522
CREATED:20150831T150012Z
LAST-MODIFIED:20151102T072414Z
UID:2375-1445158800-1445169600@kashima-sports.com
SUMMARY:ディスクゴルフ教室
DESCRIPTION:これからディスクゴルフを始めたい方、技術を学びたい方に、公認の指導員が、競技の基礎やルール、エチケット、マナーを分かりやすくご指導いたします。 \n日　時　９月２７日、１０月１８日、１１月８日、１１月１５日、１１月２９日　※計５回 \n場　所　桜平山運動公園　※雨天時は千倉体育館 \n対　象　小学生以上 \n募集人数　３０名程度 \n                        Tweet
URL:http://kashima-sports.com/event-single/%e3%83%87%e3%82%a3%e3%82%b9%e3%82%af%e3%82%b4%e3%83%ab%e3%83%95%e6%95%99%e5%ae%a4-2
END:VEVENT
BEGIN:VEVENT
DTSTART;TZID=Asia/Tokyo:20151017T190000
DTEND;TZID=Asia/Tokyo:20151017T210000
DTSTAMP:20260424T202522
CREATED:20150914T150038Z
LAST-MODIFIED:20151102T070217Z
UID:2367-1445108400-1445115600@kashima-sports.com
SUMMARY:卓球教室
DESCRIPTION:初心者から経験者まで参加出来る卓球教室です。 \n一緒にピンポンを楽しみましょう！！ \n  \n日　時　１０月１７日～１１月１４日　午後７時～９時　※各土曜日、５回 \n場　所　千倉体育館 \n募集人数　２０名程度 \n対　象　小学生以上 \n                        Tweet
URL:http://kashima-sports.com/event-single/%e5%8d%93%e7%90%83%e6%95%99%e5%ae%a4-15
END:VEVENT
BEGIN:VEVENT
DTSTART;TZID=Asia/Tokyo:20151015T190000
DTEND;TZID=Asia/Tokyo:20151015T203000
DTSTAMP:20260424T202522
CREATED:20150831T150010Z
LAST-MODIFIED:20151102T051904Z
UID:2326-1444935600-1444941000@kashima-sports.com
SUMMARY:スポーツ教室
DESCRIPTION:小学生を対象としたスポーツ教室 \n毎週木曜日開催！週替わりで様々なスポーツを体験し、これからのスポーツ活動につながる教室となっています。 \n内容は、第１木曜日：ドッジボール、第２木曜日：野球、第３木曜日：バレーボール、第４木曜日：サッカー、第５木曜日：体操（跳び箱、平均台、マット運動など） \n年に数回のお楽しみ会も予定しています。 \n\n\n\n日 時：\n平成２７年５月２８日（木）～平成２８年３月２４日（木）\n午後７時００分～８時３０分　※１時間３０分\n\n\n会 場：\n千倉体育館\n\n\n対 象：\n小学生（１～６年生）\n\n\n参加費：\n２，０００円（前期１，０００円、後期１，０００円）\n※但し、かしま元気スポーツクラブ会員登録及びスポーツ保険加入が必要です。\n\n\n\n                        Tweet
URL:http://kashima-sports.com/event-single/%e3%82%b9%e3%83%9d%e3%83%bc%e3%83%84%e6%95%99%e5%ae%a4-100
END:VEVENT
BEGIN:VEVENT
DTSTART;TZID=Asia/Tokyo:20151011T080000
DTEND;TZID=Asia/Tokyo:20151011T120000
DTSTAMP:20260424T202522
CREATED:20150914T150043Z
LAST-MODIFIED:20151102T065922Z
UID:2366-1444550400-1444564800@kashima-sports.com
SUMMARY:パークゴルフ大会
DESCRIPTION:スポーツ振興くじ（toto）助成事業 \n  \n日にち：１０月１１日（日）　※雨天決行 \n時　間：午前８時受付　８時３０分開会式 \n会　場：相馬光陽パークゴルフ場 \n対　象：鹿島区内在住の方（仮設住宅入居者含む） \n募集人員：１４０名　※先着 \n  \n詳しくは、かしま元気スポーツクラブ（0244-46-1215）まで \n                        Tweet
URL:http://kashima-sports.com/event-single/%e3%83%91%e3%83%bc%e3%82%af%e3%82%b4%e3%83%ab%e3%83%95%e5%a4%a7%e4%bc%9a-2
END:VEVENT
BEGIN:VEVENT
DTSTART;TZID=Asia/Tokyo:20151010T150000
DTEND;TZID=Asia/Tokyo:20151010T170000
DTSTAMP:20260424T202522
CREATED:20150831T150020Z
LAST-MODIFIED:20151102T054325Z
UID:2341-1444489200-1444496400@kashima-sports.com
SUMMARY:テニス（ソフトテニス）教室
DESCRIPTION:初心者から経験者、子どもから大人まで参加できる、基礎からテニスを学べる教室です。 \n一緒にテニスを楽しみましょう♪ \n\n\n\n日　時\n平成２７年４月１１日（土）～平成２８年３月２６日までの第２、４土曜日\n１５時～１７時（２時間）\n\n\n場　所\n千倉体育館\n\n\n参加費\n２００円/回 ※ただし、かしま元気スポーツクラブ会員登録が必要です\n\n\n\n                        Tweet
URL:http://kashima-sports.com/event-single/%e3%83%86%e3%83%8b%e3%82%b9%ef%bc%88%e3%82%bd%e3%83%95%e3%83%88%e3%83%86%e3%83%8b%e3%82%b9%ef%bc%89%e6%95%99%e5%ae%a4-13
END:VEVENT
BEGIN:VEVENT
DTSTART;TZID=Asia/Tokyo:20151008T190000
DTEND;TZID=Asia/Tokyo:20151008T203000
DTSTAMP:20260424T202522
CREATED:20150831T150012Z
LAST-MODIFIED:20151102T051801Z
UID:2325-1444330800-1444336200@kashima-sports.com
SUMMARY:スポーツ教室
DESCRIPTION:小学生を対象としたスポーツ教室 \n毎週木曜日開催！週替わりで様々なスポーツを体験し、これからのスポーツ活動につながる教室となっています。 \n内容は、第１木曜日：ドッジボール、第２木曜日：野球、第３木曜日：バレーボール、第４木曜日：サッカー、第５木曜日：体操（跳び箱、平均台、マット運動など） \n年に数回のお楽しみ会も予定しています。 \n\n\n\n日 時：\n平成２７年５月２８日（木）～平成２８年３月２４日（木）\n午後７時００分～８時３０分　※１時間３０分\n\n\n会 場：\n千倉体育館\n\n\n対 象：\n小学生（１～６年生）\n\n\n参加費：\n２，０００円（前期１，０００円、後期１，０００円）\n※但し、かしま元気スポーツクラブ会員登録及びスポーツ保険加入が必要です。\n\n\n\n                        Tweet
URL:http://kashima-sports.com/event-single/%e3%82%b9%e3%83%9d%e3%83%bc%e3%83%84%e6%95%99%e5%ae%a4-99
END:VEVENT
BEGIN:VEVENT
DTSTART;TZID=Asia/Tokyo:20151005T190000
DTEND;TZID=Asia/Tokyo:20151005T210000
DTSTAMP:20260424T202522
CREATED:20150831T150039Z
LAST-MODIFIED:20151102T055640Z
UID:2349-1444071600-1444078800@kashima-sports.com
SUMMARY:バドミントン教室
DESCRIPTION:スポーツ振興くじ（toto）助成事業。 \n年間を通して開催するバドミントン教室。 \n\n\n\n開催日\n毎月第１、第３月曜日開催（初回の５月１１日のみ第２月曜日）\n\n\n開催時間\n午後７時～９時　※２時間\n\n\n場　所\n千倉体育館\n\n\n募集人数\n２０名程度　（※中学生以上の初心者、初級者）\n\n\n参加費\n２００円／回 ※但し、かしま元気スポーツクラブ会員登録が必要\n\n\n\n                        Tweet
URL:http://kashima-sports.com/event-single/%e3%83%90%e3%83%89%e3%83%9f%e3%83%b3%e3%83%88%e3%83%b3%e6%95%99%e5%ae%a4-14
END:VEVENT
BEGIN:VEVENT
DTSTART;TZID=Asia/Tokyo:20151003T060000
DTEND;TZID=Asia/Tokyo:20151003T173000
DTSTAMP:20260424T202522
CREATED:20150831T150019Z
LAST-MODIFIED:20151102T065311Z
UID:2365-1443852000-1443893400@kashima-sports.com
SUMMARY:磐梯山登山
DESCRIPTION:今年度最後の登山を、紅葉の始まる磐梯山に登ります、ルートは磐梯山登山では一番楽な八方台登山口からですので、初級者の方でも大丈夫です、皆様の参加をお待ちしております。\n・参加費：3\,000円～5\,500円（参加人数により決定します）\n・申込締め切り日：9月25日 \n                        Tweet
URL:http://kashima-sports.com/event-single/%e7%a3%90%e6%a2%af%e5%b1%b1%e7%99%bb%e5%b1%b1
END:VEVENT
BEGIN:VEVENT
DTSTART;TZID=Asia/Tokyo:20151001T190000
DTEND;TZID=Asia/Tokyo:20151001T203000
DTSTAMP:20260424T202522
CREATED:20150831T150002Z
LAST-MODIFIED:20151102T051654Z
UID:2324-1443726000-1443731400@kashima-sports.com
SUMMARY:スポーツ教室
DESCRIPTION:小学生を対象としたスポーツ教室 \n毎週木曜日開催！週替わりで様々なスポーツを体験し、これからのスポーツ活動につながる教室となっています。 \n内容は、第１木曜日：ドッジボール、第２木曜日：野球、第３木曜日：バレーボール、第４木曜日：サッカー、第５木曜日：体操（跳び箱、平均台、マット運動など） \n年に数回のお楽しみ会も予定しています。 \n\n\n\n日 時：\n平成２７年５月２８日（木）～平成２８年３月２４日（木）\n午後７時００分～８時３０分　※１時間３０分\n\n\n会 場：\n千倉体育館\n\n\n対 象：\n小学生（１～６年生）\n\n\n参加費：\n２，０００円（前期１，０００円、後期１，０００円）\n※但し、かしま元気スポーツクラブ会員登録及びスポーツ保険加入が必要です。\n\n\n\n                        Tweet
URL:http://kashima-sports.com/event-single/%e3%82%b9%e3%83%9d%e3%83%bc%e3%83%84%e6%95%99%e5%ae%a4-98
END:VEVENT
BEGIN:VEVENT
DTSTART;TZID=Asia/Tokyo:20150927T090000
DTEND;TZID=Asia/Tokyo:20150927T120000
DTSTAMP:20260424T202522
CREATED:20150831T150016Z
LAST-MODIFIED:20151102T072306Z
UID:2374-1443344400-1443355200@kashima-sports.com
SUMMARY:ディスクゴルフ教室
DESCRIPTION:これからディスクゴルフを始めたい方、技術を学びたい方に、公認の指導員が、競技の基礎やルール、エチケット、マナーを分かりやすくご指導いたします。 \n  \n日　時　９月２７日、１０月１８日、１１月８日、１１月１５日、１１月２９日　※計５回 \n場　所　桜平山運動公園　※雨天時は千倉体育館 \n対　象　小学生以上 \n募集人数　３０名程度 \n                        Tweet
URL:http://kashima-sports.com/event-single/%e3%83%87%e3%82%a3%e3%82%b9%e3%82%af%e3%82%b4%e3%83%ab%e3%83%95%e6%95%99%e5%ae%a4
END:VEVENT
BEGIN:VEVENT
DTSTART;TZID=Asia/Tokyo:20150926T150000
DTEND;TZID=Asia/Tokyo:20150926T170000
DTSTAMP:20260424T202522
CREATED:20150731T150057Z
LAST-MODIFIED:20151102T054201Z
UID:2340-1443279600-1443286800@kashima-sports.com
SUMMARY:テニス（ソフトテニス）教室
DESCRIPTION:初心者から経験者、子どもから大人まで参加できる、基礎からテニスを学べる教室です。 \n一緒にテニスを楽しみましょう♪ \n\n\n\n日　時\n平成２７年４月１１日（土）～平成２８年３月２６日までの第２、４土曜日\n１５時～１７時（２時間）\n\n\n場　所\n千倉体育館\n\n\n参加費\n２００円/回 ※ただし、かしま元気スポーツクラブ会員登録が必要です\n\n\n\n                        Tweet
URL:http://kashima-sports.com/event-single/%e3%83%86%e3%83%8b%e3%82%b9%ef%bc%88%e3%82%bd%e3%83%95%e3%83%88%e3%83%86%e3%83%8b%e3%82%b9%ef%bc%89%e6%95%99%e5%ae%a4-12
END:VEVENT
BEGIN:VEVENT
DTSTART;TZID=Asia/Tokyo:20150924T190000
DTEND;TZID=Asia/Tokyo:20150924T203000
DTSTAMP:20260424T202522
CREATED:20150731T150058Z
LAST-MODIFIED:20151102T051446Z
UID:2323-1443121200-1443126600@kashima-sports.com
SUMMARY:スポーツ教室
DESCRIPTION:小学生を対象としたスポーツ教室 \n毎週木曜日開催！週替わりで様々なスポーツを体験し、これからのスポーツ活動につながる教室となっています。 \n内容は、第１木曜日：ドッジボール、第２木曜日：野球、第３木曜日：バレーボール、第４木曜日：サッカー、第５木曜日：体操（跳び箱、平均台、マット運動など） \n年に数回のお楽しみ会も予定しています。 \n\n\n\n日 時：\n平成２７年５月２８日（木）～平成２８年３月２４日（木）\n午後７時００分～８時３０分　※１時間３０分\n\n\n会 場：\n千倉体育館\n\n\n対 象：\n小学生（１～６年生）\n\n\n参加費：\n２，０００円（前期１，０００円、後期１，０００円）\n※但し、かしま元気スポーツクラブ会員登録及びスポーツ保険加入が必要です。\n\n\n\n                        Tweet
URL:http://kashima-sports.com/event-single/%e3%82%b9%e3%83%9d%e3%83%bc%e3%83%84%e6%95%99%e5%ae%a4-97
END:VEVENT
BEGIN:VEVENT
DTSTART;TZID=Asia/Tokyo:20150924T090000
DTEND;TZID=Asia/Tokyo:20150924T113000
DTSTAMP:20260424T202522
CREATED:20150731T150042Z
LAST-MODIFIED:20151102T064532Z
UID:2363-1443085200-1443094200@kashima-sports.com
SUMMARY:パークゴルフ教室（後期）
DESCRIPTION:パークゴルフの初心者、初級者を対象としたパークゴルフ教室 \n後期の開催期間は、８月２７日、９月３日、１０日、１７日、２４日の毎週木曜日（計５日間） \n会場は、相馬市の相馬光陽パークゴルフ場。 \n午前９時～１１時３０分までの２時間３０分。 \nパークゴルフ公認指導員、アドバイザーの指導で、パークゴルフの基礎から競技ルール、エチケットを学べます。 \n定員は３０名程度 \n                        Tweet
URL:http://kashima-sports.com/event-single/%e3%83%91%e3%83%bc%e3%82%af%e3%82%b4%e3%83%ab%e3%83%95%e6%95%99%e5%ae%a4%ef%bc%88%e5%be%8c%e6%9c%9f%ef%bc%89-6
END:VEVENT
BEGIN:VEVENT
DTSTART;TZID=Asia/Tokyo:20150919T150000
DTEND;TZID=Asia/Tokyo:20150919T170000
DTSTAMP:20260424T202522
CREATED:20150731T150039Z
LAST-MODIFIED:20151102T062642Z
UID:2339-1442674800-1442682000@kashima-sports.com
SUMMARY:テニス（ソフトテニス）教室
DESCRIPTION:初心者から経験者、子どもから大人まで参加できる、基礎からテニスを学べる教室です。 \n一緒にテニスを楽しみましょう♪ \n\n\n\n日　時\n平成２７年４月１１日（土）～平成２８年３月２６日までの第２、４土曜日\n１５時～１７時（２時間）\n\n\n場　所\n千倉体育館\n\n\n参加費\n２００円/回 ※ただし、かしま元気スポーツクラブ会員登録が必要です\n\n\n\n                        Tweet
URL:http://kashima-sports.com/event-single/%e3%83%86%e3%83%8b%e3%82%b9%ef%bc%88%e3%82%bd%e3%83%95%e3%83%88%e3%83%86%e3%83%8b%e3%82%b9%ef%bc%89%e6%95%99%e5%ae%a4-11
END:VEVENT
BEGIN:VEVENT
DTSTART;TZID=Asia/Tokyo:20150917T190000
DTEND;TZID=Asia/Tokyo:20150917T203000
DTSTAMP:20260424T202522
CREATED:20150731T150042Z
LAST-MODIFIED:20151102T051336Z
UID:2322-1442516400-1442521800@kashima-sports.com
SUMMARY:スポーツ教室
DESCRIPTION:小学生を対象としたスポーツ教室 \n毎週木曜日開催！週替わりで様々なスポーツを体験し、これからのスポーツ活動につながる教室となっています。 \n内容は、第１木曜日：ドッジボール、第２木曜日：野球、第３木曜日：バレーボール、第４木曜日：サッカー、第５木曜日：体操（跳び箱、平均台、マット運動など） \n年に数回のお楽しみ会も予定しています。 \n\n\n\n日 時：\n平成２７年５月２８日（木）～平成２８年３月２４日（木）\n午後７時００分～８時３０分　※１時間３０分\n\n\n会 場：\n千倉体育館\n\n\n対 象：\n小学生（１～６年生）\n\n\n参加費：\n２，０００円（前期１，０００円、後期１，０００円）\n※但し、かしま元気スポーツクラブ会員登録及びスポーツ保険加入が必要です。\n\n\n\n                        Tweet
URL:http://kashima-sports.com/event-single/%e3%82%b9%e3%83%9d%e3%83%bc%e3%83%84%e6%95%99%e5%ae%a4-96
END:VEVENT
BEGIN:VEVENT
DTSTART;TZID=Asia/Tokyo:20150917T090000
DTEND;TZID=Asia/Tokyo:20150917T113000
DTSTAMP:20260424T202522
CREATED:20150731T150024Z
LAST-MODIFIED:20151102T064433Z
UID:2362-1442480400-1442489400@kashima-sports.com
SUMMARY:パークゴルフ教室（後期）
DESCRIPTION:パークゴルフの初心者、初級者を対象としたパークゴルフ教室 \n後期の開催期間は、８月２７日、９月３日、１０日、１７日、２４日の毎週木曜日（計５日間） \n会場は、相馬市の相馬光陽パークゴルフ場。 \n午前９時～１１時３０分までの２時間３０分。 \nパークゴルフ公認指導員、アドバイザーの指導で、パークゴルフの基礎から競技ルール、エチケットを学べます。 \n定員は３０名程度 \n                        Tweet
URL:http://kashima-sports.com/event-single/%e3%83%91%e3%83%bc%e3%82%af%e3%82%b4%e3%83%ab%e3%83%95%e6%95%99%e5%ae%a4%ef%bc%88%e5%be%8c%e6%9c%9f%ef%bc%89-5
END:VEVENT
BEGIN:VEVENT
DTSTART;TZID=Asia/Tokyo:20150914T190000
DTEND;TZID=Asia/Tokyo:20150914T210000
DTSTAMP:20260424T202522
CREATED:20150731T150030Z
LAST-MODIFIED:20151102T055528Z
UID:2348-1442257200-1442264400@kashima-sports.com
SUMMARY:バドミントン教室
DESCRIPTION:スポーツ振興くじ（toto）助成事業。 \n年間を通して開催するバドミントン教室。 \n\n\n\n開催日\n毎月第１、第３月曜日開催（初回の５月１１日のみ第２月曜日）\n\n\n開催時間\n午後７時～９時　※２時間\n\n\n場　所\n千倉体育館\n\n\n募集人数\n２０名程度　（※中学生以上の初心者、初級者）\n\n\n参加費\n２００円／回 ※但し、かしま元気スポーツクラブ会員登録が必要\n\n\n\n                        Tweet
URL:http://kashima-sports.com/event-single/%e3%83%90%e3%83%89%e3%83%9f%e3%83%b3%e3%83%88%e3%83%b3%e6%95%99%e5%ae%a4-13
END:VEVENT
END:VCALENDAR