BEGIN:VCALENDAR
VERSION:2.0
PRODID:-//かしま元気スポーツクラブ | 福島県南相馬市鹿島区 - ECPv6.15.12.2//NONSGML v1.0//EN
CALSCALE:GREGORIAN
METHOD:PUBLISH
X-WR-CALNAME:かしま元気スポーツクラブ | 福島県南相馬市鹿島区
X-ORIGINAL-URL:http://kashima-sports.com
X-WR-CALDESC:かしま元気スポーツクラブ | 福島県南相馬市鹿島区 のイベント
REFRESH-INTERVAL;VALUE=DURATION:PT1H
X-Robots-Tag:noindex
X-PUBLISHED-TTL:PT1H
BEGIN:VTIMEZONE
TZID:Asia/Tokyo
BEGIN:STANDARD
TZOFFSETFROM:+0900
TZOFFSETTO:+0900
TZNAME:JST
DTSTART:20140101T000000
END:STANDARD
END:VTIMEZONE
BEGIN:VEVENT
DTSTART;TZID=Asia/Tokyo:20160225T190000
DTEND;TZID=Asia/Tokyo:20160225T203000
DTSTAMP:20260424T122927
CREATED:20151225T004900Z
LAST-MODIFIED:20151225T004900Z
UID:2477-1456426800-1456432200@kashima-sports.com
SUMMARY:スポーツ教室
DESCRIPTION:小学生を対象としたスポーツ教室 \n毎週木曜日開催！週替わりで様々なスポーツを体験し、これからのスポーツ活動につながる教室となっています。 \n内容は、第１木曜日：ドッジボール、第２木曜日：野球、第３木曜日：バレーボール、第４木曜日：サッカー、第５木曜日：体操（跳び箱、平均台、マット運動など） \n年に数回のお楽しみ会も予定しています。 \n\n\n\n日 時：\n平成２７年５月２８日（木）～平成２８年３月２４日（木）\n午後７時００分～８時３０分　※１時間３０分\n\n\n会 場：\n千倉体育館\n\n\n対 象：\n小学生（１～６年生）\n\n\n参加費：\n２，０００円（前期１，０００円、後期１，０００円）\n※但し、かしま元気スポーツクラブ会員登録及びスポーツ保険加入が必要です。\n\n\n\n                        Tweet
URL:http://kashima-sports.com/event-single/%e3%82%b9%e3%83%9d%e3%83%bc%e3%83%84%e6%95%99%e5%ae%a4-117
END:VEVENT
BEGIN:VEVENT
DTSTART;TZID=Asia/Tokyo:20160218T190000
DTEND;TZID=Asia/Tokyo:20160218T203000
DTSTAMP:20260424T122927
CREATED:20151225T004828Z
LAST-MODIFIED:20151225T004828Z
UID:2476-1455822000-1455827400@kashima-sports.com
SUMMARY:スポーツ教室
DESCRIPTION:小学生を対象としたスポーツ教室 \n毎週木曜日開催！週替わりで様々なスポーツを体験し、これからのスポーツ活動につながる教室となっています。 \n内容は、第１木曜日：ドッジボール、第２木曜日：野球、第３木曜日：バレーボール、第４木曜日：サッカー、第５木曜日：体操（跳び箱、平均台、マット運動など） \n年に数回のお楽しみ会も予定しています。 \n\n\n\n日 時：\n平成２７年５月２８日（木）～平成２８年３月２４日（木）\n午後７時００分～８時３０分　※１時間３０分\n\n\n会 場：\n千倉体育館\n\n\n対 象：\n小学生（１～６年生）\n\n\n参加費：\n２，０００円（前期１，０００円、後期１，０００円）\n※但し、かしま元気スポーツクラブ会員登録及びスポーツ保険加入が必要です。\n\n\n\n                        Tweet
URL:http://kashima-sports.com/event-single/%e3%82%b9%e3%83%9d%e3%83%bc%e3%83%84%e6%95%99%e5%ae%a4-116
END:VEVENT
BEGIN:VEVENT
DTSTART;TZID=Asia/Tokyo:20160215T190000
DTEND;TZID=Asia/Tokyo:20160215T210000
DTSTAMP:20260424T122927
CREATED:20151225T005942Z
LAST-MODIFIED:20151225T005942Z
UID:2492-1455562800-1455570000@kashima-sports.com
SUMMARY:バドミントン教室
DESCRIPTION:スポーツ振興くじ（toto）助成事業。 \n年間を通して開催するバドミントン教室。 \n\n\n\n開催日\n毎月第１、第３月曜日開催（初回の５月１１日のみ第２月曜日）\n\n\n開催時間\n午後７時～９時　※２時間\n\n\n場　所\n千倉体育館\n\n\n募集人数\n２０名程度　（※中学生以上の初心者、初級者）\n\n\n参加費\n２００円／回 ※但し、かしま元気スポーツクラブ会員登録が必要\n\n\n\n                        Tweet
URL:http://kashima-sports.com/event-single/%e3%83%90%e3%83%89%e3%83%9f%e3%83%b3%e3%83%88%e3%83%b3%e6%95%99%e5%ae%a4-23
END:VEVENT
BEGIN:VEVENT
DTSTART;TZID=Asia/Tokyo:20160213T150000
DTEND;TZID=Asia/Tokyo:20160213T170000
DTSTAMP:20260424T122927
CREATED:20151225T005545Z
LAST-MODIFIED:20151225T005545Z
UID:2485-1455375600-1455382800@kashima-sports.com
SUMMARY:テニス（ソフトテニス）教室
DESCRIPTION:初心者から経験者、子どもから大人まで参加できる、基礎からテニスを学べる教室です。 \n一緒にテニスを楽しみましょう♪ \n\n\n\n日　時\n平成２７年４月１１日（土）～平成２８年３月２６日までの第２、４土曜日\n１５時～１７時（２時間）\n\n\n場　所\n千倉体育館\n\n\n参加費\n２００円/回 ※ただし、かしま元気スポーツクラブ会員登録が必要です\n\n\n\n                        Tweet
URL:http://kashima-sports.com/event-single/%e3%83%86%e3%83%8b%e3%82%b9%ef%bc%88%e3%82%bd%e3%83%95%e3%83%88%e3%83%86%e3%83%8b%e3%82%b9%ef%bc%89%e6%95%99%e5%ae%a4-21
END:VEVENT
BEGIN:VEVENT
DTSTART;TZID=Asia/Tokyo:20160211T190000
DTEND;TZID=Asia/Tokyo:20160211T190000
DTSTAMP:20260424T122927
CREATED:20151225T004745Z
LAST-MODIFIED:20151225T004745Z
UID:2475-1455217200-1455217200@kashima-sports.com
SUMMARY:スポーツ教室
DESCRIPTION:小学生を対象としたスポーツ教室 \n毎週木曜日開催！週替わりで様々なスポーツを体験し、これからのスポーツ活動につながる教室となっています。 \n内容は、第１木曜日：ドッジボール、第２木曜日：野球、第３木曜日：バレーボール、第４木曜日：サッカー、第５木曜日：体操（跳び箱、平均台、マット運動など） \n年に数回のお楽しみ会も予定しています。 \n\n\n\n日 時：\n平成２７年５月２８日（木）～平成２８年３月２４日（木）\n午後７時００分～８時３０分　※１時間３０分\n\n\n会 場：\n千倉体育館\n\n\n対 象：\n小学生（１～６年生）\n\n\n参加費：\n２，０００円（前期１，０００円、後期１，０００円）\n※但し、かしま元気スポーツクラブ会員登録及びスポーツ保険加入が必要です。\n\n\n\n                        Tweet
URL:http://kashima-sports.com/event-single/%e3%82%b9%e3%83%9d%e3%83%bc%e3%83%84%e6%95%99%e5%ae%a4-115
END:VEVENT
BEGIN:VEVENT
DTSTART;TZID=Asia/Tokyo:20160204T190000
DTEND;TZID=Asia/Tokyo:20160204T203000
DTSTAMP:20260424T122927
CREATED:20151225T004724Z
LAST-MODIFIED:20151225T004724Z
UID:2474-1454612400-1454617800@kashima-sports.com
SUMMARY:スポーツ教室
DESCRIPTION:小学生を対象としたスポーツ教室 \n毎週木曜日開催！週替わりで様々なスポーツを体験し、これからのスポーツ活動につながる教室となっています。 \n内容は、第１木曜日：ドッジボール、第２木曜日：野球、第３木曜日：バレーボール、第４木曜日：サッカー、第５木曜日：体操（跳び箱、平均台、マット運動など） \n年に数回のお楽しみ会も予定しています。 \n\n\n\n日 時：\n平成２７年５月２８日（木）～平成２８年３月２４日（木）\n午後７時００分～８時３０分　※１時間３０分\n\n\n会 場：\n千倉体育館\n\n\n対 象：\n小学生（１～６年生）\n\n\n参加費：\n２，０００円（前期１，０００円、後期１，０００円）\n※但し、かしま元気スポーツクラブ会員登録及びスポーツ保険加入が必要です。\n\n\n\n                        Tweet
URL:http://kashima-sports.com/event-single/%e3%82%b9%e3%83%9d%e3%83%bc%e3%83%84%e6%95%99%e5%ae%a4-114
END:VEVENT
BEGIN:VEVENT
DTSTART;TZID=Asia/Tokyo:20160202T093000
DTEND;TZID=Asia/Tokyo:20160202T113000
DTSTAMP:20260424T122927
CREATED:20151231T150015Z
LAST-MODIFIED:20151225T011056Z
UID:2503-1454405400-1454412600@kashima-sports.com
SUMMARY:ニュースポーツ教室
DESCRIPTION:スポーツ振興くじ（toto）助成事業 \n運動不足解消にいかがですか？参加をお待ちしています♪ \n\n\n\n日時\n平成２８年１月１９日、２６日、２月２日（全３回）\n午前９時３０分～１１時３０分\n\n\n場所\nかしま交流センター\n\n\n参加対象\n軽運動したい方ならどなたでも♪\n\n\n参加費\n５００円\n\n\n申込〆切\n１月１５日\n\n\n\n                        Tweet
URL:http://kashima-sports.com/event-single/%e3%83%8b%e3%83%a5%e3%83%bc%e3%82%b9%e3%83%9d%e3%83%bc%e3%83%84%e6%95%99%e5%ae%a4-4
END:VEVENT
BEGIN:VEVENT
DTSTART;TZID=Asia/Tokyo:20160201T190000
DTEND;TZID=Asia/Tokyo:20160201T210000
DTSTAMP:20260424T122927
CREATED:20151225T005915Z
LAST-MODIFIED:20151225T005915Z
UID:2491-1454353200-1454360400@kashima-sports.com
SUMMARY:バドミントン教室
DESCRIPTION:スポーツ振興くじ（toto）助成事業。 \n年間を通して開催するバドミントン教室。 \n\n\n\n開催日\n毎月第１、第３月曜日開催（初回の５月１１日のみ第２月曜日）\n\n\n開催時間\n午後７時～９時　※２時間\n\n\n場　所\n千倉体育館\n\n\n募集人数\n２０名程度　（※中学生以上の初心者、初級者）\n\n\n参加費\n２００円／回 ※但し、かしま元気スポーツクラブ会員登録が必要\n\n\n\n                        Tweet
URL:http://kashima-sports.com/event-single/%e3%83%90%e3%83%89%e3%83%9f%e3%83%b3%e3%83%88%e3%83%b3%e6%95%99%e5%ae%a4-22
END:VEVENT
BEGIN:VEVENT
DTSTART;TZID=Asia/Tokyo:20160128T190000
DTEND;TZID=Asia/Tokyo:20160128T203000
DTSTAMP:20260424T122927
CREATED:20151225T004633Z
LAST-MODIFIED:20151225T004633Z
UID:2473-1454007600-1454013000@kashima-sports.com
SUMMARY:スポーツ教室
DESCRIPTION:小学生を対象としたスポーツ教室 \n毎週木曜日開催！週替わりで様々なスポーツを体験し、これからのスポーツ活動につながる教室となっています。 \n内容は、第１木曜日：ドッジボール、第２木曜日：野球、第３木曜日：バレーボール、第４木曜日：サッカー、第５木曜日：体操（跳び箱、平均台、マット運動など） \n年に数回のお楽しみ会も予定しています。 \n\n\n\n日 時：\n平成２７年５月２８日（木）～平成２８年３月２４日（木）\n午後７時００分～８時３０分　※１時間３０分\n\n\n会 場：\n千倉体育館\n\n\n対 象：\n小学生（１～６年生）\n\n\n参加費：\n２，０００円（前期１，０００円、後期１，０００円）\n※但し、かしま元気スポーツクラブ会員登録及びスポーツ保険加入が必要です。\n\n\n\n                        Tweet
URL:http://kashima-sports.com/event-single/%e3%82%b9%e3%83%9d%e3%83%bc%e3%83%84%e6%95%99%e5%ae%a4-113
END:VEVENT
BEGIN:VEVENT
DTSTART;TZID=Asia/Tokyo:20160126T093000
DTEND;TZID=Asia/Tokyo:20160126T113000
DTSTAMP:20260424T122927
CREATED:20151231T150012Z
LAST-MODIFIED:20151225T011002Z
UID:2502-1453800600-1453807800@kashima-sports.com
SUMMARY:ニュースポーツ教室
DESCRIPTION:スポーツ振興くじ（toto）助成事業 \n運動不足解消にいかがですか？参加をお待ちしています♪ \n\n\n\n日時\n平成２８年１月１９日、２６日、２月２日（全３回）\n午前９時３０分～１１時３０分\n\n\n場所\nかしま交流センター\n\n\n参加対象\n軽運動したい方ならどなたでも♪\n\n\n参加費\n５００円\n\n\n申込〆切\n１月１５日\n\n\n\n                        Tweet
URL:http://kashima-sports.com/event-single/%e3%83%8b%e3%83%a5%e3%83%bc%e3%82%b9%e3%83%9d%e3%83%bc%e3%83%84%e6%95%99%e5%ae%a4-3
END:VEVENT
BEGIN:VEVENT
DTSTART;TZID=Asia/Tokyo:20160125T190000
DTEND;TZID=Asia/Tokyo:20160125T210000
DTSTAMP:20260424T122927
CREATED:20151225T005844Z
LAST-MODIFIED:20151225T005844Z
UID:2490-1453748400-1453755600@kashima-sports.com
SUMMARY:バドミントン教室
DESCRIPTION:スポーツ振興くじ（toto）助成事業。 \n年間を通して開催するバドミントン教室。 \n\n\n\n開催日\n毎月第１、第３月曜日開催（初回の５月１１日のみ第２月曜日）\n\n\n開催時間\n午後７時～９時　※２時間\n\n\n場　所\n千倉体育館\n\n\n募集人数\n２０名程度　（※中学生以上の初心者、初級者）\n\n\n参加費\n２００円／回 ※但し、かしま元気スポーツクラブ会員登録が必要\n\n\n\n                        Tweet
URL:http://kashima-sports.com/event-single/%e3%83%90%e3%83%89%e3%83%9f%e3%83%b3%e3%83%88%e3%83%b3%e6%95%99%e5%ae%a4-21
END:VEVENT
BEGIN:VEVENT
DTSTART;TZID=Asia/Tokyo:20160123T150000
DTEND;TZID=Asia/Tokyo:20160123T170000
DTSTAMP:20260424T122927
CREATED:20151225T005428Z
LAST-MODIFIED:20151225T005428Z
UID:2484-1453561200-1453568400@kashima-sports.com
SUMMARY:テニス（ソフトテニス）教室
DESCRIPTION:初心者から経験者、子どもから大人まで参加できる、基礎からテニスを学べる教室です。 \n一緒にテニスを楽しみましょう♪ \n\n\n\n日　時\n平成２７年４月１１日（土）～平成２８年３月２６日までの第２、４土曜日\n１５時～１７時（２時間）\n\n\n場　所\n千倉体育館\n\n\n参加費\n２００円/回 ※ただし、かしま元気スポーツクラブ会員登録が必要です\n\n\n\n                        Tweet
URL:http://kashima-sports.com/event-single/%e3%83%86%e3%83%8b%e3%82%b9%ef%bc%88%e3%82%bd%e3%83%95%e3%83%88%e3%83%86%e3%83%8b%e3%82%b9%ef%bc%89%e6%95%99%e5%ae%a4-20
END:VEVENT
BEGIN:VEVENT
DTSTART;TZID=Asia/Tokyo:20160121T190000
DTEND;TZID=Asia/Tokyo:20160121T203000
DTSTAMP:20260424T122927
CREATED:20151225T004505Z
LAST-MODIFIED:20151225T004505Z
UID:2472-1453402800-1453408200@kashima-sports.com
SUMMARY:スポーツ教室
DESCRIPTION:小学生を対象としたスポーツ教室 \n毎週木曜日開催！週替わりで様々なスポーツを体験し、これからのスポーツ活動につながる教室となっています。 \n内容は、第１木曜日：ドッジボール、第２木曜日：野球、第３木曜日：バレーボール、第４木曜日：サッカー、第５木曜日：体操（跳び箱、平均台、マット運動など） \n年に数回のお楽しみ会も予定しています。 \n\n\n\n日 時：\n平成２７年５月２８日（木）～平成２８年３月２４日（木）\n午後７時００分～８時３０分　※１時間３０分\n\n\n会 場：\n千倉体育館\n\n\n対 象：\n小学生（１～６年生）\n\n\n参加費：\n２，０００円（前期１，０００円、後期１，０００円）\n※但し、かしま元気スポーツクラブ会員登録及びスポーツ保険加入が必要です。\n\n\n\n                        Tweet
URL:http://kashima-sports.com/event-single/%e3%82%b9%e3%83%9d%e3%83%bc%e3%83%84%e6%95%99%e5%ae%a4-112
END:VEVENT
BEGIN:VEVENT
DTSTART;TZID=Asia/Tokyo:20160119T093000
DTEND;TZID=Asia/Tokyo:20160119T113000
DTSTAMP:20260424T122927
CREATED:20151231T150021Z
LAST-MODIFIED:20151225T010853Z
UID:2499-1453195800-1453203000@kashima-sports.com
SUMMARY:ニュースポーツ教室
DESCRIPTION:スポーツ振興くじ（toto）助成事業 \n運動不足解消にいかがですか？参加をお待ちしています♪ \n  \n\n\n\n日時\n平成２８年１月１９日、２６日、２月２日（全３回）\n午前９時３０分～１１時３０分\n\n\n場所\nかしま交流センター\n\n\n参加対象\n軽運動したい方ならどなたでも♪\n\n\n参加費\n５００円\n\n\n申込〆切\n１月１５日\n\n\n\n                        Tweet
URL:http://kashima-sports.com/event-single/%e3%83%8b%e3%83%a5%e3%83%bc%e3%82%b9%e3%83%9d%e3%83%bc%e3%83%84%e6%95%99%e5%ae%a4-2
END:VEVENT
BEGIN:VEVENT
DTSTART;TZID=Asia/Tokyo:20160118T190000
DTEND;TZID=Asia/Tokyo:20160118T210000
DTSTAMP:20260424T122927
CREATED:20151225T005817Z
LAST-MODIFIED:20151225T005817Z
UID:2489-1453143600-1453150800@kashima-sports.com
SUMMARY:バドミントン教室
DESCRIPTION:スポーツ振興くじ（toto）助成事業。 \n年間を通して開催するバドミントン教室。 \n\n\n\n開催日\n毎月第１、第３月曜日開催（初回の５月１１日のみ第２月曜日）\n\n\n開催時間\n午後７時～９時　※２時間\n\n\n場　所\n千倉体育館\n\n\n募集人数\n２０名程度　（※中学生以上の初心者、初級者）\n\n\n参加費\n２００円／回 ※但し、かしま元気スポーツクラブ会員登録が必要\n\n\n\n                        Tweet
URL:http://kashima-sports.com/event-single/%e3%83%90%e3%83%89%e3%83%9f%e3%83%b3%e3%83%88%e3%83%b3%e6%95%99%e5%ae%a4-20
END:VEVENT
BEGIN:VEVENT
DTSTART;TZID=Asia/Tokyo:20160114T190000
DTEND;TZID=Asia/Tokyo:20160114T203000
DTSTAMP:20260424T122927
CREATED:20151225T004439Z
LAST-MODIFIED:20151225T004439Z
UID:2471-1452798000-1452803400@kashima-sports.com
SUMMARY:スポーツ教室
DESCRIPTION:小学生を対象としたスポーツ教室 \n毎週木曜日開催！週替わりで様々なスポーツを体験し、これからのスポーツ活動につながる教室となっています。 \n内容は、第１木曜日：ドッジボール、第２木曜日：野球、第３木曜日：バレーボール、第４木曜日：サッカー、第５木曜日：体操（跳び箱、平均台、マット運動など） \n年に数回のお楽しみ会も予定しています。 \n\n\n\n日 時：\n平成２７年５月２８日（木）～平成２８年３月２４日（木）\n午後７時００分～８時３０分　※１時間３０分\n\n\n会 場：\n千倉体育館\n\n\n対 象：\n小学生（１～６年生）\n\n\n参加費：\n２，０００円（前期１，０００円、後期１，０００円）\n※但し、かしま元気スポーツクラブ会員登録及びスポーツ保険加入が必要です。\n\n\n\n                        Tweet
URL:http://kashima-sports.com/event-single/%e3%82%b9%e3%83%9d%e3%83%bc%e3%83%84%e6%95%99%e5%ae%a4-111
END:VEVENT
BEGIN:VEVENT
DTSTART;TZID=Asia/Tokyo:20160109T150000
DTEND;TZID=Asia/Tokyo:20160109T170000
DTSTAMP:20260424T122927
CREATED:20151225T005329Z
LAST-MODIFIED:20151225T005449Z
UID:2483-1452351600-1452358800@kashima-sports.com
SUMMARY:テニス（ソフトテニス）教室
DESCRIPTION:初心者から経験者、子どもから大人まで参加できる、基礎からテニスを学べる教室です。 \n一緒にテニスを楽しみましょう♪ \n\n\n\n日　時\n平成２７年４月１１日（土）～平成２８年３月２６日までの第２、４土曜日\n１５時～１７時（２時間）\n\n\n場　所\n千倉体育館\n\n\n参加費\n２００円/回 ※ただし、かしま元気スポーツクラブ会員登録が必要です\n\n\n\n                        Tweet
URL:http://kashima-sports.com/event-single/%e3%83%86%e3%83%8b%e3%82%b9%ef%bc%88%e3%82%bd%e3%83%95%e3%83%88%e3%83%86%e3%83%8b%e3%82%b9%ef%bc%89%e6%95%99%e5%ae%a4-19
END:VEVENT
BEGIN:VEVENT
DTSTART;TZID=Asia/Tokyo:20160107T190000
DTEND;TZID=Asia/Tokyo:20160107T203000
DTSTAMP:20260424T122927
CREATED:20151225T004409Z
LAST-MODIFIED:20151225T004409Z
UID:2470-1452193200-1452198600@kashima-sports.com
SUMMARY:スポーツ教室
DESCRIPTION:小学生を対象としたスポーツ教室 \n毎週木曜日開催！週替わりで様々なスポーツを体験し、これからのスポーツ活動につながる教室となっています。 \n内容は、第１木曜日：ドッジボール、第２木曜日：野球、第３木曜日：バレーボール、第４木曜日：サッカー、第５木曜日：体操（跳び箱、平均台、マット運動など） \n年に数回のお楽しみ会も予定しています。 \n\n\n\n日 時：\n平成２７年５月２８日（木）～平成２８年３月２４日（木）\n午後７時００分～８時３０分　※１時間３０分\n\n\n会 場：\n千倉体育館\n\n\n対 象：\n小学生（１～６年生）\n\n\n参加費：\n２，０００円（前期１，０００円、後期１，０００円）\n※但し、かしま元気スポーツクラブ会員登録及びスポーツ保険加入が必要です。\n\n\n\n                        Tweet
URL:http://kashima-sports.com/event-single/%e3%82%b9%e3%83%9d%e3%83%bc%e3%83%84%e6%95%99%e5%ae%a4-110
END:VEVENT
BEGIN:VEVENT
DTSTART;TZID=Asia/Tokyo:20151226T150000
DTEND;TZID=Asia/Tokyo:20151226T170000
DTSTAMP:20260424T122927
CREATED:20150930T150056Z
LAST-MODIFIED:20151102T054843Z
UID:2346-1451142000-1451149200@kashima-sports.com
SUMMARY:テニス（ソフトテニス）教室
DESCRIPTION:初心者から経験者、子どもから大人まで参加できる、基礎からテニスを学べる教室です。 \n一緒にテニスを楽しみましょう♪ \n\n\n\n日　時\n平成２７年４月１１日（土）～平成２８年３月２６日までの第２、４土曜日\n１５時～１７時（２時間）\n\n\n場　所\n千倉体育館\n\n\n参加費\n２００円/回 ※ただし、かしま元気スポーツクラブ会員登録が必要です\n\n\n\n                        Tweet
URL:http://kashima-sports.com/event-single/%e3%83%86%e3%83%8b%e3%82%b9%ef%bc%88%e3%82%bd%e3%83%95%e3%83%88%e3%83%86%e3%83%8b%e3%82%b9%ef%bc%89%e6%95%99%e5%ae%a4-18
END:VEVENT
BEGIN:VEVENT
DTSTART;TZID=Asia/Tokyo:20151224T190000
DTEND;TZID=Asia/Tokyo:20151224T203000
DTSTAMP:20260424T122927
CREATED:20150930T150053Z
LAST-MODIFIED:20151102T052839Z
UID:2335-1450983600-1450989000@kashima-sports.com
SUMMARY:スポーツ教室
DESCRIPTION:小学生を対象としたスポーツ教室 \n毎週木曜日開催！週替わりで様々なスポーツを体験し、これからのスポーツ活動につながる教室となっています。 \n内容は、第１木曜日：ドッジボール、第２木曜日：野球、第３木曜日：バレーボール、第４木曜日：サッカー、第５木曜日：体操（跳び箱、平均台、マット運動など） \n年に数回のお楽しみ会も予定しています。 \n\n\n\n日 時：\n平成２７年５月２８日（木）～平成２８年３月２４日（木）\n午後７時００分～８時３０分　※１時間３０分\n\n\n会 場：\n千倉体育館\n\n\n対 象：\n小学生（１～６年生）\n\n\n参加費：\n２，０００円（前期１，０００円、後期１，０００円）\n※但し、かしま元気スポーツクラブ会員登録及びスポーツ保険加入が必要です。\n\n\n\n                        Tweet
URL:http://kashima-sports.com/event-single/%e3%82%b9%e3%83%9d%e3%83%bc%e3%83%84%e6%95%99%e5%ae%a4-109
END:VEVENT
BEGIN:VEVENT
DTSTART;TZID=Asia/Tokyo:20151221T190000
DTEND;TZID=Asia/Tokyo:20151221T210000
DTSTAMP:20260424T122927
CREATED:20150930T150044Z
LAST-MODIFIED:20151102T060331Z
UID:2355-1450724400-1450731600@kashima-sports.com
SUMMARY:バドミントン教室
DESCRIPTION:スポーツ振興くじ（toto）助成事業。 \n年間を通して開催するバドミントン教室。 \n\n\n\n開催日\n毎月第１、第３月曜日開催（初回の５月１１日のみ第２月曜日）\n\n\n開催時間\n午後７時～９時　※２時間\n\n\n場　所\n千倉体育館\n\n\n募集人数\n２０名程度　（※中学生以上の初心者、初級者）\n\n\n参加費\n２００円／回 ※但し、かしま元気スポーツクラブ会員登録が必要\n\n\n\n                        Tweet
URL:http://kashima-sports.com/event-single/%e3%83%90%e3%83%89%e3%83%9f%e3%83%b3%e3%83%88%e3%83%b3%e6%95%99%e5%ae%a4-19
END:VEVENT
BEGIN:VEVENT
DTSTART;TZID=Asia/Tokyo:20151219T090000
DTEND;TZID=Asia/Tokyo:20151219T120000
DTSTAMP:20260424T122927
CREATED:20151114T150051Z
LAST-MODIFIED:20151225T004556Z
UID:2468-1450515600-1450526400@kashima-sports.com
SUMMARY:卓球大会
DESCRIPTION:中学生以上ならどなたでも参加できます。 \n優勝目指し、楽しくピンポンしましょう！ \n  \n○日時：１２月１９日（土）　午前９時開会 \n○場所：千倉体育館 \n○参加対象：中学生以上 \n○参加費：中学生　300円、高校生以上（会員）500円、高校生以上（非会員）700円 \n○申込〆切：１２月１６日（水）午後５時まで \n                        Tweet
URL:http://kashima-sports.com/event-single/%e5%8d%93%e7%90%83%e5%a4%a7%e4%bc%9a-2
END:VEVENT
BEGIN:VEVENT
DTSTART;TZID=Asia/Tokyo:20151217T190000
DTEND;TZID=Asia/Tokyo:20151217T203000
DTSTAMP:20260424T122927
CREATED:20150930T150002Z
LAST-MODIFIED:20151102T052743Z
UID:2334-1450378800-1450384200@kashima-sports.com
SUMMARY:スポーツ教室
DESCRIPTION:小学生を対象としたスポーツ教室 \n毎週木曜日開催！週替わりで様々なスポーツを体験し、これからのスポーツ活動につながる教室となっています。 \n内容は、第１木曜日：ドッジボール、第２木曜日：野球、第３木曜日：バレーボール、第４木曜日：サッカー、第５木曜日：体操（跳び箱、平均台、マット運動など） \n年に数回のお楽しみ会も予定しています。 \n\n\n\n日 時：\n平成２７年５月２８日（木）～平成２８年３月２４日（木）\n午後７時００分～８時３０分　※１時間３０分\n\n\n会 場：\n千倉体育館\n\n\n対 象：\n小学生（１～６年生）\n\n\n参加費：\n２，０００円（前期１，０００円、後期１，０００円）\n※但し、かしま元気スポーツクラブ会員登録及びスポーツ保険加入が必要です。\n\n\n\n                        Tweet
URL:http://kashima-sports.com/event-single/%e3%82%b9%e3%83%9d%e3%83%bc%e3%83%84%e6%95%99%e5%ae%a4-108
END:VEVENT
BEGIN:VEVENT
DTSTART;TZID=Asia/Tokyo:20151213T100000
DTEND;TZID=Asia/Tokyo:20151213T120000
DTSTAMP:20260424T122927
CREATED:20151114T150009Z
LAST-MODIFIED:20151225T003728Z
UID:2466-1450000800-1450008000@kashima-sports.com
SUMMARY:ボウリング大会
DESCRIPTION:初心者から経験者までどなたでも参加できます。 \n楽しくボウリングしましょう！！ \n  \n○日時　１２月１３日（日）　午前１０時受付　午前１０時１５分試合開始 \n○場所　ルミックスボウル原町 \n○参加対象　中学生以上　※年齢によるハンディキャップあり \n○参加費　１人１，０００円 \n○募集人数　４０名 \n○競技　３ゲーム、ハンディを含めた合計点で競います。 \n○申込〆切　１２月８日（火）午後５時まで \n                        Tweet
URL:http://kashima-sports.com/event-single/%e3%83%9c%e3%82%a6%e3%83%aa%e3%83%b3%e3%82%b0%e5%a4%a7%e4%bc%9a-2
END:VEVENT
BEGIN:VEVENT
DTSTART;TZID=Asia/Tokyo:20151212T150000
DTEND;TZID=Asia/Tokyo:20151212T170000
DTSTAMP:20260424T122927
CREATED:20151001T150050Z
LAST-MODIFIED:20151102T054746Z
UID:2345-1449932400-1449939600@kashima-sports.com
SUMMARY:テニス（ソフトテニス）教室
DESCRIPTION:初心者から経験者、子どもから大人まで参加できる、基礎からテニスを学べる教室です。 \n一緒にテニスを楽しみましょう♪ \n\n\n\n日　時\n平成２７年４月１１日（土）～平成２８年３月２６日までの第２、４土曜日\n１５時～１７時（２時間）\n\n\n場　所\n千倉体育館\n\n\n参加費\n２００円/回 ※ただし、かしま元気スポーツクラブ会員登録が必要です\n\n\n\n                        Tweet
URL:http://kashima-sports.com/event-single/%e3%83%86%e3%83%8b%e3%82%b9%ef%bc%88%e3%82%bd%e3%83%95%e3%83%88%e3%83%86%e3%83%8b%e3%82%b9%ef%bc%89%e6%95%99%e5%ae%a4-17
END:VEVENT
BEGIN:VEVENT
DTSTART;TZID=Asia/Tokyo:20151210T190000
DTEND;TZID=Asia/Tokyo:20151210T203000
DTSTAMP:20260424T122927
CREATED:20150930T150042Z
LAST-MODIFIED:20151102T052646Z
UID:2333-1449774000-1449779400@kashima-sports.com
SUMMARY:スポーツ教室
DESCRIPTION:小学生を対象としたスポーツ教室 \n毎週木曜日開催！週替わりで様々なスポーツを体験し、これからのスポーツ活動につながる教室となっています。 \n内容は、第１木曜日：ドッジボール、第２木曜日：野球、第３木曜日：バレーボール、第４木曜日：サッカー、第５木曜日：体操（跳び箱、平均台、マット運動など） \n年に数回のお楽しみ会も予定しています。 \n\n\n\n日 時：\n平成２７年５月２８日（木）～平成２８年３月２４日（木）\n午後７時００分～８時３０分　※１時間３０分\n\n\n会 場：\n千倉体育館\n\n\n対 象：\n小学生（１～６年生）\n\n\n参加費：\n２，０００円（前期１，０００円、後期１，０００円）\n※但し、かしま元気スポーツクラブ会員登録及びスポーツ保険加入が必要です。\n\n\n\n                        Tweet
URL:http://kashima-sports.com/event-single/%e3%82%b9%e3%83%9d%e3%83%bc%e3%83%84%e6%95%99%e5%ae%a4-107
END:VEVENT
BEGIN:VEVENT
DTSTART;TZID=Asia/Tokyo:20151207T190000
DTEND;TZID=Asia/Tokyo:20151207T210000
DTSTAMP:20260424T122927
CREATED:20150930T150037Z
LAST-MODIFIED:20151102T060237Z
UID:2354-1449514800-1449522000@kashima-sports.com
SUMMARY:バドミントン教室
DESCRIPTION:スポーツ振興くじ（toto）助成事業。 \n年間を通して開催するバドミントン教室。 \n\n\n\n開催日\n毎月第１、第３月曜日開催（初回の５月１１日のみ第２月曜日）\n\n\n開催時間\n午後７時～９時　※２時間\n\n\n場　所\n千倉体育館\n\n\n募集人数\n２０名程度　（※中学生以上の初心者、初級者）\n\n\n参加費\n２００円／回 ※但し、かしま元気スポーツクラブ会員登録が必要\n\n\n\n                        Tweet
URL:http://kashima-sports.com/event-single/%e3%83%90%e3%83%89%e3%83%9f%e3%83%b3%e3%83%88%e3%83%b3%e6%95%99%e5%ae%a4-18
END:VEVENT
BEGIN:VEVENT
DTSTART;TZID=Asia/Tokyo:20151203T190000
DTEND;TZID=Asia/Tokyo:20151203T203000
DTSTAMP:20260424T122927
CREATED:20150930T150045Z
LAST-MODIFIED:20151102T052534Z
UID:2332-1449169200-1449174600@kashima-sports.com
SUMMARY:スポーツ教室
DESCRIPTION:小学生を対象としたスポーツ教室 \n毎週木曜日開催！週替わりで様々なスポーツを体験し、これからのスポーツ活動につながる教室となっています。 \n内容は、第１木曜日：ドッジボール、第２木曜日：野球、第３木曜日：バレーボール、第４木曜日：サッカー、第５木曜日：体操（跳び箱、平均台、マット運動など） \n年に数回のお楽しみ会も予定しています。 \n\n\n\n日 時：\n平成２７年５月２８日（木）～平成２８年３月２４日（木）\n午後７時００分～８時３０分　※１時間３０分\n\n\n会 場：\n千倉体育館\n\n\n対 象：\n小学生（１～６年生）\n\n\n参加費：\n２，０００円（前期１，０００円、後期１，０００円）\n※但し、かしま元気スポーツクラブ会員登録及びスポーツ保険加入が必要です。\n\n\n\n                        Tweet
URL:http://kashima-sports.com/event-single/%e3%82%b9%e3%83%9d%e3%83%bc%e3%83%84%e6%95%99%e5%ae%a4-106
END:VEVENT
BEGIN:VEVENT
DTSTART;TZID=Asia/Tokyo:20151129T090000
DTEND;TZID=Asia/Tokyo:20151129T120000
DTSTAMP:20260424T122927
CREATED:20150831T150021Z
LAST-MODIFIED:20151102T072658Z
UID:2378-1448787600-1448798400@kashima-sports.com
SUMMARY:ディスクゴルフ教室
DESCRIPTION:これからディスクゴルフを始めたい方、技術を学びたい方に、公認の指導員が、競技の基礎やルール、エチケット、マナーを分かりやすくご指導いたします。 \n日　時　９月２７日、１０月１８日、１１月８日、１１月１５日、１１月２９日　※計５回 \n場　所　桜平山運動公園　※雨天時は千倉体育館 \n対　象　小学生以上 \n募集人数　３０名程度 \n                        Tweet
URL:http://kashima-sports.com/event-single/%e3%83%87%e3%82%a3%e3%82%b9%e3%82%af%e3%82%b4%e3%83%ab%e3%83%95%e6%95%99%e5%ae%a4-5
END:VEVENT
BEGIN:VEVENT
DTSTART;TZID=Asia/Tokyo:20151128T150000
DTEND;TZID=Asia/Tokyo:20151128T170000
DTSTAMP:20260424T122927
CREATED:20150831T150038Z
LAST-MODIFIED:20151102T054621Z
UID:2344-1448722800-1448730000@kashima-sports.com
SUMMARY:テニス（ソフトテニス）教室
DESCRIPTION:初心者から経験者、子どもから大人まで参加できる、基礎からテニスを学べる教室です。 \n一緒にテニスを楽しみましょう♪ \n\n\n\n日　時\n平成２７年４月１１日（土）～平成２８年３月２６日までの第２、４土曜日\n１５時～１７時（２時間）\n\n\n場　所\n千倉体育館\n\n\n参加費\n２００円/回 ※ただし、かしま元気スポーツクラブ会員登録が必要です\n\n\n\n                        Tweet
URL:http://kashima-sports.com/event-single/%e3%83%86%e3%83%8b%e3%82%b9%ef%bc%88%e3%82%bd%e3%83%95%e3%83%88%e3%83%86%e3%83%8b%e3%82%b9%ef%bc%89%e6%95%99%e5%ae%a4-16
END:VEVENT
END:VCALENDAR