BEGIN:VCALENDAR
VERSION:2.0
PRODID:-//かしま元気スポーツクラブ | 福島県南相馬市鹿島区 - ECPv6.15.12.2//NONSGML v1.0//EN
CALSCALE:GREGORIAN
METHOD:PUBLISH
X-WR-CALNAME:かしま元気スポーツクラブ | 福島県南相馬市鹿島区
X-ORIGINAL-URL:http://kashima-sports.com
X-WR-CALDESC:かしま元気スポーツクラブ | 福島県南相馬市鹿島区 のイベント
REFRESH-INTERVAL;VALUE=DURATION:PT1H
X-Robots-Tag:noindex
X-PUBLISHED-TTL:PT1H
BEGIN:VTIMEZONE
TZID:Asia/Tokyo
BEGIN:STANDARD
TZOFFSETFROM:+0900
TZOFFSETTO:+0900
TZNAME:JST
DTSTART:20150101T000000
END:STANDARD
END:VTIMEZONE
BEGIN:VEVENT
DTSTART;TZID=Asia/Tokyo:20170411T190000
DTEND;TZID=Asia/Tokyo:20170411T210000
DTSTAMP:20260423T235533
CREATED:20170303T054516Z
LAST-MODIFIED:20170303T054516Z
UID:2984-1491937200-1491944400@kashima-sports.com
SUMMARY:テニス教室
DESCRIPTION:Tweet
URL:http://kashima-sports.com/event-single/%e3%83%86%e3%83%8b%e3%82%b9%e6%95%99%e5%ae%a4-17
LOCATION:鹿島体育館
END:VEVENT
BEGIN:VEVENT
DTSTART;TZID=Asia/Tokyo:20170408T150000
DTEND;TZID=Asia/Tokyo:20170408T170000
DTSTAMP:20260423T235533
CREATED:20170303T055056Z
LAST-MODIFIED:20170303T055056Z
UID:2990-1491663600-1491670800@kashima-sports.com
SUMMARY:ソフトテニス教室
DESCRIPTION:Tweet
URL:http://kashima-sports.com/event-single/%e3%82%bd%e3%83%95%e3%83%88%e3%83%86%e3%83%8b%e3%82%b9%e6%95%99%e5%ae%a4-5
LOCATION:鹿島体育館
END:VEVENT
BEGIN:VEVENT
DTSTART;TZID=Asia/Tokyo:20170404T190000
DTEND;TZID=Asia/Tokyo:20170404T210000
DTSTAMP:20260423T235533
CREATED:20170303T054259Z
LAST-MODIFIED:20170303T054259Z
UID:2983-1491332400-1491339600@kashima-sports.com
SUMMARY:テニス教室
DESCRIPTION:Tweet
URL:http://kashima-sports.com/event-single/%e3%83%86%e3%83%8b%e3%82%b9%e6%95%99%e5%ae%a4-12
END:VEVENT
BEGIN:VEVENT
DTSTART;TZID=Asia/Tokyo:20170315T080000
DTEND;TZID=Asia/Tokyo:20170315T170000
DTSTAMP:20260423T235533
CREATED:20170315T072117Z
LAST-MODIFIED:20170315T072117Z
UID:3000-1489564800-1489597200@kashima-sports.com
SUMMARY:日山登山
DESCRIPTION:参加人数20名程度 \n参加費一人2\,500円程度 \n                        Tweet
URL:http://kashima-sports.com/event-single/%e6%97%a5%e5%b1%b1%e7%99%bb%e5%b1%b1
END:VEVENT
BEGIN:VEVENT
DTSTART;TZID=Asia/Tokyo:20161129T190000
DTEND;TZID=Asia/Tokyo:20161129T210000
DTSTAMP:20260423T235533
CREATED:20160914T041116Z
LAST-MODIFIED:20160914T041116Z
UID:2758-1480446000-1480453200@kashima-sports.com
SUMMARY:テニス教室
DESCRIPTION:Tweet
URL:http://kashima-sports.com/event-single/%e3%83%86%e3%83%8b%e3%82%b9%e6%95%99%e5%ae%a4-11
LOCATION:鹿島体育館
END:VEVENT
BEGIN:VEVENT
DTSTART;TZID=Asia/Tokyo:20161127T090000
DTEND;TZID=Asia/Tokyo:20161127T130000
DTSTAMP:20260423T235533
CREATED:20160914T020629Z
LAST-MODIFIED:20160914T020629Z
UID:2704-1480237200-1480251600@kashima-sports.com
SUMMARY:鹿島ウォーキング
DESCRIPTION:千倉体育館～北海老浜慰霊碑ウォーキング \n                        Tweet
URL:http://kashima-sports.com/event-single/%e9%b9%bf%e5%b3%b6%e3%82%a6%e3%82%a9%e3%83%bc%e3%82%ad%e3%83%b3%e3%82%b0
LOCATION:鹿島区内
END:VEVENT
BEGIN:VEVENT
DTSTART;TZID=Asia/Tokyo:20161126T150000
DTEND;TZID=Asia/Tokyo:20161126T170000
DTSTAMP:20260423T235533
CREATED:20160914T041402Z
LAST-MODIFIED:20160914T041402Z
UID:2762-1480172400-1480179600@kashima-sports.com
SUMMARY:ソフトテニス教室
DESCRIPTION:Tweet
URL:http://kashima-sports.com/event-single/%e3%82%bd%e3%83%95%e3%83%88%e3%83%86%e3%83%8b%e3%82%b9%e6%95%99%e5%ae%a4-4
LOCATION:千倉体育館
END:VEVENT
BEGIN:VEVENT
DTSTART;TZID=Asia/Tokyo:20161122T190000
DTEND;TZID=Asia/Tokyo:20161122T210000
DTSTAMP:20260423T235533
CREATED:20160914T040937Z
LAST-MODIFIED:20160914T040937Z
UID:2756-1479841200-1479848400@kashima-sports.com
SUMMARY:テニス教室
DESCRIPTION:Tweet
URL:http://kashima-sports.com/event-single/%e3%83%86%e3%83%8b%e3%82%b9%e6%95%99%e5%ae%a4-10
LOCATION:鹿島体育館
END:VEVENT
BEGIN:VEVENT
DTSTART;TZID=Asia/Tokyo:20161122T080000
DTEND;TZID=Asia/Tokyo:20161122T130000
DTSTAMP:20260423T235533
CREATED:20160914T020301Z
LAST-MODIFIED:20160914T020301Z
UID:2702-1479801600-1479819600@kashima-sports.com
SUMMARY:グラウンドゴルフ男女ペア大会
DESCRIPTION:男女ペア大会 \n                        Tweet
URL:http://kashima-sports.com/event-single/%e3%82%b0%e3%83%a9%e3%82%a6%e3%83%b3%e3%83%89%e3%82%b4%e3%83%ab%e3%83%95%e7%94%b7%e5%a5%b3%e3%83%9a%e3%82%a2%e5%a4%a7%e4%bc%9a-4
LOCATION:みちのく鹿島野球場
END:VEVENT
BEGIN:VEVENT
DTSTART;TZID=Asia/Tokyo:20161121T190000
DTEND;TZID=Asia/Tokyo:20161121T210000
DTSTAMP:20260423T235533
CREATED:20160914T041752Z
LAST-MODIFIED:20160914T041752Z
UID:2766-1479754800-1479762000@kashima-sports.com
SUMMARY:バドミントン教室
DESCRIPTION:Tweet
URL:http://kashima-sports.com/event-single/%e3%83%90%e3%83%89%e3%83%9f%e3%83%b3%e3%83%88%e3%83%b3%e6%95%99%e5%ae%a4-30
LOCATION:鹿島体育館
END:VEVENT
BEGIN:VEVENT
DTSTART;TZID=Asia/Tokyo:20161117T190000
DTEND;TZID=Asia/Tokyo:20161117T203000
DTSTAMP:20260423T235533
CREATED:20160914T042122Z
LAST-MODIFIED:20160914T042122Z
UID:2772-1479409200-1479414600@kashima-sports.com
SUMMARY:スポーツ教室
DESCRIPTION:Tweet
URL:http://kashima-sports.com/event-single/%e3%82%b9%e3%83%9d%e3%83%bc%e3%83%84%e6%95%99%e5%ae%a4-128
END:VEVENT
BEGIN:VEVENT
DTSTART;TZID=Asia/Tokyo:20161115T190000
DTEND;TZID=Asia/Tokyo:20161115T210000
DTSTAMP:20260423T235533
CREATED:20160914T040819Z
LAST-MODIFIED:20160914T040819Z
UID:2754-1479236400-1479243600@kashima-sports.com
SUMMARY:テニス教室
DESCRIPTION:Tweet
URL:http://kashima-sports.com/event-single/%e3%83%86%e3%83%8b%e3%82%b9%e6%95%99%e5%ae%a4-9
LOCATION:鹿島体育館
END:VEVENT
BEGIN:VEVENT
DTSTART;TZID=Asia/Tokyo:20161113T060000
DTEND;TZID=Asia/Tokyo:20161113T190000
DTSTAMP:20260423T235533
CREATED:20160914T015647Z
LAST-MODIFIED:20160914T015647Z
UID:2699-1479016800-1479063600@kashima-sports.com
SUMMARY:袋田の滝＆竜神大吊橋ウォーキング
DESCRIPTION:ウォーキング \n                        Tweet
URL:http://kashima-sports.com/event-single/%e8%a2%8b%e7%94%b0%e3%81%ae%e6%bb%9d%ef%bc%86%e7%ab%9c%e7%a5%9e%e5%a4%a7%e5%90%8a%e6%a9%8b%e3%82%a6%e3%82%a9%e3%83%bc%e3%82%ad%e3%83%b3%e3%82%b0
LOCATION:茨城
END:VEVENT
BEGIN:VEVENT
DTSTART;TZID=Asia/Tokyo:20161112T150000
DTEND;TZID=Asia/Tokyo:20161112T170000
DTSTAMP:20260423T235533
CREATED:20160914T041301Z
LAST-MODIFIED:20160914T041301Z
UID:2760-1478962800-1478970000@kashima-sports.com
SUMMARY:ソフトテニス教室
DESCRIPTION:Tweet
URL:http://kashima-sports.com/event-single/%e3%82%bd%e3%83%95%e3%83%88%e3%83%86%e3%83%8b%e3%82%b9%e6%95%99%e5%ae%a4-3
LOCATION:千倉体育館
END:VEVENT
BEGIN:VEVENT
DTSTART;TZID=Asia/Tokyo:20161110T190000
DTEND;TZID=Asia/Tokyo:20161110T203000
DTSTAMP:20260423T235533
CREATED:20160914T042010Z
LAST-MODIFIED:20160914T042010Z
UID:2770-1478804400-1478809800@kashima-sports.com
SUMMARY:スポーツ教室
DESCRIPTION:Tweet
URL:http://kashima-sports.com/event-single/%e3%82%b9%e3%83%9d%e3%83%bc%e3%83%84%e6%95%99%e5%ae%a4-127
LOCATION:千倉体育館
END:VEVENT
BEGIN:VEVENT
DTSTART;TZID=Asia/Tokyo:20161108T190000
DTEND;TZID=Asia/Tokyo:20161108T200000
DTSTAMP:20260423T235533
CREATED:20160914T040708Z
LAST-MODIFIED:20160914T040708Z
UID:2752-1478631600-1478635200@kashima-sports.com
SUMMARY:テニス教室
DESCRIPTION:Tweet
URL:http://kashima-sports.com/event-single/%e3%83%86%e3%83%8b%e3%82%b9%e6%95%99%e5%ae%a4-8
LOCATION:鹿島体育館
END:VEVENT
BEGIN:VEVENT
DTSTART;TZID=Asia/Tokyo:20161107T190000
DTEND;TZID=Asia/Tokyo:20161107T210000
DTSTAMP:20260423T235533
CREATED:20160914T041606Z
LAST-MODIFIED:20160914T041606Z
UID:2764-1478545200-1478552400@kashima-sports.com
SUMMARY:バドミントン教室
DESCRIPTION:Tweet
URL:http://kashima-sports.com/event-single/%e3%83%90%e3%83%89%e3%83%9f%e3%83%b3%e3%83%88%e3%83%b3%e6%95%99%e5%ae%a4-29
LOCATION:鹿島体育館
END:VEVENT
BEGIN:VEVENT
DTSTART;TZID=Asia/Tokyo:20161103T190000
DTEND;TZID=Asia/Tokyo:20161103T203000
DTSTAMP:20260423T235533
CREATED:20160914T041903Z
LAST-MODIFIED:20160914T041903Z
UID:2768-1478199600-1478205000@kashima-sports.com
SUMMARY:スポーツ教室
DESCRIPTION:Tweet
URL:http://kashima-sports.com/event-single/%e3%82%b9%e3%83%9d%e3%83%bc%e3%83%84%e6%95%99%e5%ae%a4-126
LOCATION:千倉体育館
END:VEVENT
BEGIN:VEVENT
DTSTART;TZID=Asia/Tokyo:20161101T190000
DTEND;TZID=Asia/Tokyo:20161101T210000
DTSTAMP:20260423T235533
CREATED:20160914T040617Z
LAST-MODIFIED:20160914T040617Z
UID:2750-1478026800-1478034000@kashima-sports.com
SUMMARY:テニス教室
DESCRIPTION:Tweet
URL:http://kashima-sports.com/event-single/%e3%83%86%e3%83%8b%e3%82%b9%e6%95%99%e5%ae%a4-7
LOCATION:鹿島体育館
END:VEVENT
BEGIN:VEVENT
DTSTART;TZID=Asia/Tokyo:20161029T080000
DTEND;TZID=Asia/Tokyo:20161029T170000
DTSTAMP:20260423T235533
CREATED:20160914T014752Z
LAST-MODIFIED:20160914T014752Z
UID:2697-1477728000-1477760400@kashima-sports.com
SUMMARY:パークゴルフ大会
DESCRIPTION:個人戦 \n                        Tweet
URL:http://kashima-sports.com/event-single/%e3%83%91%e3%83%bc%e3%82%af%e3%82%b4%e3%83%ab%e3%83%95%e5%a4%a7%e4%bc%9a-3
LOCATION:南相馬市パークゴルフ場
END:VEVENT
BEGIN:VEVENT
DTSTART;TZID=Asia/Tokyo:20161028T080000
DTEND;TZID=Asia/Tokyo:20161028T170000
DTSTAMP:20260423T235533
CREATED:20160914T005421Z
LAST-MODIFIED:20160914T005839Z
UID:2685-1477641600-1477674000@kashima-sports.com
SUMMARY:登山
DESCRIPTION:麓山登山 \n                        Tweet
URL:http://kashima-sports.com/event-single/%e7%99%bb%e5%b1%b1
LOCATION:東和
END:VEVENT
BEGIN:VEVENT
DTSTART;TZID=Asia/Tokyo:20161025T190000
DTEND;TZID=Asia/Tokyo:20161025T210000
DTSTAMP:20260423T235533
CREATED:20160914T031056Z
LAST-MODIFIED:20160914T031056Z
UID:2734-1477422000-1477429200@kashima-sports.com
SUMMARY:テニス教室
DESCRIPTION:中学生以上 \n                        Tweet
URL:http://kashima-sports.com/event-single/%e3%83%86%e3%83%8b%e3%82%b9%e6%95%99%e5%ae%a4-4
LOCATION:鹿島体育館
END:VEVENT
BEGIN:VEVENT
DTSTART;TZID=Asia/Tokyo:20161022T150000
DTEND;TZID=Asia/Tokyo:20161022T170000
DTSTAMP:20260423T235533
CREATED:20160914T025901Z
LAST-MODIFIED:20160914T030143Z
UID:2725-1477148400-1477155600@kashima-sports.com
SUMMARY:ソフトテニス教室
DESCRIPTION:Tweet
URL:http://kashima-sports.com/event-single/%e3%81%9d%e3%81%b5%e3%81%a8
LOCATION:千倉体育館
END:VEVENT
BEGIN:VEVENT
DTSTART;TZID=Asia/Tokyo:20161020T190000
DTEND;TZID=Asia/Tokyo:20161020T203000
DTSTAMP:20260423T235533
CREATED:20160914T025538Z
LAST-MODIFIED:20160914T025538Z
UID:2721-1476990000-1476995400@kashima-sports.com
SUMMARY:スポーツ教室
DESCRIPTION:Tweet
URL:http://kashima-sports.com/event-single/%e3%82%b9%e3%83%9d%e3%83%bc%e3%83%84%e6%95%99%e5%ae%a4-123
LOCATION:千倉体育館
END:VEVENT
BEGIN:VEVENT
DTSTART;TZID=Asia/Tokyo:20161018T190000
DTEND;TZID=Asia/Tokyo:20161018T210000
DTSTAMP:20260423T235533
CREATED:20160914T030949Z
LAST-MODIFIED:20160914T030949Z
UID:2732-1476817200-1476824400@kashima-sports.com
SUMMARY:テニス教室
DESCRIPTION:中学生以上 \n  \n                        Tweet
URL:http://kashima-sports.com/event-single/%e3%83%86%e3%83%8b%e3%82%b9%e6%95%99%e5%ae%a4-3
LOCATION:鹿島体育館
END:VEVENT
BEGIN:VEVENT
DTSTART;TZID=Asia/Tokyo:20161017T190000
DTEND;TZID=Asia/Tokyo:20161017T210000
DTSTAMP:20260423T235533
CREATED:20160914T023849Z
LAST-MODIFIED:20160914T023849Z
UID:2714-1476730800-1476738000@kashima-sports.com
SUMMARY:バドミントン教室
DESCRIPTION:Tweet
URL:http://kashima-sports.com/event-single/%e3%83%90%e3%83%89%e3%83%9f%e3%83%b3%e3%83%88%e3%83%b3%e6%95%99%e5%ae%a4-27
END:VEVENT
BEGIN:VEVENT
DTSTART;TZID=Asia/Tokyo:20161016T080000
DTEND;TZID=Asia/Tokyo:20161016T170000
DTSTAMP:20260423T235533
CREATED:20160914T011502Z
LAST-MODIFIED:20160914T011502Z
UID:2687-1476604800-1476637200@kashima-sports.com
SUMMARY:バドミントン大会
DESCRIPTION:第4回NPO法人かしま元気スポーツクラブ杯 \n・シングルス（中学2年生以下）　ダブルス（オープン） \n                        Tweet
URL:http://kashima-sports.com/event-single/%e3%83%90%e3%83%89%e3%83%9f%e3%83%b3%e3%83%88%e3%83%b3%e5%a4%a7%e4%bc%9a-4
LOCATION:鹿島体育館
END:VEVENT
BEGIN:VEVENT
DTSTART;TZID=Asia/Tokyo:20161013T190000
DTEND;TZID=Asia/Tokyo:20161013T202500
DTSTAMP:20260423T235533
CREATED:20160914T024315Z
LAST-MODIFIED:20160914T024315Z
UID:2715-1476385200-1476390300@kashima-sports.com
SUMMARY:スポーツ教室
DESCRIPTION:Tweet
URL:http://kashima-sports.com/event-single/%e3%82%b9%e3%83%9d%e3%83%bc%e3%83%84%e6%95%99%e5%ae%a4-125
LOCATION:千倉体育館
END:VEVENT
BEGIN:VEVENT
DTSTART;TZID=Asia/Tokyo:20161011T190000
DTEND;TZID=Asia/Tokyo:20161011T200000
DTSTAMP:20260423T235533
CREATED:20160914T030827Z
LAST-MODIFIED:20160914T030827Z
UID:2730-1476212400-1476216000@kashima-sports.com
SUMMARY:テニス教室
DESCRIPTION:中学生以上 \n                        Tweet
URL:http://kashima-sports.com/event-single/%e3%83%86%e3%83%8b%e3%82%b9%e6%95%99%e5%ae%a4-2
LOCATION:鹿島体育館
END:VEVENT
BEGIN:VEVENT
DTSTART;TZID=Asia/Tokyo:20161008T150000
DTEND;TZID=Asia/Tokyo:20161008T170000
DTSTAMP:20260423T235533
CREATED:20160914T025832Z
LAST-MODIFIED:20160914T025832Z
UID:2723-1475938800-1475946000@kashima-sports.com
SUMMARY:ソフトテニス教室
DESCRIPTION:Tweet
URL:http://kashima-sports.com/event-single/%e3%82%bd%e3%83%95%e3%83%88%e3%83%86%e3%83%8b%e3%82%b9%e6%95%99%e5%ae%a4
LOCATION:千倉体育館
END:VEVENT
END:VCALENDAR